Shooting information for this photo
| Camera: | Canon EOS-1D X |
| Exposure: | 0.008 sec. (1/125) |
| Aperture: | f/2.8 |
| Focal Length: | 19.0 mm (35 mm equivalent: 19.0 mm) |
| Flash: | Off, Did not fire |
| Exposure mode: | Manual |
| Max Aperture: | 2.8 |
| Resolution: | 240 x 240 dpi |
| Dimension: | 5184 x 3456 pixels |
| Original Date: | 2014:05:01 09:30:04.96 |
| Created on: | 2014:05:01 09:30:04.96 |
| Modified on: | 2014:06:04 18:36:07.96 |
| Software: | Adobe Photoshop CS6 (Windows) |
| Copyright: | Non_pubblicare_senza_autorizzazione_dell'autore |
| Already Applied | True |
| Approximate Focus Distance | 4294967295 |
| Artist | Giancarlo_Amadio |
| Auto Lateral CA | 0 |
| Blacks 2012 | +26 |
| Blue Hue | 0 |
| Blue Saturation | 0 |
| Camera Profile | Adobe Standard |
| Circle Of Confusion | 0.030 mm |
| Clarity 2012 | +30 |
| Color Mode | RGB |
| Color Noise Reduction | 25 |
| Color Noise Reduction Detail | 50 |
| Color Space | Uncalibrated |
| Color Temperature | 3850 |
| Contrast 2012 | -12 |
| Convert To Grayscale | False |
| Creator | Giancarlo_Amadio |
| Custom Rendered | Normal |
| Date Created | 2014:05:01 09:30:04.096 |
| Defringe Green Amount | 0 |
| Defringe Green Hue Hi | 60 |
| Defringe Green Hue Lo | 40 |
| Defringe Purple Amount | 0 |
| Defringe Purple Hue Hi | 70 |
| Defringe Purple Hue Lo | 30 |
| Exposure 2012 | 0.00 |
| Exposure Compensation | 0 |
| Exposure Mode | Manual |
| Field Of View | 86.9 deg |
| Firmware | 1.2.4 |
| Flash Compensation | 0 |
| Format | image/jpeg |
| Grain Amount | 0 |
| Green Hue | 0 |
| Green Saturation | 0 |
| Has Crop | False |
| Has Settings | True |
| Highlights 2012 | -26 |
| Hue Adjustment Aqua | 0 |
| Hue Adjustment Blue | 0 |
| Hue Adjustment Green | 0 |
| Hue Adjustment Magenta | 0 |
| Hue Adjustment Orange | 0 |
| Hue Adjustment Purple | 0 |
| Hue Adjustment Red | 0 |
| Hue Adjustment Yellow | 0 |
| Hyperfocal Distance | 4.29 m |
| ICC Profile Name | Adobe RGB (1998) |
| ISO | 4000 |
| Image Number | 0 |
| Image Size | 5184x3456 |
| Lens | EF16-35mm f/2.8L II USM |
| Lens ID | Canon EF 16-35mm f/2.8L II |
| Lens Info | 16-35mm f/? |
| Lens Manual Distortion Amount | 0 |
| Lens Model | EF16-35mm f/2.8L II USM |
| Lens Profile Chromatic Aberration Scale | 100 |
| Lens Profile Distortion Scale | 100 |
| Lens Profile Enable | 1 |
| Lens Profile Filename | Canon EOS 5D Mark II (Canon EF 16-35mm f2.8 L II USM) - RAW.lcp |
| Lens Profile Name | Adobe (Canon EF 16-35mm f/2.8 L II USM) |
| Lens Profile Setup | LensDefaults |
| Lens Profile Vignetting Scale | 100 |
| Light Value | 4.6 |
| Luminance Adjustment Aqua | 0 |
| Luminance Adjustment Blue | 0 |
| Luminance Adjustment Green | 0 |
| Luminance Adjustment Magenta | 0 |
| Luminance Adjustment Orange | 0 |
| Luminance Adjustment Purple | 0 |
| Luminance Adjustment Red | 0 |
| Luminance Adjustment Yellow | 0 |
| Luminance Smoothing | 0 |
| Metering Mode | Partial |
| Parametric Darks | 0 |
| Parametric Highlight Split | 75 |
| Parametric Highlights | 0 |
| Parametric Lights | 0 |
| Parametric Midtone Split | 50 |
| Parametric Shadow Split | 25 |
| Parametric Shadows | 0 |
| Perspective Horizontal | 0 |
| Perspective Rotate | 0.0 |
| Perspective Scale | 100 |
| Perspective Vertical | 0 |
| Post Crop Vignette Amount | 0 |
| Process Version | 6.7 |
| Rating | 0 |
| Raw File Name | _25P1385.CR2 |
| Recommended Exposure Index | 4000 |
| Red Hue | 0 |
| Red Saturation | 0 |
| Rights | Non_pubblicare_senza_autorizza zione_dell'autore |
| Saturation | 0 |
| Saturation Adjustment Aqua | 0 |
| Saturation Adjustment Blue | 0 |
| Saturation Adjustment Green | 0 |
| Saturation Adjustment Magenta | 0 |
| Saturation Adjustment Orange | 0 |
| Saturation Adjustment Purple | 0 |
| Saturation Adjustment Red | 0 |
| Saturation Adjustment Yellow | 0 |
| Scale Factor To 35 mm Equivalent | 1.0 |
| Scene Capture Type | Standard |
| Sensitivity Type | Recommended Exposure Index |
| Shadow Tint | 0 |
| Shadows 2012 | +73 |
| Sharpen Detail | 25 |
| Sharpen Edge Masking | 0 |
| Sharpen Radius | +1.0 |
| Sharpness | 25 |
| Split Toning Balance | 0 |
| Split Toning Highlight Hue | 0 |
| Split Toning Highlight Saturation | 0 |
| Split Toning Shadow Hue | 0 |
| Split Toning Shadow Saturation | 0 |
| Tint | -4 |
| Tone Curve Name 2012 | Linear |
| Tone Curve PV2012 | 0, 0, 255, 255 |
| Tone Curve PV2012 Blue | 0, 0, 255, 255 |
| Tone Curve PV2012 Green | 0, 0, 255, 255 |
| Tone Curve PV2012 Red | 0, 0, 255, 255 |
| Version | 7.1 |
| Vibrance | 0 |
| Vignette Amount | 0 |
| White Balance | Auto |
| Whites 2012 | +8 |
GPS Information |
| GPS Altitude | 217.1 m Above Sea Level |
| GPS Altitude Ref | Above Sea Level |
| GPS Date Stamp | 2014:05:01 |
| GPS Date/Time | 2014:05:01 08:29:55Z |
| GPS Dest Bearing | 0 |
| GPS Dest Distance | 0 |
| GPS Differential | No Correction |
| GPS Dilution Of Precision | 3.4 |
| GPS Latitude | 45 deg 48' 56.99" N |
| GPS Latitude Ref | North |
| GPS Longitude | 10 deg 4' 18.01" E |
| GPS Longitude Ref | East |
| GPS Map Datum | WGS-84 |
| GPS Measure Mode | 3-Dimensional Measurement |
| GPS Position | 45 deg 48' 56.99" N, 10 deg 4' 18.01" E |
| GPS Satellites | 12 |
| GPS Speed | 0 |
| GPS Status | Measurement Active |
| GPS Time Stamp | 08:29:55 |
| GPS Track | 0 |
| GPS Version ID | 2.3.0.0 |
X