Shooting information for this photo
| Camera: | NIKON CORPORATION NIKON Z 6 |
| Exposure: | 0.002 sec. (1/500) |
| Aperture: | f/8.0 |
| Focal Length: | 44.0 mm (35 mm equivalent: 44.0 mm) |
| Flash: | No Flash |
| Exposure mode: | Aperture-priority AE |
| Resolution: | 300 x 300 dpi |
| Dimension: | 6048 x 4024 pixels |
| Original Date: | 2022:09:09 11:06:21.23 |
| Created on: | 2022:09:09 11:06:21.23 |
| Software: | NIKON Z 6 Ver.03.40 |
| AF Area Mode | Unknown (193) |
| AF Fine Tune | Off |
| AF Fine Tune Adj | 0 |
| AF Fine Tune Index | n/a |
| AF Info 2 Version | 0300 |
| AF Points Used | (none) |
| Active D-Lighting | Off |
| Already Applied | False |
| Auto Distortion Control | On |
| Auto Focus | On |
| Auto Lateral CA | 0 |
| Blacks 2012 | +8 |
| Blue Balance | 1.335938 |
| Blue Hue | 0 |
| Blue Saturation | 0 |
| Brightness | 0 |
| CFA Pattern | [Red,Green][Green,Blue] |
| Camera Profile | Embedded |
| Circle Of Confusion | 0.030 mm |
| Clarity | 0 |
| Clarity 2012 | +79 |
| Color Balance Unknown | 0800K.º.J.T.Õf>ýf.xËY..éR CÜG.î..ÁÄ.é.JqÓe'£b$(¢ sÇ[...] |
| Color Noise Reduction | 0 |
| Color Space | sRGB |
| Contrast | High |
| Contrast 2012 | 0 |
| Contrast Detect AF | Unknown (2) |
| Contrast Detect AF In Focus | No |
| Convert To Grayscale | False |
| Crop Hi Speed | On (6064x4040 cropped to 6064x4040 at pixel 0,0) |
| Custom Rendered | Custom |
| Defringe | 0 |
| Exposure | 0.00 |
| Exposure 2012 | 0.00 |
| Exposure Bracket Value | 0 |
| Exposure Compensation | 0 |
| Exposure Difference | 0 |
| Exposure Mode | Auto |
| Exposure Tuning | 0 |
| External Flash Exposure Comp | 0 |
| Field Of View | 44.5 deg |
| Fill Light | 0 |
| Filter Effect | n/a |
| Flash Exposure Bracket Value | 0.0 |
| Flash Info Version | 0108 |
| Flash Mode | Did Not Fire |
| Focal Length In 35mm Format | 44 mm |
| Focus Mode | AF-S |
| Format | image/jpeg |
| Gain Control | None |
| Grain Amount | 0 |
| Green Hue | 0 |
| Green Saturation | 0 |
| Has Crop | False |
| Has Settings | True |
| High ISO Noise Reduction | Off |
| Highlight Recovery | 0 |
| Highlights 2012 | 0 |
| Hue Adjustment | User |
| Hue Adjustment Aqua | 0 |
| Hue Adjustment Blue | 0 |
| Hue Adjustment Green | 0 |
| Hue Adjustment Magenta | 0 |
| Hue Adjustment Orange | 0 |
| Hue Adjustment Purple | 0 |
| Hue Adjustment Red | 0 |
| Hue Adjustment Yellow | 0 |
| Hyperfocal Distance | 8.05 m |
| ISO | 100 |
| ISO2 | 100 |
| ISO Expansion | Off |
| ISO Expansion 2 | Off |
| Image Boundary | 0 0 6048 4024 |
| Image Data Size | 13824081 |
| Image Number | 2167 |
| Image Size | 6048x4024 |
| Incremental Temperature | 0 |
| Incremental Tint | 0 |
| Lens | 24-120mm f/4 AF |
| Lens Data Version | 0801 |
| Lens F Stops | 5.00 |
| Lens Info | 24-120mm f/4 |
| Lens Make | NIKON |
| Lens Manual Distortion Amount | 0 |
| Lens Model | NIKKOR Z 24-120mm f/4 S |
| Lens Profile Enable | 0 |
| Lens Profile Setup | LensDefaults |
| Lens Type | AF |
| Light Source | Fine Weather |
| Light Value | 15.0 |
| Luminance Adjustment Aqua | 0 |
| Luminance Adjustment Blue | 0 |
| Luminance Adjustment Green | 0 |
| Luminance Adjustment Magenta | 0 |
| Luminance Adjustment Orange | 0 |
| Luminance Adjustment Purple | 0 |
| Luminance Adjustment Red | 0 |
| Luminance Adjustment Yellow | 0 |
| Luminance Smoothing | 0 |
| Maker Note Version | 2.11 |
| Metering Mode | Multi-segment |
| Noise Reduction | Off |
| Parametric Darks | 0 |
| Parametric Highlight Split | 75 |
| Parametric Highlights | 0 |
| Parametric Lights | 0 |
| Parametric Midtone Split | 50 |
| Parametric Shadow Split | 25 |
| Parametric Shadows | 0 |
| Perspective Horizontal | 0 |
| Perspective Rotate | 0.0 |
| Perspective Scale | 100 |
| Perspective Vertical | 0 |
| Phase Detect AF | Off |
| Picture Control Adjust | Unknown (195) |
| Picture Control Name | 0300VIVID |
| Picture Control Quick Adjust | Auto |
| Picture Control Version | 0300 |
| Post Crop Vignette Amount | 0 |
| Primary AF Point | C6 (Center) |
| Process Version | 6.7 |
| Program Shift | 0 |
| Quality | Fine |
| Rating | 0 |
| Raw File Name | DSC_2192.JPG |
| Recommended Exposure Index | 100 |
| Red Balance | 1.726563 |
| Red Hue | 0 |
| Red Saturation | 0 |
| Saturation | High |
| Saturation Adjustment Aqua | 0 |
| Saturation Adjustment Blue | 0 |
| Saturation Adjustment Green | 0 |
| Saturation Adjustment Magenta | 0 |
| Saturation Adjustment Orange | 0 |
| Saturation Adjustment Purple | 0 |
| Saturation Adjustment Red | 0 |
| Saturation Adjustment Yellow | 0 |
| Scale Factor To 35 mm Equivalent | 1.0 |
| Scene Capture Type | Standard |
| Scene Type | Directly photographed |
| Sensing Method | One-chip color area |
| Sensitivity Type | Recommended Exposure Index |
| Shadow Tint | 0 |
| Shadows | 0 |
| Shadows 2012 | +100 |
| Sharpen Detail | 25 |
| Sharpen Edge Masking | 0 |
| Sharpen Radius | +1.0 |
| Sharpness | Hard |
| Shooting Mode | Single-Frame, Auto ISO |
| Shot Info Version | 0800 |
| Shutter Count | 2167 |
| Split Toning Balance | 0 |
| Split Toning Highlight Hue | 0 |
| Split Toning Highlight Saturation | 0 |
| Split Toning Shadow Hue | 0 |
| Split Toning Shadow Saturation | 0 |
| Subject Distance Range | Unknown |
| Tone Curve | 0, 0, 255, 255 |
| Tone Curve Blue | 0, 0, 255, 255 |
| Tone Curve Green | 0, 0, 255, 255 |
| Tone Curve Name | Linear |
| Tone Curve Name 2012 | Linear |
| Tone Curve PV2012 | 0, 0, 255, 255 |
| Tone Curve PV2012 Blue | 0, 0, 255, 255 |
| Tone Curve PV2012 Green | 0, 0, 255, 255 |
| Tone Curve PV2012 Red | 0, 0, 255, 255 |
| Tone Curve Red | 0, 0, 255, 255 |
| Toning Effect | Unknown (0xa) |
| Toning Saturation | 28 |
| VR Info Version | 0200 |
| Version | 7.0 |
| Vibrance | 0 |
| Vibration Reduction | On |
| Vignette Amount | 0 |
| Vignette Control | Off |
| WB RB Levels | 1.7265625 1.3359375 1 1 |
| White Balance | Sunny |
| White Balance Fine Tune | 0 0 |
| Whites 2012 | 0 |
GPS Information |
| GPS Version ID | 2.3.0.0 |
X