Shooting information for this photo
Camera: | NIKON CORPORATION NIKON Df |
Exposure: | 0.03333 sec. (1/30) |
Aperture: | f/4.0 |
Focal Length: | 50.0 mm (35 mm equivalent: 50.0 mm) |
Flash: | No Flash |
Exposure mode: | Manual |
Max Aperture: | 1.4 |
Resolution: | 240 x 240 dpi |
Original Date: | 2014:11:08 15:41:25.60 |
Created on: | 2014:11:08 15:41:25.60 |
Modified on: | 2014:11:08 18:07:34 |
Software: | Adobe Photoshop Lightroom 4.4 (Macintosh) |
Already Applied | True |
Approximate Focus Distance | 1.5 |
Auto Lateral CA | 0 |
Blacks 2012 | -4 |
Blue Hue | 0 |
Blue Saturation | 0 |
CFA Pattern | [Red,Green][Green,Blue] |
Camera Profile | Adobe Standard |
Circle Of Confusion | 0.030 mm |
Clarity 2012 | +18 |
Color Noise Reduction | 25 |
Color Noise Reduction Detail | 50 |
Color Temperature | 4100 |
Contrast | Normal |
Contrast 2012 | +18 |
Convert To Grayscale | True |
Crop Angle | 1.05 |
Crop Bottom | 1 |
Crop Constrain To Warp | 0 |
Crop Height | 2568 |
Crop Left | 0.17448 |
Crop Right | 0.947788 |
Crop Top | 0.195584 |
Crop Unit | pixels |
Crop Width | 3859 |
Custom Rendered | Custom |
Date Created | 2014:11:08 15:41:25.60 |
Digital Zoom Ratio | 1 |
Exposure 2012 | -0.20 |
Exposure Compensation | 0 |
Exposure Mode | Manual |
Field Of View | 39.6 deg |
Focal Length In 35mm Format | 50 mm |
Format | image/jpeg |
Gain Control | None |
Grain Amount | 0 |
Gray Mixer Aqua | -10 |
Gray Mixer Blue | +20 |
Gray Mixer Green | -17 |
Gray Mixer Magenta | +32 |
Gray Mixer Orange | +12 |
Gray Mixer Purple | +25 |
Gray Mixer Red | +39 |
Gray Mixer Yellow | -9 |
Green Hue | 0 |
Green Saturation | 0 |
Has Crop | True |
Has Settings | True |
Highlights 2012 | +9 |
Hyperfocal Distance | 20.80 m |
ISO | 100 |
Image Number | 9000 |
Image Size | 3859x2568 |
Lens | 50.0 mm f/1.4 |
Lens ID | AF Nikkor 50mm f/1.4D |
Lens Info | 50mm f/1.4 |
Lens Manual Distortion Amount | 0 |
Lens Model | 50.0 mm f/1.4 |
Lens Profile Enable | 0 |
Lens Profile Setup | LensDefaults |
Light Source | Unknown |
Light Value | 8.9 |
Luminance Smoothing | 0 |
Metering Mode | Center-weighted average |
Parametric Darks | -3 |
Parametric Highlight Split | 75 |
Parametric Highlights | 0 |
Parametric Lights | +4 |
Parametric Midtone Split | 50 |
Parametric Shadow Split | 25 |
Parametric Shadows | 0 |
Perspective Horizontal | 0 |
Perspective Rotate | 0.0 |
Perspective Scale | 100 |
Perspective Vertical | 0 |
Post Crop Vignette Amount | 0 |
Process Version | 6.7 |
Red Hue | 0 |
Red Saturation | 0 |
Saturation | Normal |
Scale Factor To 35 mm Equivalent | 1.0 |
Scene Capture Type | Standard |
Scene Type | Directly photographed |
Sensing Method | One-chip color area |
Sensitivity Type | Recommended Exposure Index |
Shadow Tint | 0 |
Shadows 2012 | +7 |
Sharpen Detail | 25 |
Sharpen Edge Masking | 0 |
Sharpen Radius | +1.0 |
Sharpness | Hard |
Split Toning Balance | 0 |
Split Toning Highlight Hue | 51 |
Split Toning Highlight Saturation | 22 |
Split Toning Shadow Hue | 37 |
Split Toning Shadow Saturation | 32 |
Subject Distance Range | Unknown |
Tint | +10 |
Tone Curve Name 2012 | Medium Contrast |
Tone Curve PV2012 | 0, 0, 32, 22, 64, 56, 128, 128, 192, 196, 255, 255 |
Tone Curve PV2012 Blue | 0, 0, 255, 255 |
Tone Curve PV2012 Green | 0, 0, 255, 255 |
Tone Curve PV2012 Red | 0, 0, 255, 255 |
Version | 7.4 |
Vignette Amount | 0 |
White Balance | Auto |
Whites 2012 | -29 |