Shooting information for this photo
| Camera: | NIKON COOLPIX S7000 |
| Exposure: | 0.03333 sec. (1/30) |
| Aperture: | f/3.4 |
| Focal Length: | 4.5 mm (35 mm equivalent: 25.0 mm) |
| Flash: | Auto, Did not fire |
| Exposure mode: | Program AE |
| Max Aperture: | 3.4 |
| Resolution: | 240 x 240 dpi |
| Original Date: | 2018:12:01 12:28:18 |
| Created on: | 2018:12:01 12:28:18 |
| Modified on: | 2019:03:18 01:36:49 |
| Software: | Adobe Photoshop Lightroom 4.4 (Windows) |
| Already Applied | True |
| Auto Lateral CA | 0 |
| Blacks 2012 | +6 |
| Blue Hue | 0 |
| Blue Saturation | 0 |
| Camera Profile | Embedded |
| Circle Of Confusion | 0.005 mm |
| Clarity 2012 | +10 |
| Color Noise Reduction | 0 |
| Contrast | Normal |
| Contrast 2012 | +15 |
| Convert To Grayscale | False |
| Crop Angle | 0 |
| Crop Bottom | 0.889328 |
| Crop Constrain To Warp | 0 |
| Crop Height | 2462 |
| Crop Left | 0.032593 |
| Crop Right | 0.816296 |
| Crop Top | 0.059288 |
| Crop Unit | pixels |
| Crop Width | 3100 |
| Custom Rendered | Normal |
| Date Created | 2018:12:01 12:28:18 |
| Defringe Green Amount | 0 |
| Defringe Green Hue Hi | 60 |
| Defringe Green Hue Lo | 40 |
| Defringe Purple Amount | 0 |
| Defringe Purple Hue Hi | 70 |
| Defringe Purple Hue Lo | 30 |
| Description | One thing I could not figure out was the age of the walls and stairs as I walked down to the river. These look to be related to the Castle that was part of the Castle Keep and Black Gate of the 1200’s or earlier, but I didn’t see any documentation. If I’d had time to visit longer, I might have found material about this...(Part of a documentation of 2018 exploration/reflection on Brexit and populist movements in Europe, keyword Europe2018) |
| Digital Zoom Ratio | 1 |
| Exposure 2012 | -0.55 |
| Exposure Compensation | -0.3 |
| Exposure Mode | Auto |
| Field Of View | 71.5 deg |
| Focal Length In 35mm Format | 25 mm |
| Format | image/jpeg |
| Gain Control | None |
| Grain Amount | 0 |
| Green Hue | 0 |
| Green Saturation | 0 |
| Has Crop | True |
| Has Settings | True |
| Highlights 2012 | 0 |
| Hue Adjustment Aqua | 0 |
| Hue Adjustment Blue | 0 |
| Hue Adjustment Green | 0 |
| Hue Adjustment Magenta | 0 |
| Hue Adjustment Orange | 0 |
| Hue Adjustment Purple | 0 |
| Hue Adjustment Red | 0 |
| Hue Adjustment Yellow | 0 |
| Hyperfocal Distance | 1.10 m |
| ISO | 220 |
| Image Description | One thing I could not figure out was the age of the walls and stairs as I walked down to the river. These look to be related to the Castle that was part of the Castle Keep and Black Gate of the 1200’s or earlier, but I didn’t see any documentation. If I’d had time to visit longer, I might have found material about this...(Part of a documentation of 2018 exploration/reflection on Brexit and populist movements in Europe, keyword Europe2018) |
| Image Size | 2462x3100 |
| Incremental Temperature | 0 |
| Incremental Tint | 0 |
| Lens Manual Distortion Amount | 0 |
| Lens Profile Enable | 0 |
| Lens Profile Setup | LensDefaults |
| Light Source | Unknown |
| Light Value | 7.3 |
| Luminance Adjustment Aqua | 0 |
| Luminance Adjustment Blue | 0 |
| Luminance Adjustment Green | 0 |
| Luminance Adjustment Magenta | 0 |
| Luminance Adjustment Orange | 0 |
| Luminance Adjustment Purple | 0 |
| Luminance Adjustment Red | 0 |
| Luminance Adjustment Yellow | 0 |
| Luminance Smoothing | 0 |
| Metering Mode | Multi-segment |
| Parametric Darks | 0 |
| Parametric Highlight Split | 75 |
| Parametric Highlights | 0 |
| Parametric Lights | 0 |
| Parametric Midtone Split | 50 |
| Parametric Shadow Split | 25 |
| Parametric Shadows | 0 |
| Perspective Horizontal | 0 |
| Perspective Rotate | 0.0 |
| Perspective Scale | 100 |
| Perspective Vertical | 0 |
| Post Crop Vignette Amount | 0 |
| Process Version | 6.7 |
| Rating | 1 |
| Red Hue | 0 |
| Red Saturation | 0 |
| Saturation | Normal |
| Saturation Adjustment Aqua | 0 |
| Saturation Adjustment Blue | 0 |
| Saturation Adjustment Green | 0 |
| Saturation Adjustment Magenta | 0 |
| Saturation Adjustment Orange | 0 |
| Saturation Adjustment Purple | 0 |
| Saturation Adjustment Red | 0 |
| Saturation Adjustment Yellow | 0 |
| Scale Factor To 35 mm Equivalent | 5.6 |
| Scene Capture Type | Standard |
| Scene Type | Directly photographed |
| Sensitivity Type | Standard Output Sensitivity |
| Shadow Tint | 0 |
| Shadows 2012 | -20 |
| Sharpen Detail | 25 |
| Sharpen Edge Masking | 0 |
| Sharpen Radius | +1.0 |
| Sharpness | Normal |
| Split Toning Balance | 0 |
| Split Toning Highlight Hue | 0 |
| Split Toning Highlight Saturation | 0 |
| Split Toning Shadow Hue | 0 |
| Split Toning Shadow Saturation | 0 |
| Subject | Europe2018, Newcastle, United Kingdom |
| Subject Distance Range | Unknown |
| Title | Newcastle castle walls? (#1190). |
| Tone Curve Name 2012 | Linear |
| Tone Curve PV2012 | 0, 0, 255, 255 |
| Tone Curve PV2012 Blue | 0, 0, 255, 255 |
| Tone Curve PV2012 Green | 0, 0, 255, 255 |
| Tone Curve PV2012 Red | 0, 0, 255, 255 |
| Version | 7.4 |
| Vibrance | +5 |
| Vignette Amount | 0 |
| White Balance | Auto |
| Whites 2012 | -15 |
GPS Information |
| GPS Date Stamp | 2018:12:01 |
| GPS Date/Time | 2018:12:01 12:28:18Z |
| GPS Latitude | 54 deg 58' 5.72" N |
| GPS Latitude Ref | North |
| GPS Longitude | 1 deg 36' 35.18" W |
| GPS Longitude Ref | West |
| GPS Map Datum | WGS-84 |
| GPS Position | 54 deg 58' 5.72" N, 1 deg 36' 35.18" W |
| GPS Time Stamp | 12:28:18 |
| GPS Version ID | 2.2.0.0 |
X