Shooting information for this photo
| Camera: | NIKON CORPORATION NIKON D3100 |
| Exposure: | 0.00156 sec. (1/640) |
| Aperture: | f/6.3 |
| Focal Length: | 62.0 mm (35 mm equivalent: 93.0 mm) |
| Flash: | No Flash |
| Exposure mode: | Program AE |
| Max Aperture: | 4.1 |
| Resolution: | 240 x 240 dpi |
| Original Date: | 2018:02:04 11:42:58.60 |
| Created on: | 2018:02:04 11:42:58.60 |
| Modified on: | 2018:02:05 01:43:10 |
| Software: | Adobe Photoshop Lightroom 4.4 (Windows) |
| Already Applied | True |
| Approximate Focus Distance | 4294967295 |
| Auto Lateral CA | 0 |
| Blacks 2012 | -26 |
| Blue Hue | 0 |
| Blue Saturation | 0 |
| CFA Pattern | [Green,Blue][Red,Green] |
| Camera Profile | Adobe Standard |
| Circle Of Confusion | 0.020 mm |
| Clarity 2012 | 0 |
| Color Noise Reduction | 25 |
| Color Noise Reduction Detail | 50 |
| Color Space | sRGB |
| Color Temperature | 4750 |
| Contrast | Normal |
| Contrast 2012 | -11 |
| Convert To Grayscale | False |
| Crop Angle | 0 |
| Crop Bottom | 0.774815 |
| Crop Constrain To Warp | 0 |
| Crop Height | 1873 |
| Crop Left | 0.047384 |
| Crop Right | 0.765054 |
| Crop Top | 0.124444 |
| Crop Unit | pixels |
| Crop Width | 3100 |
| Custom Rendered | Normal |
| Date Created | 2018:02:04 11:42:58.60 |
| Defringe Green Amount | 0 |
| Defringe Green Hue Hi | 60 |
| Defringe Green Hue Lo | 40 |
| Defringe Purple Amount | 0 |
| Defringe Purple Hue Hi | 70 |
| Defringe Purple Hue Lo | 30 |
| Description | Along Box Canyon Road in the Mecca Hills east of Palm Springs ..Across the middle of the picture in the distance is the northern end of the Salton Sea. |
| Digital Zoom Ratio | 1 |
| Exposure 2012 | +0.10 |
| Exposure Compensation | 0 |
| Exposure Mode | Auto |
| Field Of View | 21.9 deg |
| Focal Length In 35mm Format | 93 mm |
| Format | image/jpeg |
| Gain Control | None |
| Grain Amount | 0 |
| Green Hue | 0 |
| Green Saturation | 0 |
| Has Crop | True |
| Has Settings | True |
| Highlights 2012 | 0 |
| Hue Adjustment Aqua | 0 |
| Hue Adjustment Blue | 0 |
| Hue Adjustment Green | 0 |
| Hue Adjustment Magenta | 0 |
| Hue Adjustment Orange | 0 |
| Hue Adjustment Purple | 0 |
| Hue Adjustment Red | 0 |
| Hue Adjustment Yellow | 0 |
| Hyperfocal Distance | 30.46 m |
| ISO | 100 |
| Image Description | Along Box Canyon Road in the Mecca Hills east of Palm Springs ..Across the middle of the picture in the distance is the northern end of the Salton Sea. |
| Image Number | 13223 |
| Image Size | 3100x1873 |
| Lens | 55.0-200.0 mm f/4.0-5.6 |
| Lens ID | AF-S DX VR Zoom-Nikkor 55-200mm f/4-5.6G IF-ED |
| Lens Info | 55-200mm f/4-5.6 |
| Lens Manual Distortion Amount | 0 |
| Lens Model | 55.0-200.0 mm f/4.0-5.6 |
| Lens Profile Enable | 0 |
| Lens Profile Setup | LensDefaults |
| Light Source | Unknown |
| Light Value | 14.6 |
| Luminance Adjustment Aqua | 0 |
| Luminance Adjustment Blue | 0 |
| Luminance Adjustment Green | 0 |
| Luminance Adjustment Magenta | 0 |
| Luminance Adjustment Orange | 0 |
| Luminance Adjustment Purple | 0 |
| Luminance Adjustment Red | 0 |
| Luminance Adjustment Yellow | 0 |
| Luminance Smoothing | 0 |
| Metering Mode | Center-weighted average |
| Parametric Darks | 0 |
| Parametric Highlight Split | 75 |
| Parametric Highlights | 0 |
| Parametric Lights | 0 |
| Parametric Midtone Split | 50 |
| Parametric Shadow Split | 25 |
| Parametric Shadows | 0 |
| Perspective Horizontal | 0 |
| Perspective Rotate | 0.0 |
| Perspective Scale | 100 |
| Perspective Vertical | 0 |
| Post Crop Vignette Amount | 0 |
| Process Version | 6.7 |
| Red Hue | 0 |
| Red Saturation | 0 |
| Saturation | Normal |
| Saturation Adjustment Aqua | 0 |
| Saturation Adjustment Blue | 0 |
| Saturation Adjustment Green | 0 |
| Saturation Adjustment Magenta | 0 |
| Saturation Adjustment Orange | 0 |
| Saturation Adjustment Purple | 0 |
| Saturation Adjustment Red | 0 |
| Saturation Adjustment Yellow | 0 |
| Scale Factor To 35 mm Equivalent | 1.5 |
| Scene Capture Type | Standard |
| Scene Type | Directly photographed |
| Sensing Method | One-chip color area |
| Shadow Tint | 0 |
| Shadows 2012 | 0 |
| Sharpen Detail | 25 |
| Sharpen Edge Masking | 0 |
| Sharpen Radius | +1.0 |
| Sharpness | Normal |
| Split Toning Balance | 0 |
| Split Toning Highlight Hue | 0 |
| Split Toning Highlight Saturation | 0 |
| Split Toning Shadow Hue | 0 |
| Split Toning Shadow Saturation | 0 |
| Subject | BLM, California, Salton Sea, desert |
| Subject Distance Range | Unknown |
| Tint | +3 |
| Title | Mecca Hills CA (#0024) |
| Tone Curve Name 2012 | Linear |
| Tone Curve PV2012 | 0, 0, 255, 255 |
| Tone Curve PV2012 Blue | 0, 0, 255, 255 |
| Tone Curve PV2012 Green | 0, 0, 255, 255 |
| Tone Curve PV2012 Red | 0, 0, 255, 255 |
| Version | 7.4 |
| Vibrance | 0 |
| Vignette Amount | 0 |
| White Balance | Auto |
| Whites 2012 | +19 |
X