Shooting information for this photo
| Camera: | NIKON CORPORATION NIKON D3100 |
| Exposure: | 0.00313 sec. (1/320) |
| Aperture: | f/9.0 |
| Focal Length: | 55.0 mm (35 mm equivalent: 82.0 mm) |
| Flash: | No Flash |
| Exposure mode: | Program AE |
| Max Aperture: | 4.0 |
| Resolution: | 240 x 240 dpi |
| Original Date: | 2017:06:25 10:17:17.00 |
| Created on: | 2017:06:25 10:17:17.00 |
| Modified on: | 2017:08:10 21:49:47 |
| Software: | Adobe Photoshop Lightroom 4.4 (Windows) |
| Already Applied | True |
| Approximate Focus Distance | 4294967295 |
| Auto Lateral CA | 0 |
| Blacks 2012 | -40 |
| Blue Hue | 0 |
| Blue Saturation | 0 |
| CFA Pattern | [Green,Blue][Red,Green] |
| Camera Profile | Adobe Standard |
| Circle Of Confusion | 0.020 mm |
| Clarity 2012 | 0 |
| Color Noise Reduction | 25 |
| Color Noise Reduction Detail | 50 |
| Color Space | sRGB |
| Color Temperature | 5150 |
| Contrast | Normal |
| Contrast 2012 | +5 |
| Convert To Grayscale | False |
| Crop Angle | 0 |
| Crop Bottom | 0.844575 |
| Crop Constrain To Warp | 0 |
| Crop Height | 1874 |
| Crop Left | 0.013685 |
| Crop Right | 0.945259 |
| Crop Top | 0 |
| Crop Unit | pixels |
| Crop Width | 3100 |
| Custom Rendered | Normal |
| Date Created | 2017:06:25 10:17:17.00 |
| Defringe Green Amount | 0 |
| Defringe Green Hue Hi | 60 |
| Defringe Green Hue Lo | 40 |
| Defringe Purple Amount | 0 |
| Defringe Purple Hue Hi | 70 |
| Defringe Purple Hue Lo | 30 |
| Description | There's actuall several humans in this picture, along the crest of the dunes. |
| Digital Zoom Ratio | 1 |
| Exposure 2012 | +0.15 |
| Exposure Compensation | 0 |
| Exposure Mode | Auto |
| Field Of View | 24.8 deg |
| Focal Length In 35mm Format | 82 mm |
| Format | image/jpeg |
| Gain Control | None |
| Grain Amount | 0 |
| Green Hue | 0 |
| Green Saturation | 0 |
| Has Crop | True |
| Has Settings | True |
| Highlights 2012 | 0 |
| Hue Adjustment Aqua | 0 |
| Hue Adjustment Blue | 0 |
| Hue Adjustment Green | 0 |
| Hue Adjustment Magenta | 0 |
| Hue Adjustment Orange | 0 |
| Hue Adjustment Purple | 0 |
| Hue Adjustment Red | 0 |
| Hue Adjustment Yellow | 0 |
| Hyperfocal Distance | 16.68 m |
| ISO | 100 |
| Image Description | There's actuall several humans in this picture, along the crest of the dunes. |
| Image Number | 12346 |
| Image Size | 3100x1874 |
| Lens | 55.0-200.0 mm f/4.0-5.6 |
| Lens ID | AF-S DX VR Zoom-Nikkor 55-200mm f/4-5.6G IF-ED |
| Lens Info | 55-200mm f/4-5.6 |
| Lens Manual Distortion Amount | 0 |
| Lens Model | 55.0-200.0 mm f/4.0-5.6 |
| Lens Profile Enable | 0 |
| Lens Profile Setup | LensDefaults |
| Light Source | Unknown |
| Light Value | 14.7 |
| Luminance Adjustment Aqua | 0 |
| Luminance Adjustment Blue | 0 |
| Luminance Adjustment Green | 0 |
| Luminance Adjustment Magenta | 0 |
| Luminance Adjustment Orange | 0 |
| Luminance Adjustment Purple | 0 |
| Luminance Adjustment Red | 0 |
| Luminance Adjustment Yellow | 0 |
| Luminance Smoothing | 0 |
| Metering Mode | Center-weighted average |
| Parametric Darks | 0 |
| Parametric Highlight Split | 75 |
| Parametric Highlights | 0 |
| Parametric Lights | 0 |
| Parametric Midtone Split | 50 |
| Parametric Shadow Split | 25 |
| Parametric Shadows | 0 |
| Perspective Horizontal | 0 |
| Perspective Rotate | 0.0 |
| Perspective Scale | 100 |
| Perspective Vertical | 0 |
| Post Crop Vignette Amount | 0 |
| Process Version | 6.7 |
| Rating | 1 |
| Red Hue | 0 |
| Red Saturation | 0 |
| Saturation | Normal |
| Saturation Adjustment Aqua | 0 |
| Saturation Adjustment Blue | 0 |
| Saturation Adjustment Green | 0 |
| Saturation Adjustment Magenta | 0 |
| Saturation Adjustment Orange | 0 |
| Saturation Adjustment Purple | 0 |
| Saturation Adjustment Red | 0 |
| Saturation Adjustment Yellow | 0 |
| Scale Factor To 35 mm Equivalent | 1.5 |
| Scene Capture Type | Standard |
| Scene Type | Directly photographed |
| Sensing Method | One-chip color area |
| Shadow Tint | 0 |
| Shadows 2012 | 0 |
| Sharpen Detail | 25 |
| Sharpen Edge Masking | 0 |
| Sharpen Radius | +1.0 |
| Sharpness | Normal |
| Split Toning Balance | 0 |
| Split Toning Highlight Hue | 0 |
| Split Toning Highlight Saturation | 0 |
| Split Toning Shadow Hue | 0 |
| Split Toning Shadow Saturation | 0 |
| Subject | AZNMCO0617, Colorado, Great Sand Dunes National Park, National Park Service |
| Subject Distance Range | Unknown |
| Tint | +1 |
| Title | Great Sand Dunes NP (# 0170) |
| Tone Curve Name 2012 | Linear |
| Tone Curve PV2012 | 0, 0, 255, 255 |
| Tone Curve PV2012 Blue | 0, 0, 255, 255 |
| Tone Curve PV2012 Green | 0, 0, 255, 255 |
| Tone Curve PV2012 Red | 0, 0, 255, 255 |
| Version | 7.4 |
| Vibrance | 0 |
| Vignette Amount | 0 |
| White Balance | Auto |
| Whites 2012 | +31 |
GPS Information |
| GPS Latitude | 37 deg 44' 40.70" N |
| GPS Latitude Ref | North |
| GPS Longitude | 105 deg 30' 24.61" W |
| GPS Longitude Ref | West |
| GPS Position | 37 deg 44' 40.70" N, 105 deg 30' 24.61" W |
| GPS Version ID | 2.2.0.0 |
X