Shooting information for this photo
| Camera: | NIKON COOLPIX S7000 |
| Exposure: | 0.00125 sec. (1/800) |
| Aperture: | f/5.1 |
| Focal Length: | 25.0 mm (35 mm equivalent: 140.0 mm) |
| Flash: | Auto, Did not fire |
| Exposure mode: | Program AE |
| Max Aperture: | 3.4 |
| Resolution: | 240 x 240 dpi |
| Original Date: | 2017:02:22 15:24:30 |
| Created on: | 2017:02:22 15:24:30 |
| Modified on: | 2017:03:04 22:18:20 |
| Software: | Adobe Photoshop Lightroom 4.4 (Windows) |
| Already Applied | True |
| Auto Lateral CA | 0 |
| Blacks 2012 | +1 |
| Blue Hue | 0 |
| Blue Saturation | 0 |
| Camera Profile | Embedded |
| Circle Of Confusion | 0.005 mm |
| Clarity 2012 | 0 |
| Color Noise Reduction | 0 |
| Contrast | Normal |
| Contrast 2012 | -5 |
| Convert To Grayscale | False |
| Crop Angle | 0 |
| Crop Bottom | 0.808642 |
| Crop Constrain To Warp | 0 |
| Crop Height | 2101 |
| Crop Left | 0.115741 |
| Crop Right | 0.828704 |
| Crop Top | 0.200617 |
| Crop Unit | pixels |
| Crop Width | 3285 |
| Custom Rendered | Normal |
| Date Created | 2017:02:22 15:24:30 |
| Defringe Green Amount | 0 |
| Defringe Green Hue Hi | 60 |
| Defringe Green Hue Lo | 40 |
| Defringe Purple Amount | 0 |
| Defringe Purple Hue Hi | 70 |
| Defringe Purple Hue Lo | 30 |
| Description | Insignia for the Arts District; the structure in the background is the 4th street bridge. |
| Digital Zoom Ratio | 1 |
| Exposure 2012 | -0.40 |
| Exposure Compensation | -0.3 |
| Exposure Mode | Auto |
| Field Of View | 14.7 deg |
| Focal Length In 35mm Format | 140 mm |
| Format | image/jpeg |
| Gain Control | None |
| Grain Amount | 0 |
| Green Hue | 0 |
| Green Saturation | 0 |
| Has Crop | True |
| Has Settings | True |
| Highlights 2012 | -26 |
| Hue Adjustment Aqua | 0 |
| Hue Adjustment Blue | 0 |
| Hue Adjustment Green | 0 |
| Hue Adjustment Magenta | 0 |
| Hue Adjustment Orange | 0 |
| Hue Adjustment Purple | 0 |
| Hue Adjustment Red | 0 |
| Hue Adjustment Yellow | 0 |
| Hyperfocal Distance | 22.84 m |
| ISO | 125 |
| Image Description | Insignia for the Arts District; the structure in the background is the 4th street bridge. |
| Image Size | 3285x2101 |
| Incremental Temperature | 0 |
| Incremental Tint | 0 |
| Lens Manual Distortion Amount | 0 |
| Lens Profile Enable | 0 |
| Lens Profile Setup | LensDefaults |
| Light Source | Unknown |
| Light Value | 14.0 |
| Luminance Adjustment Aqua | 0 |
| Luminance Adjustment Blue | 0 |
| Luminance Adjustment Green | 0 |
| Luminance Adjustment Magenta | 0 |
| Luminance Adjustment Orange | 0 |
| Luminance Adjustment Purple | 0 |
| Luminance Adjustment Red | 0 |
| Luminance Adjustment Yellow | 0 |
| Luminance Smoothing | 0 |
| Metering Mode | Multi-segment |
| Parametric Darks | 0 |
| Parametric Highlight Split | 75 |
| Parametric Highlights | 0 |
| Parametric Lights | 0 |
| Parametric Midtone Split | 50 |
| Parametric Shadow Split | 25 |
| Parametric Shadows | 0 |
| Perspective Horizontal | 0 |
| Perspective Rotate | 0.0 |
| Perspective Scale | 100 |
| Perspective Vertical | 0 |
| Post Crop Vignette Amount | 0 |
| Process Version | 6.7 |
| Red Hue | 0 |
| Red Saturation | 0 |
| Saturation | Normal |
| Saturation Adjustment Aqua | 0 |
| Saturation Adjustment Blue | 0 |
| Saturation Adjustment Green | 0 |
| Saturation Adjustment Magenta | 0 |
| Saturation Adjustment Orange | 0 |
| Saturation Adjustment Purple | 0 |
| Saturation Adjustment Red | 0 |
| Saturation Adjustment Yellow | 0 |
| Scale Factor To 35 mm Equivalent | 5.6 |
| Scene Capture Type | Standard |
| Scene Type | Directly photographed |
| Sensitivity Type | Standard Output Sensitivity |
| Shadow Tint | 0 |
| Shadows 2012 | +26 |
| Sharpen Detail | 25 |
| Sharpen Edge Masking | 0 |
| Sharpen Radius | +1.0 |
| Sharpness | Normal |
| Split Toning Balance | 0 |
| Split Toning Highlight Hue | 0 |
| Split Toning Highlight Saturation | 0 |
| Split Toning Shadow Hue | 0 |
| Split Toning Shadow Saturation | 0 |
| Subject | California, Los Angeles |
| Subject Distance Range | Unknown |
| Title | Los Angeles Arts District (#0442) |
| Tone Curve Name 2012 | Linear |
| Tone Curve PV2012 | 0, 0, 255, 255 |
| Tone Curve PV2012 Blue | 0, 0, 255, 255 |
| Tone Curve PV2012 Green | 0, 0, 255, 255 |
| Tone Curve PV2012 Red | 0, 0, 255, 255 |
| Version | 7.4 |
| Vibrance | 0 |
| Vignette Amount | 0 |
| White Balance | Auto |
| Whites 2012 | +24 |
GPS Information |
| GPS Latitude | 34 deg 2' 32.87" N |
| GPS Latitude Ref | North |
| GPS Longitude | 118 deg 13' 57.71" W |
| GPS Longitude Ref | West |
| GPS Position | 34 deg 2' 32.87" N, 118 deg 13' 57.71" W |
| GPS Version ID | 2.2.0.0 |
X