Shooting information for this photo
| Camera: | NIKON CORPORATION NIKON D3100 |
| Exposure: | 0.008 sec. (1/125) |
| Aperture: | f/5.6 |
| Focal Length: | 30.0 mm (35 mm equivalent: 45.0 mm) |
| Flash: | Off, Did not fire |
| Exposure mode: | Not Defined |
| Max Aperture: | 4.6 |
| Resolution: | 240 x 240 dpi |
| Original Date: | 2016:05:06 13:58:51.00 |
| Created on: | 2016:05:06 13:58:51.00 |
| Modified on: | 2016:05:28 15:55:35 |
| Software: | Adobe Photoshop Lightroom 4.4 (Windows) |
| Already Applied | True |
| Approximate Focus Distance | 4294967295 |
| Auto Lateral CA | 0 |
| Blacks 2012 | -14 |
| Blue Hue | 0 |
| Blue Saturation | 0 |
| CFA Pattern | [Green,Blue][Red,Green] |
| Camera Profile | Adobe Standard |
| Circle Of Confusion | 0.020 mm |
| Clarity 2012 | 0 |
| Color Noise Reduction | 25 |
| Color Noise Reduction Detail | 50 |
| Color Space | sRGB |
| Color Temperature | 5200 |
| Contrast | Normal |
| Contrast 2012 | -6 |
| Convert To Grayscale | False |
| Crop Angle | 0 |
| Crop Bottom | 0.924747 |
| Crop Constrain To Warp | 0 |
| Crop Height | 1911 |
| Crop Left | 0.059788 |
| Crop Right | 0.893925 |
| Crop Top | 0.153401 |
| Crop Unit | pixels |
| Crop Width | 3100 |
| Custom Rendered | Normal |
| Date Created | 2016:05:06 13:58:51.00 |
| Defringe Green Amount | 0 |
| Defringe Green Hue Hi | 60 |
| Defringe Green Hue Lo | 40 |
| Defringe Purple Amount | 0 |
| Defringe Purple Hue Hi | 70 |
| Defringe Purple Hue Lo | 30 |
| Description | An interesting cluster of blooming mesquite(?) trees along CA-245 near Badger. Due to the upslope fog, much of my plans to explore the Sequoia National Park portion of Kings Canyon/Sequoia NP had to be abandoned, thus I took a back road (CA-245) that went from the park to Visalia. Travel was slow due to the road being very windy, but luckily there was no traffic and the scenery was interesting. These trees were scattered across the slopes along the road, but were particularly dense in this particular section. |
| Digital Zoom Ratio | 1 |
| Exposure 2012 | -0.65 |
| Exposure Compensation | 0 |
| Exposure Mode | Auto |
| Field Of View | 43.6 deg |
| Focal Length In 35mm Format | 45 mm |
| Format | image/jpeg |
| Gain Control | None |
| Grain Amount | 0 |
| Green Hue | 0 |
| Green Saturation | 0 |
| Has Crop | True |
| Has Settings | True |
| Highlights 2012 | -20 |
| Hue Adjustment Aqua | 0 |
| Hue Adjustment Blue | 0 |
| Hue Adjustment Green | 0 |
| Hue Adjustment Magenta | 0 |
| Hue Adjustment Orange | 0 |
| Hue Adjustment Purple | 0 |
| Hue Adjustment Red | 0 |
| Hue Adjustment Yellow | 0 |
| Hyperfocal Distance | 8.02 m |
| ISO | 110 |
| Image Description | An interesting cluster of blooming mesquite(?) trees along CA-245 near Badger. Due to the upslope fog, much of my plans to explore the Sequoia National Park portion of Kings Canyon/Sequoia NP had to be abandoned, thus I took a back road (CA-245) that went from the park to Visalia. Travel was slow due to the road being very windy, but luckily there was no traffic and the scenery was interesting. These trees were scattered across the slopes along the road, but were particularly dense in this particular section. |
| Image Number | 9018 |
| Image Size | 3100x1911 |
| Lens | 18.0-55.0 mm f/3.5-5.6 |
| Lens ID | AF-S DX VR Zoom-Nikkor 18-55mm f/3.5-5.6G |
| Lens Info | 18-55mm f/3.5-5.6 |
| Lens Manual Distortion Amount | 0 |
| Lens Model | 18.0-55.0 mm f/3.5-5.6 |
| Lens Profile Enable | 0 |
| Lens Profile Setup | LensDefaults |
| Light Source | Unknown |
| Light Value | 11.8 |
| Luminance Adjustment Aqua | 0 |
| Luminance Adjustment Blue | 0 |
| Luminance Adjustment Green | 0 |
| Luminance Adjustment Magenta | 0 |
| Luminance Adjustment Orange | 0 |
| Luminance Adjustment Purple | 0 |
| Luminance Adjustment Red | 0 |
| Luminance Adjustment Yellow | 0 |
| Luminance Smoothing | 0 |
| Metering Mode | Multi-segment |
| Parametric Darks | 0 |
| Parametric Highlight Split | 75 |
| Parametric Highlights | 0 |
| Parametric Lights | 0 |
| Parametric Midtone Split | 50 |
| Parametric Shadow Split | 25 |
| Parametric Shadows | 0 |
| Perspective Horizontal | 0 |
| Perspective Rotate | 0.0 |
| Perspective Scale | 100 |
| Perspective Vertical | 0 |
| Post Crop Vignette Amount | 0 |
| Process Version | 6.7 |
| Red Hue | 0 |
| Red Saturation | 0 |
| Saturation | Normal |
| Saturation Adjustment Aqua | 0 |
| Saturation Adjustment Blue | 0 |
| Saturation Adjustment Green | 0 |
| Saturation Adjustment Magenta | 0 |
| Saturation Adjustment Orange | 0 |
| Saturation Adjustment Purple | 0 |
| Saturation Adjustment Red | 0 |
| Saturation Adjustment Yellow | 0 |
| Scale Factor To 35 mm Equivalent | 1.5 |
| Scene Capture Type | Standard |
| Scene Type | Directly photographed |
| Sensing Method | One-chip color area |
| Shadow Tint | 0 |
| Shadows 2012 | +20 |
| Sharpen Detail | 25 |
| Sharpen Edge Masking | 0 |
| Sharpen Radius | +1.0 |
| Sharpness | Normal |
| Split Toning Balance | 0 |
| Split Toning Highlight Hue | 0 |
| Split Toning Highlight Saturation | 0 |
| Split Toning Shadow Hue | 0 |
| Split Toning Shadow Saturation | 0 |
| Subject | California, Sierra0516 |
| Subject Distance Range | Unknown |
| Tint | +21 |
| Title | CA-245 Badger (#0719) |
| Tone Curve Name 2012 | Linear |
| Tone Curve PV2012 | 0, 0, 255, 255 |
| Tone Curve PV2012 Blue | 0, 0, 255, 255 |
| Tone Curve PV2012 Green | 0, 0, 255, 255 |
| Tone Curve PV2012 Red | 0, 0, 255, 255 |
| Version | 7.4 |
| Vibrance | 0 |
| Vignette Amount | 0 |
| White Balance | Auto |
| Whites 2012 | +32 |
GPS Information |
| GPS Latitude | 36 deg 37' 3.53" N |
| GPS Latitude Ref | North |
| GPS Longitude | 119 deg 2' 6.92" W |
| GPS Longitude Ref | West |
| GPS Position | 36 deg 37' 3.53" N, 119 deg 2' 6.92" W |
| GPS Version ID | 2.2.0.0 |
X