Shooting information for this photo
| Camera: | NIKON CORPORATION NIKON D3100 |
| Exposure: | 0.0025 sec. (1/400) |
| Aperture: | f/10.0 |
| Focal Length: | 44.0 mm (35 mm equivalent: 66.0 mm) |
| Flash: | Auto, Did not fire |
| Exposure mode: | Not Defined |
| Max Aperture: | 5.3 |
| Resolution: | 240 x 240 dpi |
| Original Date: | 2015:11:17 14:24:58.10 |
| Created on: | 2015:11:17 14:24:58.10 |
| Modified on: | 2015:12:05 22:47:23 |
| Software: | Adobe Photoshop Lightroom 4.4 (Windows) |
| Already Applied | True |
| Approximate Focus Distance | 4294967295 |
| Auto Lateral CA | 0 |
| Blacks 2012 | -28 |
| Blue Hue | 0 |
| Blue Saturation | 0 |
| CFA Pattern | [Green,Blue][Red,Green] |
| Camera Profile | Adobe Standard |
| Circle Of Confusion | 0.020 mm |
| Clarity 2012 | +10 |
| Color Noise Reduction | 25 |
| Color Noise Reduction Detail | 50 |
| Color Space | sRGB |
| Color Temperature | 4900 |
| Contrast | Normal |
| Contrast 2012 | +10 |
| Convert To Grayscale | False |
| Crop Angle | 0.3 |
| Crop Bottom | 0.889113 |
| Crop Constrain To Warp | 0 |
| Crop Height | 2025 |
| Crop Left | 0.12986 |
| Crop Right | 0.875945 |
| Crop Top | 0.149566 |
| Crop Unit | pixels |
| Crop Width | 3100 |
| Custom Rendered | Normal |
| Date Created | 2015:11:17 14:24:58.10 |
| Defringe Green Amount | 0 |
| Defringe Green Hue Hi | 60 |
| Defringe Green Hue Lo | 40 |
| Defringe Purple Amount | 0 |
| Defringe Purple Hue Hi | 70 |
| Defringe Purple Hue Lo | 30 |
| Description | A collection of foundations and rubble in the area of the original Tecopa, which is about 8 miles from the current town of Tecopa. Based on the location of these foundations and the type of contstruction, I'm guessing that these are the remains of administrative buildings associated with the mines. |
| Digital Zoom Ratio | 1 |
| Exposure 2012 | -0.35 |
| Exposure Compensation | 0 |
| Exposure Mode | Auto |
| Field Of View | 30.5 deg |
| Focal Length In 35mm Format | 66 mm |
| Format | image/jpeg |
| Gain Control | None |
| Grain Amount | 0 |
| Green Hue | 0 |
| Green Saturation | 0 |
| Has Crop | True |
| Has Settings | True |
| Highlights 2012 | 0 |
| Hue Adjustment Aqua | 0 |
| Hue Adjustment Blue | 0 |
| Hue Adjustment Green | 0 |
| Hue Adjustment Magenta | 0 |
| Hue Adjustment Orange | 0 |
| Hue Adjustment Purple | 0 |
| Hue Adjustment Red | 0 |
| Hue Adjustment Yellow | 0 |
| Hyperfocal Distance | 9.67 m |
| ISO | 100 |
| Image Description | A collection of foundations and rubble in the area of the original Tecopa, which is about 8 miles from the current town of Tecopa. Based on the location of these foundations and the type of contstruction, I'm guessing that these are the remains of administrative buildings associated with the mines. |
| Image Number | 8403 |
| Image Size | 3100x2025 |
| Lens | 18.0-55.0 mm f/3.5-5.6 |
| Lens ID | AF-S DX VR Zoom-Nikkor 18-55mm f/3.5-5.6G |
| Lens Info | 18-55mm f/3.5-5.6 |
| Lens Manual Distortion Amount | 0 |
| Lens Model | 18.0-55.0 mm f/3.5-5.6 |
| Lens Profile Enable | 0 |
| Lens Profile Setup | LensDefaults |
| Light Source | Unknown |
| Light Value | 15.3 |
| Luminance Adjustment Aqua | 0 |
| Luminance Adjustment Blue | 0 |
| Luminance Adjustment Green | 0 |
| Luminance Adjustment Magenta | 0 |
| Luminance Adjustment Orange | 0 |
| Luminance Adjustment Purple | 0 |
| Luminance Adjustment Red | 0 |
| Luminance Adjustment Yellow | 0 |
| Luminance Smoothing | 0 |
| Metering Mode | Multi-segment |
| Parametric Darks | 0 |
| Parametric Highlight Split | 75 |
| Parametric Highlights | 0 |
| Parametric Lights | 0 |
| Parametric Midtone Split | 50 |
| Parametric Shadow Split | 25 |
| Parametric Shadows | 0 |
| Perspective Horizontal | 0 |
| Perspective Rotate | 0.0 |
| Perspective Scale | 100 |
| Perspective Vertical | 0 |
| Post Crop Vignette Amount | 0 |
| Process Version | 6.7 |
| Red Hue | 0 |
| Red Saturation | 0 |
| Saturation | Normal |
| Saturation Adjustment Aqua | 0 |
| Saturation Adjustment Blue | 0 |
| Saturation Adjustment Green | 0 |
| Saturation Adjustment Magenta | 0 |
| Saturation Adjustment Orange | 0 |
| Saturation Adjustment Purple | 0 |
| Saturation Adjustment Red | 0 |
| Saturation Adjustment Yellow | 0 |
| Scale Factor To 35 mm Equivalent | 1.5 |
| Scene Capture Type | Standard |
| Scene Type | Directly photographed |
| Sensing Method | One-chip color area |
| Shadow Tint | 0 |
| Shadows 2012 | 0 |
| Sharpen Detail | 25 |
| Sharpen Edge Masking | 0 |
| Sharpen Radius | +1.0 |
| Sharpness | Normal |
| Split Toning Balance | 0 |
| Split Toning Highlight Hue | 0 |
| Split Toning Highlight Saturation | 0 |
| Split Toning Shadow Hue | 0 |
| Split Toning Shadow Saturation | 0 |
| Subject | California, desert |
| Subject Distance Range | Unknown |
| Tint | +10 |
| Title | Tecopa / Old Tecopa (0109) |
| Tone Curve Name 2012 | Linear |
| Tone Curve PV2012 | 0, 0, 255, 255 |
| Tone Curve PV2012 Blue | 0, 0, 255, 255 |
| Tone Curve PV2012 Green | 0, 0, 255, 255 |
| Tone Curve PV2012 Red | 0, 0, 255, 255 |
| Version | 7.4 |
| Vibrance | 0 |
| Vignette Amount | 0 |
| White Balance | Auto |
| Whites 2012 | +18 |
GPS Information |
| GPS Latitude | 35 deg 48' 36.82" N |
| GPS Latitude Ref | North |
| GPS Longitude | 116 deg 6' 15.94" W |
| GPS Longitude Ref | West |
| GPS Position | 35 deg 48' 36.82" N, 116 deg 6' 15.94" W |
| GPS Version ID | 2.2.0.0 |
X