Shooting information for this photo
| Camera: | NIKON CORPORATION NIKON D3100 |
| Exposure: | 0.004 sec. (1/250) |
| Aperture: | f/8.0 |
| Focal Length: | 34.0 mm (35 mm equivalent: 51.0 mm) |
| Flash: | Off, Did not fire |
| Exposure mode: | Not Defined |
| Max Aperture: | 4.9 |
| Resolution: | 240 x 240 dpi |
| Original Date: | 2014:10:29 14:48:17.60 |
| Created on: | 2014:10:29 14:48:17.60 |
| Modified on: | 2014:11:28 17:14:16 |
| Software: | Adobe Photoshop Lightroom 4.4 (Windows) |
| Already Applied | True |
| Approximate Focus Distance | 4294967295 |
| Auto Lateral CA | 0 |
| Blacks 2012 | -17 |
| Blue Hue | 0 |
| Blue Saturation | 0 |
| CFA Pattern | [Green,Blue][Red,Green] |
| Camera Profile | Adobe Standard |
| Circle Of Confusion | 0.020 mm |
| Clarity 2012 | 0 |
| Color Noise Reduction | 25 |
| Color Noise Reduction Detail | 50 |
| Color Space | sRGB |
| Color Temperature | 5200 |
| Contrast | Normal |
| Contrast 2012 | -16 |
| Convert To Grayscale | False |
| Crop Angle | 0 |
| Crop Bottom | 1 |
| Crop Constrain To Warp | 0 |
| Crop Height | 1503 |
| Crop Left | 0.050314 |
| Crop Right | 1 |
| Crop Top | 0.107817 |
| Crop Unit | pixels |
| Crop Width | 2400 |
| Custom Rendered | Normal |
| Date Created | 2014:10:29 14:48:17.60 |
| Defringe Green Amount | 0 |
| Defringe Green Hue Hi | 60 |
| Defringe Green Hue Lo | 40 |
| Defringe Purple Amount | 0 |
| Defringe Purple Hue Hi | 70 |
| Defringe Purple Hue Lo | 30 |
| Description | Sort of, but not just, the Sacramento river. To regulate flow of the river to power plants downstream, there is Keswick dam 9 miles to the south; this is Keswick Reservoir. |
| Digital Zoom Ratio | 1 |
| Exposure 2012 | -0.20 |
| Exposure Compensation | 0 |
| Exposure Mode | Auto |
| Field Of View | 38.9 deg |
| Focal Length In 35mm Format | 51 mm |
| Format | image/jpeg |
| Gain Control | None |
| Grain Amount | 0 |
| Green Hue | 0 |
| Green Saturation | 0 |
| Has Crop | True |
| Has Settings | True |
| Highlights 2012 | -27 |
| Hue Adjustment Aqua | 0 |
| Hue Adjustment Blue | 0 |
| Hue Adjustment Green | 0 |
| Hue Adjustment Magenta | 0 |
| Hue Adjustment Orange | 0 |
| Hue Adjustment Purple | 0 |
| Hue Adjustment Red | 0 |
| Hue Adjustment Yellow | 0 |
| Hyperfocal Distance | 7.21 m |
| ISO | 100 |
| Image Description | Sort of, but not just, the Sacramento river. To regulate flow of the river to power plants downstream, there is Keswick dam 9 miles to the south; this is Keswick Reservoir. |
| Image Number | 5235 |
| Image Size | 2400x1503 |
| Lens | 18.0-55.0 mm f/3.5-5.6 |
| Lens ID | AF-S DX VR Zoom-Nikkor 18-55mm f/3.5-5.6G |
| Lens Info | 18-55mm f/3.5-5.6 |
| Lens Manual Distortion Amount | 0 |
| Lens Model | 18.0-55.0 mm f/3.5-5.6 |
| Lens Profile Enable | 0 |
| Lens Profile Setup | LensDefaults |
| Light Source | Unknown |
| Light Value | 14.0 |
| Luminance Adjustment Aqua | 0 |
| Luminance Adjustment Blue | 0 |
| Luminance Adjustment Green | 0 |
| Luminance Adjustment Magenta | 0 |
| Luminance Adjustment Orange | 0 |
| Luminance Adjustment Purple | 0 |
| Luminance Adjustment Red | 0 |
| Luminance Adjustment Yellow | 0 |
| Luminance Smoothing | 0 |
| Metering Mode | Multi-segment |
| Parametric Darks | 0 |
| Parametric Highlight Split | 75 |
| Parametric Highlights | 0 |
| Parametric Lights | 0 |
| Parametric Midtone Split | 50 |
| Parametric Shadow Split | 25 |
| Parametric Shadows | 0 |
| Perspective Horizontal | 0 |
| Perspective Rotate | 0.0 |
| Perspective Scale | 100 |
| Perspective Vertical | 0 |
| Post Crop Vignette Amount | 0 |
| Process Version | 6.7 |
| Red Hue | 0 |
| Red Saturation | 0 |
| Saturation | Normal |
| Saturation Adjustment Aqua | 0 |
| Saturation Adjustment Blue | 0 |
| Saturation Adjustment Green | 0 |
| Saturation Adjustment Magenta | 0 |
| Saturation Adjustment Orange | 0 |
| Saturation Adjustment Purple | 0 |
| Saturation Adjustment Red | 0 |
| Saturation Adjustment Yellow | 0 |
| Scale Factor To 35 mm Equivalent | 1.5 |
| Scene Capture Type | Standard |
| Scene Type | Directly photographed |
| Sensing Method | One-chip color area |
| Shadow Tint | 0 |
| Shadows 2012 | +17 |
| Sharpen Detail | 25 |
| Sharpen Edge Masking | 0 |
| Sharpen Radius | +1.0 |
| Sharpness | Normal |
| Split Toning Balance | 0 |
| Split Toning Highlight Hue | 0 |
| Split Toning Highlight Saturation | 0 |
| Split Toning Shadow Hue | 0 |
| Split Toning Shadow Saturation | 0 |
| Subject | Bureau of Reclamation, California, dam, infrastructure |
| Subject Distance Range | Unknown |
| Tint | +14 |
| Title | Shasta Dam / Keswick Reservoir (1127) |
| Tone Curve Name 2012 | Linear |
| Tone Curve PV2012 | 0, 0, 255, 255 |
| Tone Curve PV2012 Blue | 0, 0, 255, 255 |
| Tone Curve PV2012 Green | 0, 0, 255, 255 |
| Tone Curve PV2012 Red | 0, 0, 255, 255 |
| Version | 7.4 |
| Vibrance | 0 |
| Vignette Amount | 0 |
| White Balance | Auto |
| Whites 2012 | +5 |
GPS Information |
| GPS Latitude | 40 deg 43' 4.51" N |
| GPS Latitude Ref | North |
| GPS Longitude | 122 deg 25' 5.84" W |
| GPS Longitude Ref | West |
| GPS Position | 40 deg 43' 4.51" N, 122 deg 25' 5.84" W |
| GPS Version ID | 2.2.0.0 |
X