Shooting information for this photo
| Camera: | NIKON CORPORATION NIKON D3100 |
| Exposure: | 0.004 sec. (1/250) |
| Aperture: | f/8.0 |
| Focal Length: | 55.0 mm (35 mm equivalent: 82.0 mm) |
| Flash: | No Flash |
| Exposure mode: | Program AE |
| Max Aperture: | 4.0 |
| Resolution: | 240 x 240 dpi |
| Original Date: | 2014:07:25 18:28:25.00 |
| Created on: | 2014:07:25 18:28:25.00 |
| Modified on: | 2014:08:18 00:21:09 |
| Software: | Adobe Photoshop Lightroom 4.4 (Windows) |
| Already Applied | True |
| Approximate Focus Distance | 4294967295 |
| Auto Lateral CA | 0 |
| Blacks 2012 | -19 |
| Blue Hue | 0 |
| Blue Saturation | 0 |
| CFA Pattern | [Green,Blue][Red,Green] |
| Camera Profile | Adobe Standard |
| Circle Of Confusion | 0.020 mm |
| Clarity 2012 | +5 |
| Color Noise Reduction | 25 |
| Color Noise Reduction Detail | 50 |
| Color Temperature | 5700 |
| Contrast | Normal |
| Contrast 2012 | -7 |
| Convert To Grayscale | False |
| Crop Angle | 0 |
| Crop Bottom | 0.777778 |
| Crop Constrain To Warp | 0 |
| Crop Height | 1425 |
| Crop Left | 0 |
| Crop Right | 0.873532 |
| Crop Top | 0 |
| Crop Unit | pixels |
| Crop Width | 2400 |
| Custom Rendered | Normal |
| Date Created | 2014:07:25 18:28:25.00 |
| Defringe Green Amount | 0 |
| Defringe Green Hue Hi | 60 |
| Defringe Green Hue Lo | 40 |
| Defringe Purple Amount | 0 |
| Defringe Purple Hue Hi | 70 |
| Defringe Purple Hue Lo | 30 |
| Description | Dumbarton Bridge, taken from the Don Edwards San Francisco Bay National Wildlife Refuge in Menlo Park. The bridge, CA-84, is the southernmost cross of SF Bay connecting with US-101 on the west and with I-880 on the east. |
| Digital Zoom Ratio | 1 |
| Exposure 2012 | -0.15 |
| Exposure Compensation | 0 |
| Exposure Mode | Auto |
| Field Of View | 24.8 deg |
| Focal Length In 35mm Format | 82 mm |
| Format | image/jpeg |
| Gain Control | None |
| Grain Amount | 0 |
| Green Hue | 0 |
| Green Saturation | 0 |
| Has Crop | True |
| Has Settings | True |
| Highlights 2012 | 0 |
| Hue Adjustment Aqua | 0 |
| Hue Adjustment Blue | 0 |
| Hue Adjustment Green | 0 |
| Hue Adjustment Magenta | 0 |
| Hue Adjustment Orange | 0 |
| Hue Adjustment Purple | 0 |
| Hue Adjustment Red | 0 |
| Hue Adjustment Yellow | 0 |
| Hyperfocal Distance | 18.76 m |
| ISO | 100 |
| Image Description | Dumbarton Bridge, taken from the Don Edwards San Francisco Bay National Wildlife Refuge in Menlo Park. The bridge, CA-84, is the southernmost cross of SF Bay connecting with US-101 on the west and with I-880 on the east. |
| Image Number | 4497 |
| Image Size | 2400x1425 |
| Lens | 55.0-200.0 mm f/4.0-5.6 |
| Lens ID | AF-S DX VR Zoom-Nikkor 55-200mm f/4-5.6G IF-ED |
| Lens Info | 55-200mm f/4-5.6 |
| Lens Manual Distortion Amount | 0 |
| Lens Model | 55.0-200.0 mm f/4.0-5.6 |
| Lens Profile Enable | 0 |
| Lens Profile Setup | LensDefaults |
| Light Source | Unknown |
| Light Value | 14.0 |
| Luminance Adjustment Aqua | 0 |
| Luminance Adjustment Blue | 0 |
| Luminance Adjustment Green | 0 |
| Luminance Adjustment Magenta | 0 |
| Luminance Adjustment Orange | 0 |
| Luminance Adjustment Purple | 0 |
| Luminance Adjustment Red | 0 |
| Luminance Adjustment Yellow | 0 |
| Luminance Smoothing | 0 |
| Metering Mode | Center-weighted average |
| Parametric Darks | 0 |
| Parametric Highlight Split | 75 |
| Parametric Highlights | 0 |
| Parametric Lights | 0 |
| Parametric Midtone Split | 50 |
| Parametric Shadow Split | 25 |
| Parametric Shadows | 0 |
| Perspective Horizontal | 0 |
| Perspective Rotate | 0.0 |
| Perspective Scale | 100 |
| Perspective Vertical | 0 |
| Post Crop Vignette Amount | 0 |
| Process Version | 6.7 |
| Red Hue | 0 |
| Red Saturation | 0 |
| Saturation | Normal |
| Saturation Adjustment Aqua | 0 |
| Saturation Adjustment Blue | 0 |
| Saturation Adjustment Green | 0 |
| Saturation Adjustment Magenta | 0 |
| Saturation Adjustment Orange | 0 |
| Saturation Adjustment Purple | 0 |
| Saturation Adjustment Red | 0 |
| Saturation Adjustment Yellow | 0 |
| Scale Factor To 35 mm Equivalent | 1.5 |
| Scene Capture Type | Standard |
| Scene Type | Directly photographed |
| Sensing Method | One-chip color area |
| Shadow Tint | 0 |
| Shadows 2012 | 0 |
| Sharpen Detail | 25 |
| Sharpen Edge Masking | 0 |
| Sharpen Radius | +1.0 |
| Sharpness | Normal |
| Split Toning Balance | 0 |
| Split Toning Highlight Hue | 0 |
| Split Toning Highlight Saturation | 0 |
| Split Toning Shadow Hue | 0 |
| Split Toning Shadow Saturation | 0 |
| Subject | California, San Francisco Bay, bridge |
| Subject Distance Range | Unknown |
| Tint | +13 |
| Title | Dumbarton Bridge SF Bay (0437) |
| Tone Curve Name 2012 | Linear |
| Tone Curve PV2012 | 0, 0, 255, 255 |
| Tone Curve PV2012 Blue | 0, 0, 255, 255 |
| Tone Curve PV2012 Green | 0, 0, 255, 255 |
| Tone Curve PV2012 Red | 0, 0, 255, 255 |
| Version | 7.4 |
| Vibrance | 0 |
| Vignette Amount | 0 |
| White Balance | Auto |
| Whites 2012 | +28 |
GPS Information |
| GPS Latitude | 37 deg 29' 51.84" N |
| GPS Latitude Ref | North |
| GPS Longitude | 122 deg 7' 42.82" W |
| GPS Longitude Ref | West |
| GPS Position | 37 deg 29' 51.84" N, 122 deg 7' 42.82" W |
| GPS Version ID | 2.2.0.0 |
X