Shooting information for this photo
| Camera: | Canon PowerShot SD850 IS |
| Exposure: | 0.002 sec. (1/500) |
| Aperture: | f/2.8 |
| Focal Length: | 5.8 mm (35 mm equivalent: 35.1 mm) |
| Flash: | Auto, Did not fire |
| Max Aperture: | 2.8 |
| Resolution: | 240 x 240 dpi |
| Original Date: | 2010:06:12 04:23:28 |
| Created on: | 2010:06:12 04:23:28 |
| Modified on: | 2012:10:16 01:03:42 |
| Software: | Adobe Photoshop Lightroom 4.1 (Windows) |
| Already Applied | True |
| Auto Lateral CA | 0 |
| Blacks 2012 | 0 |
| Blue Hue | 0 |
| Blue Saturation | 0 |
| Camera Profile | Embedded |
| Circle Of Confusion | 0.005 mm |
| Clarity 2012 | +15 |
| Color Noise Reduction | 0 |
| Contrast 2012 | +20 |
| Convert To Grayscale | False |
| Crop Angle | -2.06188 |
| Crop Bottom | 0.84584 |
| Crop Constrain To Warp | 0 |
| Crop Height | 1063 |
| Crop Left | 0.19618 |
| Crop Right | 0.853821 |
| Crop Top | 0.330332 |
| Crop Unit | pixels |
| Crop Width | 1667 |
| Custom Rendered | Normal |
| Date Created | 2010:06:12 04:23:28 |
| Defringe Green Amount | 0 |
| Defringe Green Hue Hi | 60 |
| Defringe Green Hue Lo | 40 |
| Defringe Purple Amount | 0 |
| Defringe Purple Hue Hi | 70 |
| Defringe Purple Hue Lo | 30 |
| Description | The campground around the reservoir was quite pretty, though the night there was a little unsettling since there were thunderstorm rolling through during the night. This is early the next morning...The Grassland is managed by the National Forest Service. |
| Digital Zoom Ratio | 1 |
| Exposure 2012 | -0.20 |
| Exposure Compensation | 0 |
| Exposure Mode | Auto |
| Field Of View | 54.3 deg |
| Format | image/jpeg |
| Grain Amount | 0 |
| Green Hue | 0 |
| Green Saturation | 0 |
| Has Crop | True |
| Has Settings | True |
| Highlights 2012 | 0 |
| Hue Adjustment Aqua | 0 |
| Hue Adjustment Blue | 0 |
| Hue Adjustment Green | 0 |
| Hue Adjustment Magenta | 0 |
| Hue Adjustment Orange | 0 |
| Hue Adjustment Purple | 0 |
| Hue Adjustment Red | 0 |
| Hue Adjustment Yellow | 0 |
| Hyperfocal Distance | 2.42 m |
| ISO | 100 |
| Image Description | The campground around the reservoir was quite pretty, though the night there was a little unsettling since there were thunderstorm rolling through during the night. This is early the next morning...The Grassland is managed by the National Forest Service. |
| Image Size | 1667x1063 |
| Incremental Temperature | 0 |
| Incremental Tint | 0 |
| Last Keyword XMP | Texas, Panhandle |
| Lens Manual Distortion Amount | 0 |
| Lens Profile Enable | 0 |
| Lens Profile Setup | LensDefaults |
| Light Value | 11.9 |
| Luminance Adjustment Aqua | 0 |
| Luminance Adjustment Blue | 0 |
| Luminance Adjustment Green | 0 |
| Luminance Adjustment Magenta | 0 |
| Luminance Adjustment Orange | 0 |
| Luminance Adjustment Purple | 0 |
| Luminance Adjustment Red | 0 |
| Luminance Adjustment Yellow | 0 |
| Luminance Smoothing | 0 |
| Metering Mode | Multi-segment |
| Parametric Darks | 0 |
| Parametric Highlight Split | 75 |
| Parametric Highlights | 0 |
| Parametric Lights | 0 |
| Parametric Midtone Split | 50 |
| Parametric Shadow Split | 25 |
| Parametric Shadows | 0 |
| Perspective Horizontal | 0 |
| Perspective Rotate | 0.0 |
| Perspective Scale | 100 |
| Perspective Vertical | 0 |
| Post Crop Vignette Amount | 0 |
| Process Version | 6.7 |
| Red Hue | 0 |
| Red Saturation | 0 |
| Saturation | 0 |
| Saturation Adjustment Aqua | 0 |
| Saturation Adjustment Blue | 0 |
| Saturation Adjustment Green | 0 |
| Saturation Adjustment Magenta | 0 |
| Saturation Adjustment Orange | 0 |
| Saturation Adjustment Purple | 0 |
| Saturation Adjustment Red | 0 |
| Saturation Adjustment Yellow | 0 |
| Scale Factor To 35 mm Equivalent | 6.1 |
| Scene Capture Type | Standard |
| Sensing Method | One-chip color area |
| Shadow Tint | 0 |
| Shadows 2012 | 0 |
| Sharpen Detail | 25 |
| Sharpen Edge Masking | 0 |
| Sharpen Radius | +1.0 |
| Sharpness | 0 |
| Split Toning Balance | 0 |
| Split Toning Highlight Hue | 0 |
| Split Toning Highlight Saturation | 0 |
| Split Toning Shadow Hue | 0 |
| Split Toning Shadow Saturation | 0 |
| Subject | Panhandle, Texas |
| Title | McClellan Creek Reservoir/National Grassland, TX (2471) |
| Tone Curve Name 2012 | Linear |
| Tone Curve PV2012 | 0, 0, 255, 255 |
| Tone Curve PV2012 Blue | 0, 0, 255, 255 |
| Tone Curve PV2012 Green | 0, 0, 255, 255 |
| Tone Curve PV2012 Red | 0, 0, 255, 255 |
| Version | 7.1 |
| Vibrance | 0 |
| Vignette Amount | 0 |
| White Balance | Auto |
| Whites 2012 | +20 |
GPS Information |
| GPS Latitude | 35 deg 12' 48.88" N |
| GPS Latitude Ref | North |
| GPS Longitude | 100 deg 51' 43.37" W |
| GPS Longitude Ref | West |
| GPS Position | 35 deg 12' 48.88" N, 100 deg 51' 43.37" W |
| GPS Version ID | 2.2.0.0 |
X