Shooting information for this photo
| Camera: | NIKON CORPORATION NIKON D3100 |
| Exposure: | 0.01667 sec. (1/60) |
| Aperture: | f/5.0 |
| Focal Length: | 38.0 mm (35 mm equivalent: 57.0 mm) |
| Flash: | Off, Did not fire |
| Exposure mode: | Not Defined |
| Max Aperture: | 5.1 |
| Resolution: | 240 x 240 dpi |
| Original Date: | 2012:12:21 12:33:12.3 |
| Created on: | 2012:12:21 12:33:12.30 |
| Modified on: | 2012:12:29 20:54:58 |
| Software: | Adobe Photoshop Lightroom 4.3 (Windows) |
| Already Applied | True |
| Approximate Focus Distance | 4294967295 |
| Auto Lateral CA | 0 |
| Blacks 2012 | +1 |
| Blue Hue | 0 |
| Blue Saturation | 0 |
| Body Serial Number | 3978143 |
| CFA Pattern | [Green,Blue][Red,Green] |
| Camera Profile | Embedded |
| Circle Of Confusion | 0.020 mm |
| City | San Francisco |
| Clarity 2012 | +15 |
| Color Noise Reduction | 0 |
| Contrast | Normal |
| Contrast 2012 | -5 |
| Convert To Grayscale | False |
| Country | United States |
| Crop Angle | 0 |
| Crop Bottom | 0.936345 |
| Crop Constrain To Warp | 0 |
| Crop Height | 1435 |
| Crop Left | 0.207934 |
| Crop Right | 0.636115 |
| Crop Top | 0.168378 |
| Crop Unit | pixels |
| Crop Width | 1200 |
| Custom Rendered | Normal |
| Date Created | 2012:12:21 12:33:12.30 |
| Defringe Green Amount | 0 |
| Defringe Green Hue Hi | 60 |
| Defringe Green Hue Lo | 40 |
| Defringe Purple Amount | 0 |
| Defringe Purple Hue Hi | 70 |
| Defringe Purple Hue Lo | 30 |
| Description | Tadich Grill on California Street in Financial District. It is the longest serving restaurant in San Francisco (since 1849). This is not its original location -- due to redevelopment it moved to this location in 1967. When it moved, extensive efforts were made to preserve its historic character. |
| Digital Zoom Ratio | 1 |
| Exposure 2012 | -0.20 |
| Exposure Compensation | 0 |
| Exposure Mode | Auto |
| Field Of View | 35.1 deg |
| Focal Length In 35mm Format | 57 mm |
| Format | image/jpeg |
| Gain Control | Low gain up |
| Grain Amount | 0 |
| Green Hue | 0 |
| Green Saturation | 0 |
| Has Crop | True |
| Has Settings | True |
| Highlights 2012 | -4 |
| Hue Adjustment Aqua | 0 |
| Hue Adjustment Blue | 0 |
| Hue Adjustment Green | 0 |
| Hue Adjustment Magenta | 0 |
| Hue Adjustment Orange | 0 |
| Hue Adjustment Purple | 0 |
| Hue Adjustment Red | 0 |
| Hue Adjustment Yellow | 0 |
| Hyperfocal Distance | 14.42 m |
| ISO | 400 |
| Image Description | Tadich Grill on California Street in Financial District. It is the longest serving restaurant in San Francisco (since 1849). This is not its original location -- due to redevelopment it moved to this location in 1967. When it moved, extensive efforts were made to preserve its historic character. |
| Image Number | 125 |
| Image Size | 1435x1200 |
| Incremental Temperature | 0 |
| Incremental Tint | 0 |
| Lens | 18.0-55.0 mm f/3.5-5.6 |
| Lens ID | AF-S DX VR Zoom-Nikkor 18-55mm f/3.5-5.6G |
| Lens Info | 18-55mm f/3.5-5.6 |
| Lens Manual Distortion Amount | 0 |
| Lens Model | 18.0-55.0 mm f/3.5-5.6 |
| Lens Profile Enable | 0 |
| Lens Profile Setup | LensDefaults |
| Lens Specification | 18, 55, 3.5, 5.6 |
| Light Source | Unknown |
| Light Value | 8.6 |
| Location | Financial District |
| Luminance Adjustment Aqua | 0 |
| Luminance Adjustment Blue | 0 |
| Luminance Adjustment Green | 0 |
| Luminance Adjustment Magenta | 0 |
| Luminance Adjustment Orange | 0 |
| Luminance Adjustment Purple | 0 |
| Luminance Adjustment Red | 0 |
| Luminance Adjustment Yellow | 0 |
| Luminance Smoothing | 0 |
| Metering Mode | Multi-segment |
| Parametric Darks | 0 |
| Parametric Highlight Split | 75 |
| Parametric Highlights | 0 |
| Parametric Lights | 0 |
| Parametric Midtone Split | 50 |
| Parametric Shadow Split | 25 |
| Parametric Shadows | 0 |
| Perspective Horizontal | 0 |
| Perspective Rotate | 0.0 |
| Perspective Scale | 100 |
| Perspective Vertical | 0 |
| Photographic Sensitivity | 400 |
| Post Crop Vignette Amount | 0 |
| Process Version | 6.7 |
| Red Hue | 0 |
| Red Saturation | 0 |
| Saturation | Normal |
| Saturation Adjustment Aqua | 0 |
| Saturation Adjustment Blue | 0 |
| Saturation Adjustment Green | 0 |
| Saturation Adjustment Magenta | 0 |
| Saturation Adjustment Orange | 0 |
| Saturation Adjustment Purple | 0 |
| Saturation Adjustment Red | 0 |
| Saturation Adjustment Yellow | 0 |
| Scale Factor To 35 mm Equivalent | 1.5 |
| Scene Capture Type | Standard |
| Scene Type | Directly photographed |
| Sensing Method | One-chip color area |
| Shadow Tint | 0 |
| Shadows 2012 | +4 |
| Sharpen Detail | 25 |
| Sharpen Edge Masking | 0 |
| Sharpen Radius | +1.0 |
| Sharpness | Normal |
| Split Toning Balance | 0 |
| Split Toning Highlight Hue | 0 |
| Split Toning Highlight Saturation | 0 |
| Split Toning Shadow Hue | 0 |
| Split Toning Shadow Saturation | 0 |
| State | California |
| Subject | California, Chinatown, San Francisco |
| Subject Distance Range | Unknown |
| Title | Tadich Grill, SF (0125) |
| Tone Curve Name 2012 | Linear |
| Tone Curve PV2012 | 0, 0, 255, 255 |
| Tone Curve PV2012 Blue | 0, 0, 255, 255 |
| Tone Curve PV2012 Green | 0, 0, 255, 255 |
| Tone Curve PV2012 Red | 0, 0, 255, 255 |
| Version | 7.3 |
| Vibrance | 0 |
| Vignette Amount | 0 |
| White Balance | Auto |
| Whites 2012 | +17 |
GPS Information |
| GPS Latitude | 37 deg 47' 36.24" N |
| GPS Latitude Ref | North |
| GPS Longitude | 122 deg 23' 56.69" W |
| GPS Longitude Ref | West |
| GPS Position | 37 deg 47' 36.24" N, 122 deg 23' 56.69" W |
| GPS Version ID | 2.2.0.0 |
X