Shooting information for this photo
| Camera: | Canon PowerShot SD4000 IS |
| Exposure: | 0.00156 sec. (1/640) |
| Aperture: | f/4.5 |
| Focal Length: | 10.6 mm (35 mm equivalent: 60.6 mm) |
| Flash: | Auto, Did not fire |
| Max Aperture: | 4.5 |
| Resolution: | 240 x 240 dpi |
| Original Date: | 2012:07:25 16:22:44 |
| Created on: | 2012:07:25 16:22:44 |
| Modified on: | 2012:08:13 00:28:29 |
| Software: | Adobe Photoshop Lightroom 4.1 (Windows) |
| Already Applied | True |
| Approximate Focus Distance | 64.4 |
| Auto Lateral CA | 0 |
| Blacks 2012 | -25 |
| Blue Hue | 0 |
| Blue Saturation | 0 |
| Camera Profile | Embedded |
| Circle Of Confusion | 0.005 mm |
| Clarity 2012 | +20 |
| Color Noise Reduction | 0 |
| Contrast 2012 | -11 |
| Convert To Grayscale | False |
| Crop Angle | 0 |
| Crop Bottom | 0.842399 |
| Crop Constrain To Warp | 0 |
| Crop Height | 1200 |
| Crop Left | 0.150628 |
| Crop Right | 0.906904 |
| Crop Top | 0.161785 |
| Crop Unit | pixels |
| Crop Width | 1778 |
| Custom Rendered | Normal |
| Date Created | 2012:07:25 16:22:44 |
| Defringe Green Amount | 0 |
| Defringe Green Hue Hi | 60 |
| Defringe Green Hue Lo | 40 |
| Defringe Purple Amount | 0 |
| Defringe Purple Hue Hi | 70 |
| Defringe Purple Hue Lo | 30 |
| Description | Note the seats integrated into the Western Metal Supply building. Due to facing the sun when taking this, this photo is not as clear as I would have liked. |
| Digital Zoom Ratio | 1 |
| Exposure 2012 | -0.75 |
| Exposure Compensation | 0 |
| Exposure Mode | Auto |
| Field Of View | 33.1 deg |
| Firmware | 1.00 |
| Flash Compensation | 0 |
| Format | image/jpeg |
| Grain Amount | 0 |
| Green Hue | 0 |
| Green Saturation | 0 |
| Has Crop | True |
| Has Settings | True |
| Highlights 2012 | -12 |
| Hue Adjustment Aqua | 0 |
| Hue Adjustment Blue | 0 |
| Hue Adjustment Green | 0 |
| Hue Adjustment Magenta | 0 |
| Hue Adjustment Orange | 0 |
| Hue Adjustment Purple | 0 |
| Hue Adjustment Red | 0 |
| Hue Adjustment Yellow | 0 |
| Hyperfocal Distance | 4.73 m |
| ISO | 250 |
| Image Description | Note the seats integrated into the Western Metal Supply building. Due to facing the sun when taking this, this photo is not as clear as I would have liked. |
| Image Size | 1778x1200 |
| Incremental Temperature | +10 |
| Incremental Tint | +20 |
| Lens | 4.9-18.6 mm |
| Lens Info | 4.9-18.6mm f/? |
| Lens Manual Distortion Amount | 0 |
| Lens Model | 4.9-18.6 mm |
| Lens Profile Enable | 0 |
| Lens Profile Setup | LensDefaults |
| Light Value | 12.3 |
| Luminance Adjustment Aqua | 0 |
| Luminance Adjustment Blue | 0 |
| Luminance Adjustment Green | 0 |
| Luminance Adjustment Magenta | 0 |
| Luminance Adjustment Orange | 0 |
| Luminance Adjustment Purple | 0 |
| Luminance Adjustment Red | 0 |
| Luminance Adjustment Yellow | 0 |
| Luminance Smoothing | 0 |
| Metering Mode | Multi-segment |
| Parametric Darks | 0 |
| Parametric Highlight Split | 75 |
| Parametric Highlights | 0 |
| Parametric Lights | 0 |
| Parametric Midtone Split | 50 |
| Parametric Shadow Split | 25 |
| Parametric Shadows | 0 |
| Perspective Horizontal | 0 |
| Perspective Rotate | 0.0 |
| Perspective Scale | 100 |
| Perspective Vertical | 0 |
| Post Crop Vignette Amount | 0 |
| Process Version | 6.7 |
| Red Hue | 0 |
| Red Saturation | 0 |
| Saturation | 0 |
| Saturation Adjustment Aqua | 0 |
| Saturation Adjustment Blue | 0 |
| Saturation Adjustment Green | 0 |
| Saturation Adjustment Magenta | 0 |
| Saturation Adjustment Orange | 0 |
| Saturation Adjustment Purple | 0 |
| Saturation Adjustment Red | 0 |
| Saturation Adjustment Yellow | 0 |
| Scale Factor To 35 mm Equivalent | 5.7 |
| Scene Capture Type | Standard |
| Sensing Method | One-chip color area |
| Shadow Tint | 0 |
| Shadows 2012 | -28 |
| Sharpen Detail | 25 |
| Sharpen Edge Masking | 0 |
| Sharpen Radius | +1.0 |
| Sharpness | 10 |
| Split Toning Balance | 0 |
| Split Toning Highlight Hue | 0 |
| Split Toning Highlight Saturation | 0 |
| Split Toning Shadow Hue | 0 |
| Split Toning Shadow Saturation | 0 |
| Title | San Diego Petco Park (3488) |
| Tone Curve Name 2012 | Linear |
| Tone Curve PV2012 | 0, 0, 255, 255 |
| Tone Curve PV2012 Blue | 0, 0, 255, 255 |
| Tone Curve PV2012 Green | 0, 0, 255, 255 |
| Tone Curve PV2012 Red | 0, 0, 255, 255 |
| Version | 7.1 |
| Vibrance | 0 |
| Vignette Amount | 0 |
| White Balance | Auto |
| Whites 2012 | +30 |
GPS Information |
| GPS Latitude | 32 deg 42' 30.16" N |
| GPS Latitude Ref | North |
| GPS Longitude | 117 deg 9' 25.09" W |
| GPS Longitude Ref | West |
| GPS Position | 32 deg 42' 30.16" N, 117 deg 9' 25.09" W |
| GPS Version ID | 2.2.0.0 |
X