Shooting information for this photo
| Camera: | NIKON CORPORATION NIKON D3100 |
| Exposure: | 0.05 sec. (1/20) |
| Aperture: | f/6.3 |
| Focal Length: | 28.0 mm (35 mm equivalent: 42.0 mm) |
| Flash: | Off, Did not fire |
| Exposure mode: | Not Defined |
| Max Aperture: | 4.4 |
| Resolution: | 240 x 240 dpi |
| Original Date: | 2012:12:20 16:09:32.5 |
| Created on: | 2012:12:20 16:09:32.50 |
| Modified on: | 2012:12:29 01:27:48 |
| Software: | Adobe Photoshop Lightroom 4.3 (Windows) |
| Already Applied | True |
| Approximate Focus Distance | 2.24 |
| Auto Lateral CA | 0 |
| Blacks 2012 | +1 |
| Blue Hue | 0 |
| Blue Saturation | 0 |
| Body Serial Number | 3978143 |
| CFA Pattern | [Green,Blue][Red,Green] |
| Camera Profile | Embedded |
| Circle Of Confusion | 0.020 mm |
| Clarity 2012 | +10 |
| Color Noise Reduction | 0 |
| Contrast | Normal |
| Contrast 2012 | -11 |
| Convert To Grayscale | False |
| Crop Angle | 0 |
| Crop Bottom | 0.888209 |
| Crop Constrain To Warp | 0 |
| Crop Height | 845 |
| Crop Left | 0.428572 |
| Crop Right | 1 |
| Crop Top | 0.284839 |
| Crop Unit | pixels |
| Crop Width | 1200 |
| Custom Rendered | Normal |
| Date Created | 2012:12:20 16:09:32.50 |
| Defringe Green Amount | 0 |
| Defringe Green Hue Hi | 60 |
| Defringe Green Hue Lo | 40 |
| Defringe Purple Amount | 0 |
| Defringe Purple Hue Hi | 70 |
| Defringe Purple Hue Lo | 30 |
| Description | Amtrak depot in Salinas, build by Southern Pacific in 1942. Interior mural showing ranching. |
| Digital Zoom Ratio | 1 |
| Exposure 2012 | +0.20 |
| Exposure Compensation | 0 |
| Exposure Mode | Auto |
| Field Of View | 46.4 deg |
| Focal Length In 35mm Format | 42 mm |
| Format | image/jpeg |
| Gain Control | Low gain up |
| Grain Amount | 0 |
| Green Hue | 0 |
| Green Saturation | 0 |
| Has Crop | True |
| Has Settings | True |
| Highlights 2012 | 0 |
| Hue Adjustment Aqua | 0 |
| Hue Adjustment Blue | 0 |
| Hue Adjustment Green | 0 |
| Hue Adjustment Magenta | 0 |
| Hue Adjustment Orange | 0 |
| Hue Adjustment Purple | 0 |
| Hue Adjustment Red | 0 |
| Hue Adjustment Yellow | 0 |
| Hyperfocal Distance | 6.21 m |
| ISO | 400 |
| Image Description | Amtrak depot in Salinas, build by Southern Pacific in 1942. Interior mural showing ranching. |
| Image Number | 111 |
| Image Size | 1200x845 |
| Incremental Temperature | 0 |
| Incremental Tint | 0 |
| Lens | 18.0-55.0 mm f/3.5-5.6 |
| Lens ID | AF-S DX VR Zoom-Nikkor 18-55mm f/3.5-5.6G |
| Lens Info | 18-55mm f/3.5-5.6 |
| Lens Manual Distortion Amount | 0 |
| Lens Model | 18.0-55.0 mm f/3.5-5.6 |
| Lens Profile Enable | 0 |
| Lens Profile Setup | LensDefaults |
| Lens Specification | 18, 55, 3.5, 5.6 |
| Light Source | Unknown |
| Light Value | 7.6 |
| Luminance Adjustment Aqua | 0 |
| Luminance Adjustment Blue | 0 |
| Luminance Adjustment Green | 0 |
| Luminance Adjustment Magenta | 0 |
| Luminance Adjustment Orange | 0 |
| Luminance Adjustment Purple | 0 |
| Luminance Adjustment Red | 0 |
| Luminance Adjustment Yellow | 0 |
| Luminance Smoothing | 0 |
| Metering Mode | Multi-segment |
| Parametric Darks | 0 |
| Parametric Highlight Split | 75 |
| Parametric Highlights | 0 |
| Parametric Lights | 0 |
| Parametric Midtone Split | 50 |
| Parametric Shadow Split | 25 |
| Parametric Shadows | 0 |
| Perspective Horizontal | 0 |
| Perspective Rotate | 0.0 |
| Perspective Scale | 100 |
| Perspective Vertical | 0 |
| Photographic Sensitivity | 400 |
| Post Crop Vignette Amount | 0 |
| Process Version | 6.7 |
| Red Hue | 0 |
| Red Saturation | 0 |
| Saturation | Normal |
| Saturation Adjustment Aqua | 0 |
| Saturation Adjustment Blue | 0 |
| Saturation Adjustment Green | 0 |
| Saturation Adjustment Magenta | 0 |
| Saturation Adjustment Orange | 0 |
| Saturation Adjustment Purple | 0 |
| Saturation Adjustment Red | 0 |
| Saturation Adjustment Yellow | 0 |
| Scale Factor To 35 mm Equivalent | 1.5 |
| Scene Capture Type | Landscape |
| Scene Type | Directly photographed |
| Sensing Method | One-chip color area |
| Shadow Tint | 0 |
| Shadows 2012 | 0 |
| Sharpen Detail | 25 |
| Sharpen Edge Masking | 0 |
| Sharpen Radius | +1.0 |
| Sharpness | Normal |
| Split Toning Balance | 0 |
| Split Toning Highlight Hue | 0 |
| Split Toning Highlight Saturation | 0 |
| Split Toning Shadow Hue | 0 |
| Split Toning Shadow Saturation | 0 |
| Subject | Amtrak, California, architecture, railroad |
| Subject Distance Range | Unknown |
| Title | Salinas Amtrak depot (0111) |
| Tone Curve Name 2012 | Linear |
| Tone Curve PV2012 | 0, 0, 255, 255 |
| Tone Curve PV2012 Blue | 0, 0, 255, 255 |
| Tone Curve PV2012 Green | 0, 0, 255, 255 |
| Tone Curve PV2012 Red | 0, 0, 255, 255 |
| Version | 7.3 |
| Vibrance | 0 |
| Vignette Amount | 0 |
| White Balance | Auto |
| Whites 2012 | +39 |
GPS Information |
| GPS Latitude | 36 deg 40' 45.03" N |
| GPS Latitude Ref | North |
| GPS Longitude | 121 deg 39' 24.19" W |
| GPS Longitude Ref | West |
| GPS Position | 36 deg 40' 45.03" N, 121 deg 39' 24.19" W |
| GPS Version ID | 2.2.0.0 |
X