Shooting information for this photo
| Camera: | NIKON CORPORATION NIKON D3100 |
| Exposure: | 0.008 sec. (1/125) |
| Aperture: | f/5.6 |
| Focal Length: | 50.0 mm (35 mm equivalent: 75.0 mm) |
| Flash: | No Flash |
| Exposure mode: | Program AE |
| Max Aperture: | 5.7 |
| Resolution: | 240 x 240 dpi |
| Original Date: | 2013:01:01 15:53:32.10 |
| Created on: | 2013:01:01 15:53:32.10 |
| Modified on: | 2013:01:11 00:31:40 |
| Software: | Adobe Photoshop Lightroom 4.3 (Windows) |
| Already Applied | True |
| Approximate Focus Distance | 4294967295 |
| Auto Lateral CA | 0 |
| Blacks 2012 | -6 |
| Blue Hue | 0 |
| Blue Saturation | 0 |
| CFA Pattern | [Green,Blue][Red,Green] |
| Camera Profile | Adobe Standard |
| Circle Of Confusion | 0.020 mm |
| Clarity 2012 | +10 |
| Color Noise Reduction | 25 |
| Color Noise Reduction Detail | 50 |
| Color Temperature | 7450 |
| Contrast | Normal |
| Contrast 2012 | 0 |
| Convert To Grayscale | False |
| Crop Angle | 0 |
| Crop Bottom | 0.779053 |
| Crop Constrain To Warp | 0 |
| Crop Height | 1693 |
| Crop Left | 0.283939 |
| Crop Right | 0.922562 |
| Crop Top | 0.1033 |
| Crop Unit | pixels |
| Crop Width | 2400 |
| Custom Rendered | Normal |
| Date Created | 2013:01:01 15:53:32.10 |
| Defringe Green Amount | 0 |
| Defringe Green Hue Hi | 60 |
| Defringe Green Hue Lo | 40 |
| Defringe Purple Amount | 0 |
| Defringe Purple Hue Hi | 70 |
| Defringe Purple Hue Lo | 30 |
| Description | Abandoned Southern Pacific railway bridge in Piru, CA, note the construction date of 1902. |
| Digital Zoom Ratio | 1 |
| Exposure 2012 | -0.55 |
| Exposure Compensation | 0 |
| Exposure Mode | Auto |
| Field Of View | 27.0 deg |
| Focal Length In 35mm Format | 75 mm |
| Format | image/jpeg |
| Gain Control | None |
| Grain Amount | 0 |
| Green Hue | 0 |
| Green Saturation | 0 |
| Has Crop | True |
| Has Settings | True |
| Highlights 2012 | -50 |
| Hue Adjustment Aqua | 0 |
| Hue Adjustment Blue | 0 |
| Hue Adjustment Green | 0 |
| Hue Adjustment Magenta | 0 |
| Hue Adjustment Orange | 0 |
| Hue Adjustment Purple | 0 |
| Hue Adjustment Red | 0 |
| Hue Adjustment Yellow | 0 |
| Hyperfocal Distance | 22.29 m |
| ISO | 100 |
| Image Description | Abandoned Southern Pacific railway bridge in Piru, CA, note the construction date of 1902. |
| Image Number | 351 |
| Image Size | 2400x1693 |
| Lens | 18.0-55.0 mm f/3.5-5.6 |
| Lens ID | AF-S DX VR Zoom-Nikkor 18-55mm f/3.5-5.6G |
| Lens Info | 18-55mm f/3.5-5.6 |
| Lens Manual Distortion Amount | 0 |
| Lens Model | 18.0-55.0 mm f/3.5-5.6 |
| Lens Profile Enable | 0 |
| Lens Profile Setup | LensDefaults |
| Light Source | Unknown |
| Light Value | 11.9 |
| Luminance Adjustment Aqua | 0 |
| Luminance Adjustment Blue | 0 |
| Luminance Adjustment Green | 0 |
| Luminance Adjustment Magenta | 0 |
| Luminance Adjustment Orange | 0 |
| Luminance Adjustment Purple | 0 |
| Luminance Adjustment Red | 0 |
| Luminance Adjustment Yellow | 0 |
| Luminance Smoothing | 0 |
| Metering Mode | Center-weighted average |
| Parametric Darks | 0 |
| Parametric Highlight Split | 75 |
| Parametric Highlights | 0 |
| Parametric Lights | 0 |
| Parametric Midtone Split | 50 |
| Parametric Shadow Split | 25 |
| Parametric Shadows | 0 |
| Perspective Horizontal | 0 |
| Perspective Rotate | 0.0 |
| Perspective Scale | 100 |
| Perspective Vertical | 0 |
| Post Crop Vignette Amount | 0 |
| Process Version | 6.7 |
| Red Hue | 0 |
| Red Saturation | 0 |
| Saturation | Normal |
| Saturation Adjustment Aqua | 0 |
| Saturation Adjustment Blue | 0 |
| Saturation Adjustment Green | 0 |
| Saturation Adjustment Magenta | 0 |
| Saturation Adjustment Orange | 0 |
| Saturation Adjustment Purple | 0 |
| Saturation Adjustment Red | 0 |
| Saturation Adjustment Yellow | 0 |
| Scale Factor To 35 mm Equivalent | 1.5 |
| Scene Capture Type | Standard |
| Scene Type | Directly photographed |
| Sensing Method | One-chip color area |
| Shadow Tint | 0 |
| Shadows 2012 | +50 |
| Sharpen Detail | 25 |
| Sharpen Edge Masking | 0 |
| Sharpen Radius | +1.0 |
| Sharpness | Normal |
| Split Toning Balance | 0 |
| Split Toning Highlight Hue | 0 |
| Split Toning Highlight Saturation | 0 |
| Split Toning Shadow Hue | 0 |
| Split Toning Shadow Saturation | 0 |
| Subject | California, abandoned, bridge, railroad |
| Subject Distance Range | Unknown |
| Tint | +15 |
| Title | Former Piru Southern Pacific rail bridge (0342) |
| Tone Curve Name 2012 | Linear |
| Tone Curve PV2012 | 0, 0, 255, 255 |
| Tone Curve PV2012 Blue | 0, 0, 255, 255 |
| Tone Curve PV2012 Green | 0, 0, 255, 255 |
| Tone Curve PV2012 Red | 0, 0, 255, 255 |
| Version | 7.3 |
| Vibrance | 0 |
| Vignette Amount | 0 |
| White Balance | Auto |
| Whites 2012 | +34 |
GPS Information |
| GPS Latitude | 34 deg 25' 1.17" N |
| GPS Latitude Ref | North |
| GPS Longitude | 118 deg 47' 22.00" W |
| GPS Longitude Ref | West |
| GPS Position | 34 deg 25' 1.17" N, 118 deg 47' 22.00" W |
| GPS Version ID | 2.2.0.0 |
X