Shooting information for this photo
Camera: | Canon EOS-1Ds Mark II |
Exposure: | 0.00063 sec. (1/1600) |
Aperture: | f/8.0 |
Focal Length: | 105.0 mm (35 mm equivalent: 364.7 mm) |
Flash: | Off, Did not fire |
Exposure mode: | Aperture-priority AE |
Max Aperture: | 5.0 |
Resolution: | 72 x 72 dpi |
Dimension: | 988 x 1420 pixels |
Original Date: | 2021:12:11 13:57:39 |
Digitized Date: | 2021:12:11 13:57:39-07:00 |
Created on: | 2021:12:11 13:57:39 |
Software: | Adobe Photoshop Lightroom 5.7.1 (Windows) |
Copyright: | Charles D Therit (c) 2012-2021 |
AEB Sequence/Auto Cancel | 0,-,+/Enabled |
AF Area Height | 164 |
AF Area Width | 118 |
AF Image Height | 3328 |
AF Image Width | 4992 |
AF Point Activation Area | Automatic expanded (max. 13) |
AF Point Illumination | On |
AF Point Selection | H=AF+Main/V=AF+Command |
AF Points In Focus | (none) |
AF Points In Focus 1D | C6 () |
AI Servo Continuous Shooting | Shooting not possible without focus |
AI Servo Tracking Sensitivity | Standard |
Already Applied | True |
Artist | Mary Therit (c) 2012-2020 |
Auto Lateral CA | 0 |
Auto White Version | 134348800 |
Base URL | https://www.flickr.com/photos/ ctofcsco |
Blacks 2012 | -5 |
Blue Balance | 1.473633 |
Blue Hue | 0 |
Blue Saturation | 0 |
Camera Profile | Adobe Standard |
Camera Type | EOS High-end |
Canon Exposure Mode | Aperture-priority AE |
Canon Firmware Version | Firmware Version 1.1.6 |
Canon Flash Mode | Off |
Canon Image Size | Large |
Canon Model ID | EOS-1Ds Mark II |
Circle Of Confusion | 0.009 mm |
Clarity 2012 | +57 |
Color Noise Reduction | 25 |
Color Noise Reduction Detail | 50 |
Color Noise Reduction Smoothness | 50 |
Color Space | sRGB |
Color Temp As Shot | 4990 |
Color Temp Auto | 4990 |
Color Temp Cloudy | 6000 |
Color Temp Daylight | 5200 |
Color Temp Flash | 6545 |
Color Temp Fluorescent | 4015 |
Color Temp Kelvin | 3200 |
Color Temp PC1 | 5200 |
Color Temp PC2 | 5200 |
Color Temp PC3 | 5200 |
Color Temp Shade | 6984 |
Color Temp Tungsten | 3195 |
Color Tone | Normal |
Continuous Drive | Continuous |
Contrast | Normal |
Contrast 2012 | -2 |
Convert To Grayscale | False |
Country | United States |
Country Code | USA |
Creator | Mary Therit (c) 2012-2020 |
Crop Angle | 0 |
Crop Bottom | 1 |
Crop Constrain To Warp | 0 |
Crop Height | 0 |
Crop Left | 0.114573 |
Crop Right | 1 |
Crop Top | 0.081448 |
Crop Width | 0 |
Custom Rendered | Normal |
Defringe Green Amount | 0 |
Defringe Green Hue Hi | 60 |
Defringe Green Hue Lo | 40 |
Defringe Purple Amount | 0 |
Defringe Purple Hue Hi | 70 |
Defringe Purple Hue Lo | 30 |
Description | <b>Tarryall SWA</b>.Lake George, Colorado..<a href="https://www.uncover colorado.com/activities/tarrya ll-reservoir-swa/" rel="noreferrer nofollow">www.uncoverc olorado.com/activities/tarryal l-reservoir-swa/</a> |
Digital Zoom | None |
Drive Mode | Continuous Shooting |
Easy Mode | Manual |
Exposure 2012 | 0.00 |
Exposure Level Increments | 1/3-stop set, 1/3-stop comp. |
Exposure Mode | Auto |
Field Of View | 5.7 deg |
Fill Flash Auto Reduction | Enable |
Finder Display During Exposure | Off |
Firmware | 1.1.6 |
Flash Activity | 0 |
Flash Bits | (none) |
Flash Compensation | 0 |
Flash Fired | False |
Flash Function | False |
Flash Mode | Off |
Flash Red Eye Mode | False |
Flash Return | No return detection |
Focal Units | 1/mm |
Focus Mode | AI Servo AF |
Focus Range | Not Known |
Focusing Screen | Ec-A,B,C,CII,CIII,D,H,I,L |
Format | image/jpeg |
Grain Amount | 0 |
Green Hue | 0 |
Green Saturation | 0 |
Has Crop | True |
Has Settings | True |
Highlights 2012 | +12 |
Hue Adjustment Aqua | 0 |
Hue Adjustment Blue | 0 |
Hue Adjustment Green | 0 |
Hue Adjustment Magenta | 0 |
Hue Adjustment Orange | 0 |
Hue Adjustment Purple | 0 |
Hue Adjustment Red | 0 |
Hue Adjustment Yellow | 0 |
Hyperfocal Distance | 159.32 m |
ISO | 400 |
ISO Speed Expansion | No |
Image Description | <b>Tarryall SWA</b>.Lake George, Colorado..<a href="https://www.uncover colorado.com/activities/tarrya ll-reservoir-swa/" rel="noreferrer nofollow">www.uncoverc olorado.com/activities/tarryal l-reservoir-swa/</a> |
Image Number | 17083 |
Image Size | 988x1420 |
JPEG Quality | 10 |
Lens | 28.0 - 300.0 mm (35 mm equivalent: 97.3 - 1042.1 mm) |
Lens AF Stop Button | AF start |
Lens ID | Canon EF 28-300mm f/3.5-5.6L IS |
Lens Info | 28-300mm f/? |
Lens Manual Distortion Amount | 0 |
Lens Model | Canon EF 28-300mm f/3.5-5.6L IS USM |
Lens Profile Enable | 0 |
Lens Profile Setup | LensDefaults |
Lens Type | Canon EF 28-300mm f/3.5-5.6L IS |
Light Value | 14.6 |
Location | Tarryall |
Luminance Adjustment Aqua | 0 |
Luminance Adjustment Blue | 0 |
Luminance Adjustment Green | 0 |
Luminance Adjustment Magenta | 0 |
Luminance Adjustment Orange | 0 |
Luminance Adjustment Purple | 0 |
Luminance Adjustment Red | 0 |
Luminance Adjustment Yellow | 0 |
Luminance Smoothing | 0 |
Macro Mode | Normal |
Manual Flash Output | n/a |
Manual Tv/Av For M | Tv=Main/Av=Control |
Max Aperture | 5 |
Max Focal Length | 300 mm |
Measured RGGB | 639 1024 1024 558 |
Metering Mode | Evaluative |
Min Aperture | 32 |
Min Focal Length | 28 mm |
Mirror Lockup | Disable |
No. AF Points/Spot Metering | 45/Center AF point |
Num AF Points | 53 |
Optical Zoom Code | n/a |
Original Decision Data Offset | 0 |
Owner Name | Mary Therit (c) 2012-2020 |
PF0 Custom Func Registration | Off |
PF10 Retain Program Shift | Off |
PF13 Drive Priority | Off |
PF14 Disable Focus Search | Off |
PF15 Disable AF Assist Beam | Off |
PF16 Auto Focus Point Shoot | Off |
PF17 Disable AF Point Sel | Off |
PF18 Enable Auto AF Point Sel | Off |
PF19 Continuous Shoot Speed | Off |
PF19 Shooting Speed High | 3 |
PF19 Shooting Speed Low | 8 |
PF1 Disable Shooting Modes | Off |
PF1 Value | 252 |
PF20 Limit Continous Shots | Off |
PF20 Max Continous Shots | 99 |
PF21 Enable Quiet Operation | On |
PF23 FE Lock Time | 256 |
PF23 Post Release Time | 32 |
PF23 Set Timer Lengths | Off |
PF23 Shutter Button Time | 96 |
PF24 Light LCD During Bulb | Off |
PF25 AE Mode | 16 |
PF25 AF Mode | 2 |
PF25 AF Point Sel | 255 |
PF25 Color Matrix | 1 |
PF25 Default Clear Settings | Off |
PF25 Drive Mode | 4 |
PF25 Image Size | 16 |
PF25 Metering Mode | 32 |
PF25 Parameters | 0 |
PF25 WB Mode | 0 |
PF26 Shorten Release Lag | Off |
PF27 Reverse Dial Rotation | Off |
PF27 Value | 2 |
PF28 No Quick Dial Exp Comp | Off |
PF29 Quick Dial Switch Off | Off |
PF2 Disable Metering Modes | Off |
PF2 Value | 240 |
PF30 Enlargement Mode | Off |
PF31 Original Decision Data | Off |
PF3 Manual Exposure Metering | Off |
PF3 Value | 16 |
PF4 Exposure Time Limits | Off |
PF4 Exposure Time Max | 31.2 |
PF4 Exposure Time Min | 1/8389 |
PF5 Aperture Limits | Off |
PF5 Aperture Max | 1 |
PF5 Aperture Min | 91 |
PF6 Preset Shooting Modes | Off |
PF7 Bracket Continuous Shoot | Off |
PF8 Bracket Shots | 5 |
PF8 Set Bracket Shots | On |
PF9 Change Bracket Sequence | Off |
Parametric Darks | 0 |
Parametric Highlight Split | 75 |
Parametric Highlights | 0 |
Parametric Lights | 0 |
Parametric Midtone Split | 50 |
Parametric Shadow Split | 25 |
Parametric Shadows | 0 |
Perspective Aspect | 0 |
Perspective Horizontal | 0 |
Perspective Rotate | 0.0 |
Perspective Scale | 100 |
Perspective Upright | 0 |
Perspective Vertical | 0 |
Photometric Interpretation | RGB |
Planar Configuration | Chunky |
Post Crop Vignette Amount | 0 |
Process Version | 6.7 |
Quality | RAW |
Rating | 2 |
Rating Percent | 25 |
Raw Measured RGGB | 32507 52478 52746 28633 |
Record Mode | CR2 |
Red Balance | 1.78125 |
Red Hue | 0 |
Red Saturation | 0 |
Related Image Height | 1400 |
Related Image Width | 968 |
Rights | Charles D Therit (c) 2012-2021 |
Safety Shift In Av Or Tv | Disable |
Samples Per Pixel | 3 |
Saturation | Normal |
Saturation Adjustment Aqua | 0 |
Saturation Adjustment Blue | 0 |
Saturation Adjustment Green | 0 |
Saturation Adjustment Magenta | 0 |
Saturation Adjustment Orange | 0 |
Saturation Adjustment Purple | 0 |
Saturation Adjustment Red | 0 |
Saturation Adjustment Yellow | 0 |
Scale Factor To 35 mm Equivalent | 3.5 |
Scene Capture Type | Standard |
Self Timer | Off |
Sequence Number | 0 |
Shadow Tint | 0 |
Shadows 2012 | -5 |
Sharpen Detail | 25 |
Sharpen Edge Masking | 0 |
Sharpen Radius | +1.0 |
Sharpness | Normal |
Shooting Mode | Aperture-priority AE |
Shutter Button/AEL Button | AE lock/AF |
Shutter Curtain Sync | 1st-curtain sync |
Shutter Release W/O CF Card | No |
Split Toning Balance | 0 |
Split Toning Highlight Hue | 0 |
Split Toning Highlight Saturation | 0 |
Split Toning Shadow Hue | 0 |
Split Toning Shadow Saturation | 0 |
State | Colorado |
Subject | 1/1600, 105 mm, 1D, 1Ds Mark 2, 1Ds Mark II, 1DsII, Aperture-priority AE, Canon, Canon EF 28-300mm f/3.5-5.6L IS USM, Colorado, Colorado Springs, Did not fire, digital, EOS, EOS 1D, EOS-1Ds Mark II, esplora, Evaluative, Explore, Explored, f/8.0, Flash Off, ISO400, Mark 2, Mark II, photo, pic, pretty, renown, SuperZoom, United States, USA, 4x4, Birding, Boating, CO, dirt roads, Fishing, Mountains, Nature, Park County, Reservoir, Rocky Mountains, State Wildlife Area, SWA, Tarryall, Tarryall Reservoir, Tarryall Rural Historic District, Wildlife |
Switch To Registered AF Point | Assist |
Tint | 0 |
Title | Traversing Tarryall |
Tone Curve | Standard |
Tone Curve Blue | 0, 0, 255, 255 |
Tone Curve Green | 0, 0, 255, 255 |
Tone Curve Name | Linear |
Tone Curve Name 2012 | Linear |
Tone Curve PV2012 | 0, 0, 255, 255 |
Tone Curve PV2012 Blue | 0, 0, 255, 255 |
Tone Curve PV2012 Green | 0, 0, 255, 255 |
Tone Curve PV2012 Red | 0, 0, 255, 255 |
Tone Curve Red | 0, 0, 255, 255 |
Top/Back LCD Panels | Remain. shots/File no. |
USM Lens Electronic MF | Turns on after one-shot AF |
VRD Offset | 0 |
Valid AF Points | 45 |
Version | 8.7.1 |
Vibrance | +17 |
Vignette Amount | 0 |
WB RGGB Levels | 1824 1024 1024 1509 |
WB RGGB Levels As Shot | 1824 1024 1024 1509 |
WB RGGB Levels Auto | 1824 1024 1024 1509 |
WB RGGB Levels Cloudy | 2068 1024 1024 1348 |
WB RGGB Levels Daylight | 1917 1024 1024 1489 |
WB RGGB Levels Flash | 2158 1024 1024 1283 |
WB RGGB Levels Fluorescent | 1777 1024 1024 2060 |
WB RGGB Levels Kelvin | 1419 1095 1095 2508 |
WB RGGB Levels PC1 | 1917 1024 1024 1489 |
WB RGGB Levels PC2 | 1917 1024 1024 1489 |
WB RGGB Levels PC3 | 1917 1024 1024 1489 |
WB RGGB Levels Shade | 2222 1024 1024 1229 |
WB RGGB Levels Tungsten | 1420 1096 1096 2516 |
Whites 2012 | +17 |
Zoom Source Width | 0 |
Zoom Target Width | 0 |
GPS Information |
GPS Altitude | 2692 m Above Sea Level |
GPS Altitude Ref | Above Sea Level |
GPS Date Stamp | 2021:12:11 |
GPS Date/Time | 2021:12:11 20:57:39Z |
GPS Latitude | 39 deg 5' 26.76" N |
GPS Latitude Ref | North |
GPS Longitude | 105 deg 29' 25.07" W |
GPS Longitude Ref | West |
GPS Map Datum | WGS-84 |
GPS Position | 39 deg 5' 26.76" N, 105 deg 29' 25.07" W |
GPS Time Stamp | 20:57:39 |
GPS Version ID | 2.2.0.0 |