Shooting information for this photo
Camera: | Canon EOS 5D |
Exposure: | 0.25 sec. (1/4) |
Aperture: | f/8.0 |
Focal Length: | 16.0 mm (35 mm equivalent: 15.4 mm) |
Flash: | Off, Did not fire |
Exposure mode: | Aperture-priority AE |
Max Aperture: | 2.8 |
Resolution: | 72 x 72 dpi |
Dimension: | 951 x 1418 pixels |
Original Date: | 2012:03:23 19:48:36 |
Created on: | 2012:03:23 19:48:36 |
Modified on: | 2022:01:20 11:45:27 |
Software: | Adobe Photoshop Lightroom 5.7.1 (Windows) |
Copyright: | Charles D Therit (c) 2006-2012 |
AEB Sequence/Auto Cancel | 0,-,+/Enabled |
AF Area Height | 119 |
AF Area Width | 119 |
AF Assist Beam | Emits |
AF Image Height | 3328 |
AF Image Width | 4992 |
AF Point Activation Area | Expanded |
AF Point Selection Method | Normal |
AF Points In Focus | 8 |
AF Points In Focus 5D | Center |
Add Original Decision Data | Off |
Already Applied | True |
Artist | Charles D Therit (c) 2006-2012 |
Auto Lateral CA | 0 |
Auto White Version | 134348800 |
Base URL | https://www.flickr.com/photos/ ctofcsco |
Blacks 2012 | -14 |
Blue Balance | 2.376362 |
Blue Hue | 0 |
Blue Saturation | 0 |
Camera Orientation | Rotate 90 CW |
Camera Profile | Adobe Standard |
Camera Temperature | 22 C |
Camera Type | EOS High-end |
Canon Exposure Mode | Aperture-priority AE |
Canon Firmware Version | Firmware Version 1.1.1 |
Canon Flash Mode | Off |
Canon Image Size | Large |
Canon Model ID | EOS 5D |
Circle Of Confusion | 0.031 mm |
Clarity 2012 | +50 |
Color Data Version | 1 (1DmkIIN/5D/30D/400D) |
Color Noise Reduction | 25 |
Color Noise Reduction Detail | 50 |
Color Noise Reduction Smoothness | 50 |
Color Space | sRGB |
Color Temp As Shot | 3598 |
Color Temp Auto | 3598 |
Color Temp Cloudy | 6000 |
Color Temp Custom | 3495 |
Color Temp Daylight | 5200 |
Color Temp Flash | 6483 |
Color Temp Fluorescent | 3812 |
Color Temp Kelvin | 5190 |
Color Temp Measured | 2413 |
Color Temp PC1 | 5200 |
Color Temp PC2 | 5200 |
Color Temp PC3 | 5200 |
Color Temp Shade | 7000 |
Color Temp Tungsten | 3200 |
Color Tone | Normal |
Color Tone Faithful | 0 |
Color Tone Landscape | 0 |
Color Tone Neutral | 0 |
Color Tone Portrait | 0 |
Color Tone Standard | 0 |
Color Tone User Def 1 | 1 |
Color Tone User Def 2 | 0 |
Color Tone User Def 3 | 0 |
Continuous Drive | Single |
Contrast | Normal |
Contrast 2012 | +2 |
Contrast Faithful | 0 |
Contrast Landscape | 0 |
Contrast Monochrome | 0 |
Contrast Neutral | 0 |
Contrast Portrait | 0 |
Contrast Standard | 0 |
Contrast User Def 1 | 0 |
Contrast User Def 2 | 0 |
Contrast User Def 3 | 0 |
Convert To Grayscale | False |
Country | United States |
Country Code | USA |
Creator | Charles D Therit (c) 2006-2012 |
Crop Height | 0 |
Crop Width | 0 |
Custom Rendered | Normal |
Defringe Green Amount | 0 |
Defringe Green Hue Hi | 60 |
Defringe Green Hue Lo | 40 |
Defringe Purple Amount | 0 |
Defringe Purple Hue Hi | 70 |
Defringe Purple Hue Lo | 30 |
Description | Lookin' Up.in.<b>Las Vegas, Nevada</b> |
Digital Zoom | None |
Drive Mode | Single-frame Shooting |
E-TTL II | Evaluative |
Easy Mode | Manual |
Exposure 2012 | +0.75 |
Exposure Level Increments | 1/3 Stop |
Exposure Mode | Auto |
Field Of View | 99.1 deg |
File Number | 100-8775 |
Filter Effect Monochrome | None |
Firmware | 1.1.1 |
Firmware Revision | 1.1.1.2 |
Flash Activity | 0 |
Flash Battery Level | n/a |
Flash Bits | (none) |
Flash Compensation | 0 |
Flash Fired | False |
Flash Firing | Fires |
Flash Function | False |
Flash Mode | Off |
Flash Output | 0% |
Flash Red Eye Mode | False |
Flash Return | No return detection |
Flash Sync Speed Av | Auto |
Focal Units | 1/mm |
Focus Mode | One-shot AF |
Focus Range | Not Known |
Focusing Screen | Ee-A |
Format | image/jpeg |
Grain Amount | 0 |
Green Hue | 0 |
Green Saturation | 0 |
Has Crop | False |
Has Settings | True |
Highlights 2012 | -100 |
Hue Adjustment Aqua | 0 |
Hue Adjustment Blue | 0 |
Hue Adjustment Green | 0 |
Hue Adjustment Magenta | 0 |
Hue Adjustment Orange | 0 |
Hue Adjustment Purple | 0 |
Hue Adjustment Red | 0 |
Hue Adjustment Yellow | 0 |
Hyperfocal Distance | 1.02 m |
ISO | 3200 |
ISO Expansion | On |
Image Description | Lookin' Up.in.<b>Las Vegas, Nevada</b> |
Image Number | 6 |
Image Size | 951x1418 |
LCD Display Return To Shoot | With Shutter Button only |
Lens | 16.0 - 35.0 mm (35 mm equivalent: 15.4 - 33.6 mm) |
Lens AF Stop Button | AF stop |
Lens ID | Canon EF 16-35mm f/2.8L II |
Lens Info | 16-35mm f/? |
Lens Manual Distortion Amount | 0 |
Lens Model | EF16-35mm f/2.8L II USM |
Lens Profile Enable | 0 |
Lens Profile Setup | LensDefaults |
Lens Type | Canon EF 16-35mm f/2.8L II |
Light Value | 3.0 |
Location | Las Vegas DownTown |
Long Exposure Noise Reduction | Off |
Luminance Adjustment Aqua | 0 |
Luminance Adjustment Blue | 0 |
Luminance Adjustment Green | 0 |
Luminance Adjustment Magenta | 0 |
Luminance Adjustment Orange | 0 |
Luminance Adjustment Purple | 0 |
Luminance Adjustment Red | 0 |
Luminance Adjustment Yellow | 0 |
Luminance Smoothing | 0 |
Macro Mode | Normal |
Manual Flash Output | n/a |
Max Aperture | 2.8 |
Max Focal Length | 35 mm |
Measured RGGB | 900 1024 1024 157 |
Measured RGGB Data | 90226 99262 97638 15526 |
Menu Button Display Position | Previous (top if power off) |
Metering Mode | Center-weighted average |
Min Aperture | 23 |
Min Focal Length | 16 mm |
Mirror Lockup | Disable |
Num AF Points | 15 |
Optical Zoom Code | n/a |
Original Decision Data Offset | 0 |
Owner Name | Charles D Therit (c) 2006-2012 |
Parametric Darks | 0 |
Parametric Highlight Split | 75 |
Parametric Highlights | 0 |
Parametric Lights | 0 |
Parametric Midtone Split | 50 |
Parametric Shadow Split | 25 |
Parametric Shadows | 0 |
Perspective Aspect | 0 |
Perspective Horizontal | 0 |
Perspective Rotate | 0.0 |
Perspective Scale | 100 |
Perspective Upright | 0 |
Perspective Vertical | 0 |
Photometric Interpretation | RGB |
Planar Configuration | Chunky |
Post Crop Vignette Amount | 0 |
Process Version | 6.7 |
Quality | RAW |
Rating | 2 |
Rating Percent | 25 |
Record Mode | CR2 |
Red Balance | 1.697402 |
Red Hue | 0 |
Red Saturation | 0 |
Related Image Height | 1400 |
Related Image Width | 933 |
Rights | Charles D Therit (c) 2006-2012 |
Safety Shift In Av Or Tv | Disable |
Samples Per Pixel | 3 |
Saturation | Normal |
Saturation Adjustment Aqua | 0 |
Saturation Adjustment Blue | 0 |
Saturation Adjustment Green | 0 |
Saturation Adjustment Magenta | 0 |
Saturation Adjustment Orange | 0 |
Saturation Adjustment Purple | 0 |
Saturation Adjustment Red | 0 |
Saturation Adjustment Yellow | -7 |
Saturation Faithful | 0 |
Saturation Landscape | 0 |
Saturation Neutral | 0 |
Saturation Portrait | 0 |
Saturation Standard | 0 |
Saturation User Def 1 | 2 |
Saturation User Def 2 | 0 |
Saturation User Def 3 | 0 |
Scale Factor To 35 mm Equivalent | 1.0 |
Scene Capture Type | Standard |
Self Timer | Off |
Sequence Number | 0 |
Set Function When Shooting | Default (no function) |
Shadow Tint | 0 |
Shadows 2012 | +14 |
Sharpen Detail | 25 |
Sharpen Edge Masking | 30 |
Sharpen Radius | +1.0 |
Sharpness | Hard |
Sharpness Faithful | 5 |
Sharpness Landscape | 4 |
Sharpness Monochrome | 3 |
Sharpness Neutral | 0 |
Sharpness Portrait | 2 |
Sharpness Standard | 3 |
Sharpness User Def 1 | 5 |
Sharpness User Def 2 | 7 |
Sharpness User Def 3 | 4 |
Shooting Mode | Aperture-priority AE |
Short Owner Name | Charles D Therit |
Shutter-AE Lock | AF/AE lock |
Shutter Curtain Sync | 1st-curtain sync |
Split Toning Balance | 0 |
Split Toning Highlight Hue | 0 |
Split Toning Highlight Saturation | 0 |
Split Toning Shadow Hue | 0 |
Split Toning Shadow Saturation | 0 |
State | Nevada |
Subject | 1/4, 16 mm, 5D, 5D Classic, 5D Mark 1, 5D Mark I, Aperture-priority AE, Canon, Canon EF 16-35mm f/2.8L II USM, Center-weighted average, Did not fire, digital, EF16-35mm f/2.8L II USM, EOS, EOS 5D, esplora, Explore, explored, f/8.0, Flash Off, ISO3200, photo, pic, pretty, renown, ultra wide angle, United States, USA, wide angle |
Superimposed Display | On |
Tint | +33 |
Title | Desert Palm |
Tone Curve | Standard |
Tone Curve Blue | 0, 0, 255, 255 |
Tone Curve Green | 0, 0, 255, 255 |
Tone Curve Name | Linear |
Tone Curve Name 2012 | Linear |
Tone Curve PV2012 | 0, 0, 255, 255 |
Tone Curve PV2012 Blue | 0, 0, 255, 255 |
Tone Curve PV2012 Green | 0, 0, 255, 255 |
Tone Curve PV2012 Red | 0, 0, 255, 255 |
Tone Curve Red | 0, 0, 255, 255 |
Toning Effect Monochrome | None |
User Def 1 Picture Style | Monochrome |
User Def 2 Picture Style | Faithful |
User Def 3 Picture Style | Landscape |
VRD Offset | 12424 |
Valid AF Points | 15 |
Version | 8.7.1 |
Vibrance | +17 |
Vignette Amount | 0 |
WB RGGB Levels | 2025 1193 1193 2835 |
WB RGGB Levels As Shot | 2025 1193 1193 2835 |
WB RGGB Levels Auto | 2025 1193 1193 2835 |
WB RGGB Levels Cloudy | 2194 1024 1024 1406 |
WB RGGB Levels Custom | 1713 1095 1095 2498 |
WB RGGB Levels Daylight | 2036 1024 1024 1549 |
WB RGGB Levels Flash | 2255 1024 1024 1344 |
WB RGGB Levels Fluorescent | 1835 1052 1052 2259 |
WB RGGB Levels Kelvin | 2036 1024 1024 1549 |
WB RGGB Levels Measured | 1297 1207 1176 5524 |
WB RGGB Levels PC1 | 2036 1024 1024 1549 |
WB RGGB Levels PC2 | 2036 1024 1024 1549 |
WB RGGB Levels PC3 | 2036 1024 1024 1549 |
WB RGGB Levels Shade | 2341 1024 1024 1288 |
WB RGGB Levels Tungsten | 1566 1136 1136 2728 |
Whites 2012 | -17 |
Zoom Source Width | 0 |
Zoom Target Width | 0 |
GPS Information |
GPS Altitude | 616 m Above Sea Level |
GPS Altitude Ref | Above Sea Level |
GPS Date Stamp | 2012:03:24 |
GPS Date/Time | 2012:03:24 01:48:36Z |
GPS Latitude | 36 deg 10' 11.79" N |
GPS Latitude Ref | North |
GPS Longitude | 115 deg 8' 23.39" W |
GPS Longitude Ref | West |
GPS Map Datum | WGS-84 |
GPS Position | 36 deg 10' 11.79" N, 115 deg 8' 23.39" W |
GPS Time Stamp | 01:48:36 |
GPS Version ID | 2.2.0.0 |