Shooting information for this photo
Camera: | Canon EOS 7D |
Exposure: | 0.001 sec. (1/1000) |
Aperture: | f/6.3 |
Focal Length: | 800.0 mm (35 mm equivalent: 4811.3 mm) |
Flash: | Off, Did not fire |
Exposure mode: | Shutter speed priority AE |
Max Aperture: | 5.7 |
Resolution: | 72 x 72 dpi |
Dimension: | 1414 x 801 pixels |
Original Date: | 2017:10:22 12:27:05.11 |
Digitized Date: | 2017:10:22 12:27:05-06:00 |
Created on: | 2017:10:22 12:27:05.11 |
Software: | Adobe Photoshop Lightroom 5.7.1 (Windows) |
Copyright: | Charles D Therit (c) 2014-2017 |
AEB Auto Cancel | On |
AEB Sequence | 0,-,+ |
AF Area Mode | AF Point Expansion |
AF Assist Beam | Emits |
AF Image Height | 3456 |
AF Image Width | 5184 |
AF Micro Adj Mode | Disable |
AF Micro Adj Value | 0 |
AF Microadjustment | Disable; 0; 0; 0; 0 |
AF Points In Focus | 9 |
AF Points Selected | 5,8,9,10,13 |
AI Servo Image Priority | 1: AF, 2: Tracking |
AI Servo Tracking Method | Continuous AF track priority |
AI Servo Tracking Sensitivity | Fast |
Add Aspect Ratio Info | Off |
Add Original Decision Data | Off |
Already Applied | True |
Artist | Charles D Therit (c) 2014-2017 |
Aspect Ratio | Unknown (256) |
Auto Lateral CA | 0 |
Auto Lighting Optimizer | Off |
Auto White Version | 134348800 |
Base URL | https://www.flickr.com/photos/ ctofcsco |
Blacks 2012 | -21 |
Blue Balance | 1.356445 |
Blue Hue | 0 |
Blue Saturation | 0 |
Camera Orientation | Horizontal (normal) |
Camera Profile | Adobe Standard |
Camera Temperature | 19 C |
Camera Type | EOS High-end |
Canon Exposure Mode | Shutter speed priority AE |
Canon Firmware Version | Firmware Version 2.0.6 |
Canon Flash Mode | Off |
Canon Image Size | Unknown (-1) |
Canon Model ID | EOS 7D |
Chromatic Aberration Corr | Off |
Chromatic Aberration Setting | Off |
Circle Of Confusion | 0.005 mm |
Clarity 2012 | +14 |
Color Data Version | 7 (500D/550D/7D/1DmkIV) |
Color Noise Reduction | 25 |
Color Noise Reduction Detail | 50 |
Color Noise Reduction Smoothness | 50 |
Color Space | sRGB |
Color Temp As Shot | 5785 |
Color Temp Auto | 5785 |
Color Temp Cloudy | 6000 |
Color Temp Daylight | 5200 |
Color Temp Flash | 6155 |
Color Temp Fluorescent | 3769 |
Color Temp Kelvin | 5200 |
Color Temp Measured | 10900 |
Color Temp Shade | 7000 |
Color Temp Tungsten | 3200 |
Color Tone | Normal |
Color Tone Faithful | 0 |
Color Tone Landscape | 0 |
Color Tone Neutral | 0 |
Color Tone Portrait | 0 |
Color Tone Standard | 0 |
Color Tone User Def 1 | 0 |
Color Tone User Def 2 | 0 |
Color Tone User Def 3 | 0 |
Continuous Drive | Continuous, High |
Contrast | Normal |
Contrast 2012 | -22 |
Contrast Faithful | 0 |
Contrast Landscape | 0 |
Contrast Monochrome | 0 |
Contrast Neutral | 0 |
Contrast Portrait | 0 |
Contrast Standard | 1 |
Contrast User Def 1 | 0 |
Contrast User Def 2 | 0 |
Contrast User Def 3 | 0 |
Convert To Grayscale | False |
Country | United States |
Country Code | USA |
Creator | Charles D Therit (c) 2014-2017 |
Crop Angle | 0 |
Crop Bottom | 0.791973 |
Crop Bottom Margin | 0 |
Crop Constrain To Warp | 0 |
Crop Height | 0 |
Crop Left | 0.195916 |
Crop Left Margin | 0 |
Crop Right | 0.796521 |
Crop Right Margin | 0 |
Crop Top | 0.285213 |
Crop Top Margin | 0 |
Crop Width | 0 |
Cropped Image Height | 3456 |
Cropped Image Left | 0 |
Cropped Image Top | 0 |
Cropped Image Width | 5184 |
Custom Controls | 0 0 0 0 0 0 0 0 0 0 0 0 0 0 0 0 0 0 0 0 0 222 222 222 222 |
Custom Rendered | Normal |
Defringe Green Amount | 0 |
Defringe Green Hue Hi | 60 |
Defringe Green Hue Lo | 40 |
Defringe Purple Amount | 0 |
Defringe Purple Hue Hi | 70 |
Defringe Purple Hue Lo | 30 |
Description | Sandhill Cranes.<b>Monte Vista NWR, Monte Vista, CO</b>..Sandhill Cranes (Antigone canadensis).ORDER: Gruiformes.FAMILY: Gruidae..<a href="https://www.allabou tbirds.org/guide/Sandhill_Cran e/overview" rel="noreferrer nofollow">www.allabout birds.org/guide/Sandhill_Crane /overview</a>.<a href="https://www.fws.gov /refuge/monte_vista/" rel="noreferrer nofollow">www.fws.gov/ refuge/monte_vista/</a> |
Dial Direction Tv Av | Normal |
Digital Zoom | None |
Display All AF Points | Disable |
Drive Mode | Continuous Shooting |
Easy Mode | Manual |
Exposure 2012 | +1.00 |
Exposure Level Increments | 1/3 Stop |
Exposure Mode | Auto |
Field Of View | 0.4 deg |
File Number | 100-1807 |
Filter Effect Monochrome | None |
Filter Effect User Def 1 | None |
Filter Effect User Def 2 | None |
Filter Effect User Def 3 | None |
Firmware | 2.0.6 |
Firmware Version | 2.0.6 |
Flash Activity | 0 |
Flash Bits | (none) |
Flash Compensation | 0 |
Flash Fired | False |
Flash Function | False |
Flash Metering Mode | Off |
Flash Mode | Off |
Flash Red Eye Mode | False |
Flash Return | No return detection |
Flash Sync Speed Av | Auto |
Focal Units | 1/mm |
Focus Display AI Servo And MF | Enable |
Focus Distance Lower | 0 m |
Focus Distance Upper | 0 m |
Focus Mode | AI Servo AF |
Focus Range | Not Known |
Format | image/jpeg |
Grain Amount | 0 |
Green Hue | 0 |
Green Saturation | 0 |
Has Crop | True |
Has Settings | True |
High ISO Noise Reduction | Standard |
Highlight Tone Priority | Disable |
Highlights 2012 | -29 |
Hue Adjustment Aqua | 0 |
Hue Adjustment Blue | 0 |
Hue Adjustment Green | 0 |
Hue Adjustment Magenta | 0 |
Hue Adjustment Orange | 0 |
Hue Adjustment Purple | 0 |
Hue Adjustment Red | 0 |
Hue Adjustment Yellow | 0 |
Hyperfocal Distance | 20333.95 m |
ISO | 125 |
ISO Expansion | On |
ISO Speed Increments | 1/3 Stop |
Image Description | Sandhill Cranes.<b>Monte Vista NWR, Monte Vista, CO</b>..Sandhill Cranes (Antigone canadensis).ORDER: Gruiformes.FAMILY: Gruidae..<a href="https://www.allabou tbirds.org/guide/Sandhill_Cran e/overview" rel="noreferrer nofollow">www.allabout birds.org/guide/Sandhill_Crane /overview</a>.<a href="https://www.fws.gov /refuge/monte_vista/" rel="noreferrer nofollow">www.fws.gov/ refuge/monte_vista/</a> |
Image Number | 0 |
Image Size | 1414x801 |
Lens | 800.0 mm (35 mm equivalent: 4811.3 mm) |
Lens Drive No AF | Focus search on |
Lens ID | Canon EF 400mm f/2.8L + 2x |
Lens Info | 800mm f/0 |
Lens Manual Distortion Amount | 0 |
Lens Model | EF400mm f/2.8L II USM +2.0x |
Lens Profile Enable | 0 |
Lens Profile Setup | LensDefaults |
Lens Type | Canon EF 400mm f/2.8L |
Light Value | 15.0 |
Location | Zinzer |
Long Exposure Noise Reduction | Off |
Luminance Adjustment Aqua | 0 |
Luminance Adjustment Blue | 0 |
Luminance Adjustment Green | 0 |
Luminance Adjustment Magenta | 0 |
Luminance Adjustment Orange | 0 |
Luminance Adjustment Purple | 0 |
Luminance Adjustment Red | 0 |
Luminance Adjustment Yellow | 0 |
Luminance Noise Reduction Contrast | 18 |
Luminance Noise Reduction Detail | 50 |
Luminance Smoothing | 11 |
Macro Mode | Normal |
Manual AF Point Select Pattern | Stops at AF area edges |
Manual Flash Output | n/a |
Max Aperture | 5.7 |
Max Focal Length | 800 mm |
Measured RGGB | 317 1024 1024 1103 |
Metering Mode | Spot |
Min Aperture | 64 |
Min Focal Length | 800 mm |
Mirror Lockup | Disable |
Num AF Points | 19 |
Optical Zoom Code | n/a |
Orientation Linked AF Point | Select different AF points |
Original Decision Data Offset | 0 |
Original Image Height | 3456 |
Original Image Width | 5184 |
Owner Name | Charles D Therit copyright 2017 |
Parametric Darks | 0 |
Parametric Highlight Split | 75 |
Parametric Highlights | 0 |
Parametric Lights | 0 |
Parametric Midtone Split | 50 |
Parametric Shadow Split | 25 |
Parametric Shadows | 0 |
Peripheral Lighting | Off |
Peripheral Lighting Setting | Off |
Peripheral Lighting Value | 0 |
Perspective Aspect | 0 |
Perspective Horizontal | 0 |
Perspective Rotate | 0.0 |
Perspective Scale | 100 |
Perspective Upright | 0 |
Perspective Vertical | 0 |
Photometric Interpretation | RGB |
Planar Configuration | Chunky |
Post Crop Vignette Amount | +2 |
Post Crop Vignette Feather | 50 |
Post Crop Vignette Midpoint | 50 |
Post Crop Vignette Roundness | 0 |
Post Crop Vignette Style | 1 |
Process Version | 6.7 |
Quality | RAW |
Rating | 4 |
Rating Percent | 75 |
Raw Measured RGGB | 80351 276394 276611 304311 |
Recommended Exposure Index | 125 |
Record Mode | CR2 |
Red Balance | 2.286133 |
Red Hue | 0 |
Red Saturation | 0 |
Related Image Height | 787 |
Related Image Width | 1400 |
Rights | Charles D Therit (c) 2014-2017 |
SRAW Quality | n/a |
Safety Shift | Disable |
Samples Per Pixel | 3 |
Saturation | Normal |
Saturation Adjustment Aqua | 0 |
Saturation Adjustment Blue | 0 |
Saturation Adjustment Green | 0 |
Saturation Adjustment Magenta | 0 |
Saturation Adjustment Orange | 0 |
Saturation Adjustment Purple | 0 |
Saturation Adjustment Red | 0 |
Saturation Adjustment Yellow | 0 |
Saturation Faithful | 0 |
Saturation Landscape | 4 |
Saturation Neutral | 0 |
Saturation Portrait | 2 |
Saturation Standard | 3 |
Saturation User Def 1 | 3 |
Saturation User Def 2 | 3 |
Saturation User Def 3 | 3 |
Scale Factor To 35 mm Equivalent | 6.0 |
Scene Capture Type | Standard |
Select AF Area Select Mode | Enable; 31 |
Self Timer | Off |
Sensitivity Type | Recommended Exposure Index |
Sequence Number | 0 |
Shadow Tint | 0 |
Shadows 2012 | +36 |
Sharpen Detail | 25 |
Sharpen Edge Masking | 29 |
Sharpen Radius | +1.0 |
Sharpness | Normal |
Sharpness Faithful | 0 |
Sharpness Landscape | 0 |
Sharpness Monochrome | 0 |
Sharpness Neutral | 0 |
Sharpness Portrait | 0 |
Sharpness Standard | 0 |
Sharpness User Def 1 | 0 |
Sharpness User Def 2 | 0 |
Sharpness User Def 3 | 0 |
Shooting Mode | Shutter speed priority AE |
Split Toning Balance | 0 |
Split Toning Highlight Hue | 0 |
Split Toning Highlight Saturation | 0 |
Split Toning Shadow Hue | 0 |
Split Toning Shadow Saturation | 0 |
State | Colorado |
Tint | +8 |
Title | Gliders |
Tone Curve | Standard |
Tone Curve Blue | 0, 0, 255, 255 |
Tone Curve Green | 0, 0, 255, 255 |
Tone Curve Name | Linear |
Tone Curve Name 2012 | Linear |
Tone Curve PV2012 | 0, 0, 255, 255 |
Tone Curve PV2012 Blue | 0, 0, 255, 255 |
Tone Curve PV2012 Green | 0, 0, 255, 255 |
Tone Curve PV2012 Red | 0, 0, 255, 255 |
Tone Curve Red | 0, 0, 255, 255 |
Toning Effect Monochrome | None |
Toning Effect User Def 1 | None |
Toning Effect User Def 2 | None |
Toning Effect User Def 3 | None |
User Def 1 Picture Style | Unknown (0) |
User Def 2 Picture Style | Unknown (0) |
User Def 3 Picture Style | Standard |
VF Display Illumination | Auto |
VRD Offset | 0 |
Valid AF Points | 19 |
Version | 8.7.1 |
Vibrance | -7 |
Vignette Amount | 0 |
WB RGGB Levels | 2341 1024 1024 1389 |
WB RGGB Levels As Shot | 2341 1024 1024 1389 |
WB RGGB Levels Auto | 2341 1024 1024 1389 |
WB RGGB Levels Cloudy | 2383 1024 1024 1360 |
WB RGGB Levels Daylight | 2217 1024 1024 1483 |
WB RGGB Levels Flash | 2439 1024 1024 1353 |
WB RGGB Levels Fluorescent | 1956 1024 1024 2110 |
WB RGGB Levels Kelvin | 2217 1024 1024 1483 |
WB RGGB Levels Measured | 3431 1020 1026 953 |
WB RGGB Levels Shade | 2570 1024 1024 1253 |
WB RGGB Levels Tungsten | 1565 1024 1024 2245 |
Whites 2012 | +24 |
Zoom Source Width | 0 |
Zoom Target Width | 0 |
GPS Information |
GPS Altitude | 2350 m Above Sea Level |
GPS Altitude Ref | Above Sea Level |
GPS Date Stamp | 2017:10:22 |
GPS Date/Time | 2017:10:22 18:27:05Z |
GPS Latitude | 37 deg 27' 35.92" N |
GPS Latitude Ref | North |
GPS Longitude | 106 deg 8' 24.52" W |
GPS Longitude Ref | West |
GPS Map Datum | WGS-84 |
GPS Position | 37 deg 27' 35.92" N, 106 deg 8' 24.52" W |
GPS Time Stamp | 18:27:05 |
GPS Version ID | 2.2.0.0 |