Shooting information for this photo
| Camera: | NIKON CORPORATION NIKON D600 |
| Exposure: | 0.01667 sec. (1/60) |
| Aperture: | f/6.3 |
| Focal Length: | 60.0 mm (35 mm equivalent: 60.0 mm) |
| Flash: | On, Red-eye reduction, Return not detected |
| Exposure mode: | Aperture-priority AE |
| Max Aperture: | 2.9 |
| Resolution: | 300 x 300 dpi |
| Dimension: | 6016 x 4016 pixels |
| Original Date: | 2019:10:26 17:09:42.20 |
| Created on: | 2019:10:26 17:09:42.20 |
| Modified on: | 2019:11:03 19:35:48.20 |
| Software: | ViewNX 2.10 W |
| Already Applied | True |
| Approximate Focus Distance | 0.79 |
| Auto Lateral CA | 0 |
| Blacks 2012 | +18 |
| Blue Hue | 0 |
| Blue Saturation | 0 |
| CFA Pattern | [Red,Green][Green,Blue] |
| Camera Profile | Adobe Standard |
| Circle Of Confusion | 0.030 mm |
| Clarity 2012 | +12 |
| Color Mode | RGB |
| Color Noise Reduction | 25 |
| Color Noise Reduction Detail | 50 |
| Color Space | Uncalibrated |
| Color Temperature | 3100 |
| Contrast | Normal |
| Contrast 2012 | +24 |
| Convert To Grayscale | False |
| Custom Rendered | Normal |
| Defringe Green Amount | 0 |
| Defringe Green Hue Hi | 60 |
| Defringe Green Hue Lo | 40 |
| Defringe Purple Amount | 0 |
| Defringe Purple Hue Hi | 70 |
| Defringe Purple Hue Lo | 30 |
| Digital Zoom Ratio | 1 |
| Exposure 2012 | +0.45 |
| Exposure Compensation | +5/3 |
| Exposure Mode | Auto |
| Field Of View | 33.4 deg |
| Focal Length In 35mm Format | 60 mm |
| Format | image/jpeg |
| Gain Control | High gain up |
| Grain Amount | 0 |
| Green Hue | 0 |
| Green Saturation | 0 |
| Has Crop | False |
| Has Settings | True |
| Highlights 2012 | 0 |
| Hue Adjustment Aqua | 0 |
| Hue Adjustment Blue | 0 |
| Hue Adjustment Green | 0 |
| Hue Adjustment Magenta | 0 |
| Hue Adjustment Orange | 0 |
| Hue Adjustment Purple | 0 |
| Hue Adjustment Red | 0 |
| Hue Adjustment Yellow | 0 |
| Hyperfocal Distance | 19.02 m |
| ICC Profile Name | sRGB IEC61966-2.1 |
| IFD0 Offset | 1240 |
| ISO | 2000 |
| Image Data Size | 2695626 |
| Image Number | 18274 |
| Image Size | 6016x4016 |
| Lens | 60.0 mm f/2.8 |
| Lens ID | AF-S Micro Nikkor 60mm f/2.8G ED |
| Lens Info | 60mm f/2.8 |
| Lens Manual Distortion Amount | 0 |
| Lens Model | 60.0 mm f/2.8 |
| Lens Profile Enable | 0 |
| Lens Profile Setup | LensDefaults |
| Light Source | Fine Weather |
| Light Value | 6.9 |
| Luminance Adjustment Aqua | 0 |
| Luminance Adjustment Blue | 0 |
| Luminance Adjustment Green | 0 |
| Luminance Adjustment Magenta | 0 |
| Luminance Adjustment Orange | 0 |
| Luminance Adjustment Purple | 0 |
| Luminance Adjustment Red | 0 |
| Luminance Adjustment Yellow | 0 |
| Luminance Smoothing | 0 |
| Maker Note Version | 2.11 |
| Metering Mode | Spot |
| NEF Bit Depth | n/a (JPEG) |
| Nikon Capture Version | ViewNX 2.10 W |
| Parametric Darks | 0 |
| Parametric Highlight Split | 75 |
| Parametric Highlights | 0 |
| Parametric Lights | 0 |
| Parametric Midtone Split | 50 |
| Parametric Shadow Split | 25 |
| Parametric Shadows | 0 |
| Perspective Horizontal | 0 |
| Perspective Rotate | 0.0 |
| Perspective Scale | 100 |
| Perspective Vertical | 0 |
| Post Crop Vignette Amount | 0 |
| Preview IFD Offset | 1140 |
| Process Version | 6.7 |
| Rating | 0 |
| Raw File Name | DSC_6685.NEF |
| Red Hue | 0 |
| Red Saturation | 0 |
| Saturation | Normal |
| Saturation Adjustment Aqua | 0 |
| Saturation Adjustment Blue | 0 |
| Saturation Adjustment Green | 0 |
| Saturation Adjustment Magenta | 0 |
| Saturation Adjustment Orange | 0 |
| Saturation Adjustment Purple | 0 |
| Saturation Adjustment Red | 0 |
| Saturation Adjustment Yellow | 0 |
| Scale Factor To 35 mm Equivalent | 1.0 |
| Scene Capture Type | Standard |
| Scene Type | Directly photographed |
| Sensing Method | One-chip color area |
| Sensitivity Type | Recommended Exposure Index |
| Shadow Tint | 0 |
| Shadows 2012 | +25 |
| Sharpen Detail | 25 |
| Sharpen Edge Masking | 0 |
| Sharpen Radius | +1.0 |
| Sharpness | Normal |
| Split Toning Balance | 0 |
| Split Toning Highlight Hue | 0 |
| Split Toning Highlight Saturation | 0 |
| Split Toning Shadow Hue | 0 |
| Split Toning Shadow Saturation | 0 |
| Subject Distance Range | Unknown |
| Tint | +8 |
| Tone Curve Name 2012 | Linear |
| Tone Curve PV2012 | 0, 0, 255, 255 |
| Tone Curve PV2012 Blue | 0, 0, 255, 255 |
| Tone Curve PV2012 Green | 0, 0, 255, 255 |
| Tone Curve PV2012 Red | 0, 0, 255, 255 |
| Version | 7.4 |
| Vibrance | 0 |
| Vignette Amount | 0 |
| White Balance | Manual |
| Whites 2012 | 0 |
X