Shooting information for this photo
| Camera: | NIKON CORPORATION NIKON D600 |
| Exposure: | 0.0025 sec. (1/400) |
| Aperture: | f/5.0 |
| Focal Length: | 135.0 mm (35 mm equivalent: 135.0 mm) |
| Flash: | Off, Did not fire |
| Exposure mode: | Aperture-priority AE |
| Max Aperture: | 2.0 |
| Resolution: | 240 x 240 dpi |
| Dimension: | 1367 x 2048 pixels |
| Original Date: | 2017:12:17 10:29:36.60 |
| Created on: | 2017:12:17 10:29:36.60 |
| Modified on: | 2017:12:17 20:54:26.60 |
| Software: | Adobe Photoshop Elements 11.0 Windows |
| Already Applied | True |
| Approximate Focus Distance | 2.24 |
| Auto Lateral CA | 0 |
| Blacks 2012 | +42 |
| Blue Hue | 0 |
| Blue Saturation | 0 |
| CFA Pattern | [Red,Green][Green,Blue] |
| Camera Profile | Adobe Standard |
| Circle Of Confusion | 0.030 mm |
| Clarity 2012 | +20 |
| Color Mode | RGB |
| Color Noise Reduction | 25 |
| Color Noise Reduction Detail | 50 |
| Color Space | sRGB |
| Color Temperature | 4400 |
| Contrast | Normal |
| Contrast 2012 | +43 |
| Convert To Grayscale | False |
| Custom Rendered | Normal |
| Date Created | 2017:12:17 10:29:36.006 |
| Defringe Green Amount | 0 |
| Defringe Green Hue Hi | 60 |
| Defringe Green Hue Lo | 40 |
| Defringe Purple Amount | 0 |
| Defringe Purple Hue Hi | 70 |
| Defringe Purple Hue Lo | 30 |
| Digital Zoom Ratio | 1 |
| Exposure 2012 | 0.00 |
| Exposure Compensation | -1/3 |
| Exposure Mode | Auto |
| Field Of View | 15.2 deg |
| Focal Length In 35mm Format | 135 mm |
| Format | image/jpeg |
| Gain Control | Low gain up |
| Grain Amount | 0 |
| Green Hue | 0 |
| Green Saturation | 0 |
| Has Crop | False |
| Has Settings | True |
| Highlights 2012 | -27 |
| Hue Adjustment Aqua | 0 |
| Hue Adjustment Blue | 0 |
| Hue Adjustment Green | 0 |
| Hue Adjustment Magenta | 0 |
| Hue Adjustment Orange | 0 |
| Hue Adjustment Purple | 0 |
| Hue Adjustment Red | 0 |
| Hue Adjustment Yellow | 0 |
| Hyperfocal Distance | 121.31 m |
| ICC Profile Name | sRGB IEC61966-2.1 |
| ISO | 800 |
| Image Number | 11624 |
| Image Size | 1367x2048 |
| Lens | 135.0 mm f/2.0 |
| Lens ID | AF DC-Nikkor 135mm f/2D |
| Lens Info | 135mm f/2 |
| Lens Manual Distortion Amount | 0 |
| Lens Model | 135.0 mm f/2.0 |
| Lens Profile Enable | 0 |
| Lens Profile Setup | LensDefaults |
| Light Source | Unknown |
| Light Value | 10.3 |
| Luminance Adjustment Aqua | 0 |
| Luminance Adjustment Blue | 0 |
| Luminance Adjustment Green | 0 |
| Luminance Adjustment Magenta | 0 |
| Luminance Adjustment Orange | 0 |
| Luminance Adjustment Purple | 0 |
| Luminance Adjustment Red | 0 |
| Luminance Adjustment Yellow | 0 |
| Luminance Smoothing | 0 |
| Metering Mode | Center-weighted average |
| Parametric Darks | 0 |
| Parametric Highlight Split | 75 |
| Parametric Highlights | 0 |
| Parametric Lights | 0 |
| Parametric Midtone Split | 50 |
| Parametric Shadow Split | 25 |
| Parametric Shadows | 0 |
| Perspective Horizontal | 0 |
| Perspective Rotate | 0.0 |
| Perspective Scale | 100 |
| Perspective Vertical | 0 |
| Post Crop Vignette Amount | 0 |
| Process Version | 6.7 |
| Rating | 5 |
| Rating Percent | 99 |
| Raw File Name | DSC_1211.NEF |
| Red Hue | 0 |
| Red Saturation | 0 |
| Saturation | Normal |
| Saturation Adjustment Aqua | 0 |
| Saturation Adjustment Blue | 0 |
| Saturation Adjustment Green | 0 |
| Saturation Adjustment Magenta | 0 |
| Saturation Adjustment Orange | 0 |
| Saturation Adjustment Purple | 0 |
| Saturation Adjustment Red | 0 |
| Saturation Adjustment Yellow | 0 |
| Scale Factor To 35 mm Equivalent | 1.0 |
| Scene Capture Type | Standard |
| Scene Type | Directly photographed |
| Sensing Method | One-chip color area |
| Sensitivity Type | Recommended Exposure Index |
| Shadow Tint | 0 |
| Shadows 2012 | +28 |
| Sharpen Detail | 25 |
| Sharpen Edge Masking | 0 |
| Sharpen Radius | +1.0 |
| Sharpness | Normal |
| Split Toning Balance | 0 |
| Split Toning Highlight Hue | 0 |
| Split Toning Highlight Saturation | 0 |
| Split Toning Shadow Hue | 0 |
| Split Toning Shadow Saturation | 0 |
| Subject Distance Range | Unknown |
| Tint | +10 |
| Tone Curve Name 2012 | Linear |
| Tone Curve PV2012 | 0, 0, 255, 255 |
| Tone Curve PV2012 Blue | 0, 0, 255, 255 |
| Tone Curve PV2012 Green | 0, 0, 255, 255 |
| Tone Curve PV2012 Red | 0, 0, 255, 255 |
| Version | 7.4 |
| Vibrance | +13 |
| Vignette Amount | 0 |
| White Balance | Auto |
| Whites 2012 | 0 |
X