Shooting information for this photo
Camera: | NIKON CORPORATION NIKON D7000 |
Exposure: | 0.00125 sec. (1/800) |
Aperture: | f/9.0 |
Focal Length: | 42.0 mm (35 mm equivalent: 63.0 mm) |
Flash: | Off, Did not fire |
Exposure mode: | Manual |
Max Aperture: | 4.8 |
Resolution: | 240 x 240 dpi |
Dimension: | 795 x 1200 pixels |
Original Date: | 2015:08:19 18:22:38.30 |
Created on: | 2015:08:19 18:22:38.30 |
Modified on: | 2015:08:31 18:28:36.30 |
Software: | Adobe Photoshop CS6 (Windows) |
Copyright: | Contremo |
Already Applied | True |
Approximate Focus Distance | 2.82 |
Artist | Contremo |
Auto Lateral CA | 0 |
Blacks 2012 | 0 |
Blue Hue | 0 |
Blue Saturation | 0 |
Brightness | +50 |
CFA Pattern | [Red,Green][Green,Blue] |
Camera Profile | Adobe Standard |
Circle Of Confusion | 0.020 mm |
Clarity | 0 |
Clarity 2012 | +91 |
Color Mode | RGB |
Color Noise Reduction | 100 |
Color Noise Reduction Detail | 100 |
Color Space | Uncalibrated |
Color Temperature | 5700 |
Contrast | Normal |
Contrast 2012 | -7 |
Convert To Grayscale | False |
Creator | Contremo |
Custom Rendered | Normal |
Date Created | 2015:08:19 18:22:38.003 |
Defringe | 0 |
Digital Zoom Ratio | 1 |
Exposure | 0.00 |
Exposure 2012 | +0.90 |
Exposure Compensation | 0 |
Exposure Mode | Manual |
Field Of View | 31.9 deg |
Fill Light | 0 |
Focal Length In 35mm Format | 63 mm |
Format | image/jpeg |
Gain Control | None |
Grain Amount | 0 |
Green Hue | 0 |
Green Saturation | 0 |
Has Crop | False |
Has Settings | True |
Highlight Recovery | 0 |
Highlights 2012 | -100 |
Hue Adjustment Aqua | 0 |
Hue Adjustment Blue | 0 |
Hue Adjustment Green | 0 |
Hue Adjustment Magenta | 0 |
Hue Adjustment Orange | 0 |
Hue Adjustment Purple | 0 |
Hue Adjustment Red | 0 |
Hue Adjustment Yellow | 0 |
Hyperfocal Distance | 9.78 m |
ICC Profile Name | Adobe RGB (1998) |
ISO | 200 |
Image Number | 26933 |
Image Size | 795x1200 |
Lens | 18.0-105.0 mm f/3.5-5.6 |
Lens ID | AF-S DX VR Zoom-Nikkor 18-105mm f/3.5-5.6G ED |
Lens Info | 18-105mm f/3.5-5.6 |
Lens Manual Distortion Amount | 0 |
Lens Model | 18.0-105.0 mm f/3.5-5.6 |
Lens Profile Enable | 0 |
Lens Profile Setup | LensDefaults |
Light Source | Cloudy |
Light Value | 15.0 |
Luminance Adjustment Aqua | 0 |
Luminance Adjustment Blue | 0 |
Luminance Adjustment Green | 0 |
Luminance Adjustment Magenta | 0 |
Luminance Adjustment Orange | 0 |
Luminance Adjustment Purple | 0 |
Luminance Adjustment Red | -51 |
Luminance Adjustment Yellow | -24 |
Luminance Noise Reduction Contrast | 100 |
Luminance Noise Reduction Detail | 100 |
Luminance Smoothing | 100 |
Metering Mode | Spot |
Parametric Darks | -6 |
Parametric Highlight Split | 75 |
Parametric Highlights | +30 |
Parametric Lights | -12 |
Parametric Midtone Split | 50 |
Parametric Shadow Split | 25 |
Parametric Shadows | +23 |
Perspective Horizontal | 0 |
Perspective Rotate | 0.0 |
Perspective Scale | 100 |
Perspective Vertical | 0 |
Post Crop Vignette Amount | 0 |
Process Version | 6.7 |
Rating | 0 |
Raw File Name | DSC_6883.NEF |
Red Hue | 0 |
Red Saturation | 0 |
Rights | Contremo |
Saturation | Normal |
Saturation Adjustment Aqua | 0 |
Saturation Adjustment Blue | 0 |
Saturation Adjustment Green | 0 |
Saturation Adjustment Magenta | 0 |
Saturation Adjustment Orange | -5 |
Saturation Adjustment Purple | 0 |
Saturation Adjustment Red | -4 |
Saturation Adjustment Yellow | -13 |
Scale Factor To 35 mm Equivalent | 1.5 |
Scene Capture Type | Standard |
Scene Type | Directly photographed |
Sensing Method | One-chip color area |
Sensitivity Type | Recommended Exposure Index |
Shadow Tint | 0 |
Shadows | 5 |
Shadows 2012 | +68 |
Sharpen Detail | 25 |
Sharpen Edge Masking | 0 |
Sharpen Radius | +1.0 |
Sharpness | Normal |
Split Toning Balance | 0 |
Split Toning Highlight Hue | 0 |
Split Toning Highlight Saturation | 0 |
Split Toning Shadow Hue | 0 |
Split Toning Shadow Saturation | 0 |
Subject Distance Range | Unknown |
Tint | +8 |
Tone Curve | 0, 0, 32, 22, 64, 56, 128, 128, 192, 196, 255, 255 |
Tone Curve Blue | 0, 0, 255, 255 |
Tone Curve Green | 0, 0, 255, 255 |
Tone Curve Name | Medium Contrast |
Tone Curve Name 2012 | Linear |
Tone Curve PV2012 | 0, 0, 255, 255 |
Tone Curve PV2012 Blue | 0, 0, 255, 255 |
Tone Curve PV2012 Green | 0, 0, 255, 255 |
Tone Curve PV2012 Red | 0, 0, 255, 255 |
Tone Curve Red | 0, 0, 255, 255 |
Version | 7.0 |
Vibrance | -7 |
Vignette Amount | 0 |
White Balance | Manual |
Whites 2012 | -59 |