Shooting information for this photo
Camera: | FUJIFILM FinePix S5Pro |
Exposure: | 3.6 sec. |
Aperture: | f/22.0 |
Focal Length: | 35.0 mm (35 mm equivalent: 53.0 mm) |
Flash: | Off, Did not fire |
Exposure mode: | Aperture-priority AE |
Max Aperture: | 2.0 |
Resolution: | 240 x 240 dpi |
Dimension: | 1682 x 1149 pixels |
Original Date: | 2009:06:20 22:22:22 |
Digitized Date: | 2009:06:20 22:22:22+02:00 |
Created on: | 2009:06:20 22:22:22 |
Modified on: | 2009:07:14 23:51:07 |
Software: | Adobe Photoshop CS4 Windows |
Copyright: | Christophe Carassou - 2009 |
Already Applied | True |
Artist | Christophe.carassou |
Blue Hue | 0 |
Blue Saturation | 0 |
Brightness | +50 |
Brightness Value | 0.91 |
Camera Profile | Adobe Standard |
Chromatic Aberration B | 0 |
Chromatic Aberration R | 0 |
Circle Of Confusion | 0.020 mm |
Clarity | 0 |
Color Mode | RGB |
Color Noise Reduction | 25 |
Color Space | Uncalibrated |
Color Temperature | 3944 |
Contrast | +25 |
Convert To Grayscale | False |
Creator | Christophe.carassou |
Crop Angle | 0 |
Crop Bottom | 0.998127 |
Crop Height | 1067 |
Crop Left | 0.033869 |
Crop Right | 1 |
Crop Top | 0.035615 |
Crop Width | 1600 |
Custom Rendered | Normal |
Defringe | 0 |
Exposure | 0.00 |
Exposure Compensation | 0 |
Exposure Mode | Auto |
Field Of View | 37.5 deg |
Fill Light | 5 |
Flash Fired | False |
Flash Function | False |
Flash Mode | Off |
Flash Red Eye Mode | False |
Flash Return | No return detection |
Focal Length In 35mm Format | 53 mm |
Format | image/jpeg |
Green Hue | 0 |
Green Saturation | 0 |
Has Crop | True |
Has Settings | True |
Highlight Recovery | 44 |
Hue Adjustment Aqua | 0 |
Hue Adjustment Blue | 0 |
Hue Adjustment Green | 0 |
Hue Adjustment Magenta | 0 |
Hue Adjustment Orange | 0 |
Hue Adjustment Purple | 0 |
Hue Adjustment Red | 0 |
Hue Adjustment Yellow | 0 |
Hyperfocal Distance | 2.81 m |
ISO | 200 |
Image Size | 1682x1149 |
Lens | 35.0 mm f/2.0 |
Lens Info | 35mm f/2 |
Light Source | Unknown |
Light Value | 6.1 |
Luminance Adjustment Aqua | 0 |
Luminance Adjustment Blue | 0 |
Luminance Adjustment Green | 0 |
Luminance Adjustment Magenta | 0 |
Luminance Adjustment Orange | 0 |
Luminance Adjustment Purple | 0 |
Luminance Adjustment Red | 0 |
Luminance Adjustment Yellow | 0 |
Luminance Smoothing | 0 |
Marked | True |
Metering Mode | Multi-segment |
Parametric Darks | 0 |
Parametric Highlight Split | 75 |
Parametric Highlights | 0 |
Parametric Lights | +9 |
Parametric Midtone Split | 50 |
Parametric Shadow Split | 25 |
Parametric Shadows | 0 |
Red Hue | 0 |
Red Saturation | 0 |
Rights | Christophe Carassou - 2009 |
Saturation | 0 |
Saturation Adjustment Aqua | 0 |
Saturation Adjustment Blue | 0 |
Saturation Adjustment Green | 0 |
Saturation Adjustment Magenta | 0 |
Saturation Adjustment Orange | 0 |
Saturation Adjustment Purple | 0 |
Saturation Adjustment Red | 0 |
Saturation Adjustment Yellow | 0 |
Scale Factor To 35 mm Equivalent | 1.5 |
Scene Capture Type | Standard |
Scene Type | Directly photographed |
Sensing Method | One-chip color area |
Shadow Tint | 0 |
Shadows | 5 |
Sharpen Detail | 25 |
Sharpen Edge Masking | 0 |
Sharpen Radius | +1.0 |
Sharpness | 25 |
Split Toning Balance | 0 |
Split Toning Highlight Hue | 0 |
Split Toning Highlight Saturation | 0 |
Split Toning Shadow Hue | 0 |
Split Toning Shadow Saturation | 0 |
Subject | versailles |
Subject Distance Range | Unknown |
Tint | -11 |
Tone Curve | 0, 0, 32, 16, 64, 50, 128, 128, 192, 202, 255, 255 |
Tone Curve Name | Strong Contrast |
Version | 5.3 |
Vibrance | 0 |
Vignette Amount | 0 |
White Balance | Custom |