Shooting information for this photo
| Camera: | Canon PowerShot SX530 HS |
| Exposure: | 0.00313 sec. (1/320) |
| Aperture: | f/4.5 |
| Focal Length: | 10.9 mm (35 mm equivalent: 61.2 mm) |
| Flash: | Off, Did not fire |
| Max Aperture: | 4.5 |
| Resolution: | 240 x 240 dpi |
| Original Date: | 2020:10:12 18:15:09 |
| Created on: | 2020:10:12 18:15:09 |
| Modified on: | 2020:12:16 23:01:59 |
| Software: | Adobe Lightroom 4.1 (Windows) |
| Already Applied | True |
| Approximate Focus Distance | 2.82 |
| Auto Lateral CA | 0 |
| Blacks 2012 | -13 |
| Blue Hue | 0 |
| Blue Saturation | 0 |
| Camera Profile | Embedded |
| Circle Of Confusion | 0.005 mm |
| Clarity 2012 | 0 |
| Color Grade Blending | 50 |
| Color Grade Global Hue | 0 |
| Color Grade Global Lum | 0 |
| Color Grade Global Sat | 0 |
| Color Grade Highlight Lum | 0 |
| Color Grade Midtone Hue | 0 |
| Color Grade Midtone Lum | 0 |
| Color Grade Midtone Sat | 0 |
| Color Grade Shadow Lum | 0 |
| Color Noise Reduction | 0 |
| Color Space | sRGB |
| Contrast 2012 | +8 |
| Convert To Grayscale | False |
| Crop Angle | 0 |
| Crop Bottom | 1 |
| Crop Constrain To Warp | 0 |
| Crop Left | 0 |
| Crop Right | 1 |
| Crop Top | 0 |
| Custom Rendered | Normal |
| Date Created | 2020:10:12 18:15:09 |
| Defringe Green Amount | 0 |
| Defringe Green Hue Hi | 60 |
| Defringe Green Hue Lo | 40 |
| Defringe Purple Amount | 0 |
| Defringe Purple Hue Hi | 70 |
| Defringe Purple Hue Lo | 30 |
| Dehaze | 0 |
| Digital Zoom Ratio | 1 |
| Exposure 2012 | +0.05 |
| Exposure Compensation | 0 |
| Exposure Mode | Auto |
| Field Of View | 32.8 deg |
| Firmware | 1.00 |
| Flash Compensation | 0 |
| Format | image/jpeg |
| Grain Amount | 0 |
| Green Hue | 0 |
| Green Saturation | 0 |
| Has Crop | False |
| Has Settings | True |
| Highlights 2012 | +4 |
| Hue Adjustment Aqua | 0 |
| Hue Adjustment Blue | 0 |
| Hue Adjustment Green | 0 |
| Hue Adjustment Magenta | 0 |
| Hue Adjustment Orange | 0 |
| Hue Adjustment Purple | 0 |
| Hue Adjustment Red | 0 |
| Hue Adjustment Yellow | 0 |
| Hyperfocal Distance | 4.93 m |
| ISO | 200 |
| Image Size | 4608x3456 |
| Incremental Temperature | 0 |
| Incremental Tint | 0 |
| Lens | 4.3-215.0 mm |
| Lens Info | 4.3-215mm f/? |
| Lens Manual Distortion Amount | 0 |
| Lens Model | 4.3-215.0 mm |
| Lens Profile Enable | 0 |
| Light Value | 11.7 |
| Luminance Adjustment Aqua | 0 |
| Luminance Adjustment Blue | 0 |
| Luminance Adjustment Green | 0 |
| Luminance Adjustment Magenta | 0 |
| Luminance Adjustment Orange | 0 |
| Luminance Adjustment Purple | 0 |
| Luminance Adjustment Red | 0 |
| Luminance Adjustment Yellow | 0 |
| Luminance Smoothing | 0 |
| Metering Mode | Multi-segment |
| Override Look Vignette | False |
| Parametric Darks | 0 |
| Parametric Highlight Split | 75 |
| Parametric Highlights | 0 |
| Parametric Lights | 0 |
| Parametric Midtone Split | 50 |
| Parametric Shadow Split | 25 |
| Parametric Shadows | 0 |
| Perspective Aspect | 0 |
| Perspective Horizontal | 0 |
| Perspective Rotate | 0.0 |
| Perspective Scale | 100 |
| Perspective Upright | 0 |
| Perspective Vertical | 0 |
| Perspective X | 0.00 |
| Perspective Y | 0.00 |
| Post Crop Vignette Amount | 0 |
| Process Version | 11.0 |
| Red Hue | 0 |
| Red Saturation | 0 |
| Saturation | +8 |
| Saturation Adjustment Aqua | 0 |
| Saturation Adjustment Blue | 0 |
| Saturation Adjustment Green | 0 |
| Saturation Adjustment Magenta | 0 |
| Saturation Adjustment Orange | 0 |
| Saturation Adjustment Purple | 0 |
| Saturation Adjustment Red | 0 |
| Saturation Adjustment Yellow | 0 |
| Scale Factor To 35 mm Equivalent | 5.6 |
| Scene Capture Type | Standard |
| Sensing Method | One-chip color area |
| Sensitivity Type | Standard Output Sensitivity and Recommended Exposure Index |
| Shadow Tint | 0 |
| Shadows 2012 | +22 |
| Sharpness | 0 |
| Split Toning Balance | 0 |
| Split Toning Highlight Hue | 0 |
| Split Toning Highlight Saturation | 0 |
| Split Toning Shadow Hue | 0 |
| Split Toning Shadow Saturation | 0 |
| Texture | 0 |
| Tone Curve Name 2012 | Linear |
| Tone Curve PV2012 | 0, 0, 255, 255 |
| Tone Curve PV2012 Blue | 0, 0, 255, 255 |
| Tone Curve PV2012 Green | 0, 0, 255, 255 |
| Tone Curve PV2012 Red | 0, 0, 255, 255 |
| Version | 13.1 |
| Vibrance | +13 |
| Vignette Amount | 0 |
| White Balance | Auto |
| Whites 2012 | +9 |
X