Shooting information for this photo
| Camera: | Canon EOS 5D Mark II |
| Exposure: | 0.002 sec. (1/500) |
| Aperture: | f/8.0 |
| Focal Length: | 40.0 mm (35 mm equivalent: 192.8 mm) |
| Flash: | Off, Did not fire |
| Exposure mode: | Aperture-priority AE |
| Max Aperture: | 4.0 |
| Resolution: | 240 x 240 dpi |
| Dimension: | 1024 x 909 pixels |
| Original Date: | 2010:01:15 19:05:18.19 |
| Digitized Date: | 2010:01:15 19:05:18.19+01:00 |
| Created on: | 2010:01:15 19:05:18.19 |
| Modified on: | 2010:03:06 22:59:27.19 |
| Software: | Adobe Photoshop CS4 Windows |
| Already Applied | True |
| Blue Hue | 0 |
| Blue Saturation | 0 |
| Brightness | +50 |
| Camera Profile | Adobe Standard |
| Chromatic Aberration B | 0 |
| Chromatic Aberration R | 0 |
| Circle Of Confusion | 0.006 mm |
| Clarity | +11 |
| Color Mode | RGB |
| Color Noise Reduction | 25 |
| Color Space | sRGB |
| Color Temperature | 5400 |
| Contrast | +25 |
| Convert To Grayscale | False |
| Custom Rendered | Normal |
| Defringe | 0 |
| Exposure | 0.00 |
| Exposure Compensation | -1/3 |
| Exposure Mode | Auto |
| Field Of View | 10.7 deg |
| Fill Light | 0 |
| Firmware | 1.0.7 |
| Flash Compensation | 0 |
| Flash Fired | False |
| Flash Function | False |
| Flash Mode | Off |
| Flash Red Eye Mode | False |
| Flash Return | No return detection |
| Format | image/jpeg |
| Green Hue | 0 |
| Green Saturation | 0 |
| Has Crop | False |
| Has Settings | True |
| Highlight Recovery | 0 |
| Hue Adjustment Aqua | 0 |
| Hue Adjustment Blue | 0 |
| Hue Adjustment Green | 0 |
| Hue Adjustment Magenta | 0 |
| Hue Adjustment Orange | 0 |
| Hue Adjustment Purple | 0 |
| Hue Adjustment Red | 0 |
| Hue Adjustment Yellow | 0 |
| Hyperfocal Distance | 32.09 m |
| ICC Profile Name | sRGB IEC61966-2.1 |
| ISO | 100 |
| Image Number | 0 |
| Image Size | 1024x909 |
| Lens | EF24-105mm f/4L IS USM |
| Lens Info | 24-105mm f/? |
| Light Value | 15.0 |
| Luminance Adjustment Aqua | 0 |
| Luminance Adjustment Blue | 0 |
| Luminance Adjustment Green | 0 |
| Luminance Adjustment Magenta | 0 |
| Luminance Adjustment Orange | 0 |
| Luminance Adjustment Purple | 0 |
| Luminance Adjustment Red | 0 |
| Luminance Adjustment Yellow | 0 |
| Luminance Smoothing | 0 |
| Metering Mode | Multi-segment |
| Parametric Darks | -6 |
| Parametric Highlight Split | 75 |
| Parametric Highlights | 0 |
| Parametric Lights | +19 |
| Parametric Midtone Split | 50 |
| Parametric Shadow Split | 25 |
| Parametric Shadows | 0 |
| Post Crop Vignette Amount | 0 |
| Rating | 0 |
| Raw File Name | IMG_8118.CR2 |
| Red Hue | 0 |
| Red Saturation | 0 |
| Saturation | 0 |
| Saturation Adjustment Aqua | 0 |
| Saturation Adjustment Blue | 0 |
| Saturation Adjustment Green | 0 |
| Saturation Adjustment Magenta | 0 |
| Saturation Adjustment Orange | 0 |
| Saturation Adjustment Purple | 0 |
| Saturation Adjustment Red | 0 |
| Saturation Adjustment Yellow | 0 |
| Scale Factor To 35 mm Equivalent | 4.8 |
| Scene Capture Type | Standard |
| Shadow Tint | 0 |
| Shadows | 5 |
| Sharpen Detail | 25 |
| Sharpen Edge Masking | 0 |
| Sharpen Radius | +1.0 |
| Sharpness | 25 |
| Sidecar For Extension | CR2 |
| Split Toning Balance | 0 |
| Split Toning Highlight Hue | 0 |
| Split Toning Highlight Saturation | 0 |
| Split Toning Shadow Hue | 0 |
| Split Toning Shadow Saturation | 0 |
| Tint | +4 |
| Tone Curve | 0, 0, 32, 22, 64, 56, 128, 128, 192, 196, 255, 255 |
| Tone Curve Name | Medium Contrast |
| Version | 5.5 |
| Vibrance | 0 |
| Vignette Amount | 0 |
| White Balance | As Shot |
X