Shooting information for this photo
| Camera: | Canon EOS 5D Mark II |
| Exposure: | 0.01 sec. (1/100) |
| Aperture: | f/8.0 |
| Focal Length: | 24.0 mm (35 mm equivalent: 103.8 mm) |
| Flash: | Off, Did not fire |
| Exposure mode: | Manual |
| Max Aperture: | 4.0 |
| Resolution: | 946.404 x 946.404 dpi |
| Dimension: | 1080 x 1080 pixels |
| Original Date: | 2012:07:26 13:54:49.69 |
| Created on: | 2012:07:26 13:54:49.69 |
| Modified on: | 2012:12:08 23:26:58.69 |
| Software: | Adobe Photoshop CS5.1 Windows |
| Already Applied | True |
| Approximate Focus Distance | 6.51 |
| Auto Lateral CA | 1 |
| Blacks 2012 | 0 |
| Blue Hue | 0 |
| Blue Saturation | 0 |
| Brightness | +57 |
| Camera Profile | Adobe Standard |
| Circle Of Confusion | 0.007 mm |
| Clarity | 0 |
| Clarity 2012 | 0 |
| Color Mode | RGB |
| Color Noise Reduction | 25 |
| Color Noise Reduction Detail | 50 |
| Color Space | sRGB |
| Color Temperature | 5350 |
| Contrast | +36 |
| Contrast 2012 | 0 |
| Convert To Grayscale | False |
| Custom Rendered | Normal |
| Date Created | 2012:07:26 13:54:49.069 |
| Defringe | 0 |
| Depth Of Field | 13.39 m (4.00 - 17.40) |
| Exposure | 0.00 |
| Exposure 2012 | 0.00 |
| Exposure Compensation | 0 |
| Exposure Mode | Manual |
| Field Of View | 19.7 deg |
| Fill Light | 5 |
| Firmware | 2.0.9 |
| Flash Compensation | 0 |
| Format | image/jpeg |
| Grain Amount | 0 |
| Green Hue | 0 |
| Green Saturation | 0 |
| Has Crop | False |
| Has Settings | True |
| Highlight Recovery | 16 |
| Highlights 2012 | 0 |
| Hue Adjustment Aqua | 0 |
| Hue Adjustment Blue | 0 |
| Hue Adjustment Green | 0 |
| Hue Adjustment Magenta | 0 |
| Hue Adjustment Orange | 0 |
| Hue Adjustment Purple | 0 |
| Hue Adjustment Red | 0 |
| Hue Adjustment Yellow | 0 |
| Hyperfocal Distance | 10.36 m |
| ICC Profile Name | sRGB IEC61966-2.1 |
| ISO | 320 |
| Image Number | 0 |
| Image Size | 1080x1080 |
| Lens | EF24-105mm f/4L IS USM |
| Lens ID | Canon EF 24-105mm f/4L IS |
| Lens Info | 24-105mm f/? |
| Lens Manual Distortion Amount | 0 |
| Lens Model | EF24-105mm f/4L IS USM |
| Lens Profile Enable | 0 |
| Lens Profile Setup | LensDefaults |
| Light Value | 11.0 |
| Luminance Adjustment Aqua | 0 |
| Luminance Adjustment Blue | 0 |
| Luminance Adjustment Green | 0 |
| Luminance Adjustment Magenta | 0 |
| Luminance Adjustment Orange | 0 |
| Luminance Adjustment Purple | 0 |
| Luminance Adjustment Red | 0 |
| Luminance Adjustment Yellow | 0 |
| Luminance Smoothing | 0 |
| Metering Mode | Multi-segment |
| Parametric Darks | 0 |
| Parametric Highlight Split | 75 |
| Parametric Highlights | 0 |
| Parametric Lights | 0 |
| Parametric Midtone Split | 50 |
| Parametric Shadow Split | 25 |
| Parametric Shadows | 0 |
| Perspective Horizontal | 0 |
| Perspective Rotate | 0.0 |
| Perspective Scale | 100 |
| Perspective Vertical | 0 |
| Post Crop Vignette Amount | 0 |
| Process Version | 5.7 |
| Rating | 0 |
| Raw File Name | IMG_3534.CR2 |
| Red Hue | 0 |
| Red Saturation | 0 |
| Saturation | +2 |
| Saturation Adjustment Aqua | 0 |
| Saturation Adjustment Blue | 0 |
| Saturation Adjustment Green | 0 |
| Saturation Adjustment Magenta | 0 |
| Saturation Adjustment Orange | 0 |
| Saturation Adjustment Purple | 0 |
| Saturation Adjustment Red | 0 |
| Saturation Adjustment Yellow | 0 |
| Scale Factor To 35 mm Equivalent | 4.3 |
| Scene Capture Type | Standard |
| Shadow Tint | 0 |
| Shadows | 5 |
| Shadows 2012 | 0 |
| Sharpen Detail | 25 |
| Sharpen Edge Masking | 0 |
| Sharpen Radius | +1.0 |
| Sharpness | 40 |
| Split Toning Balance | 0 |
| Split Toning Highlight Hue | 0 |
| Split Toning Highlight Saturation | 0 |
| Split Toning Shadow Hue | 0 |
| Split Toning Shadow Saturation | 0 |
| Subject Distance | 6.51 m |
| Tint | +2 |
| Tone Curve | 0, 0, 32, 22, 64, 56, 128, 128, 192, 196, 255, 255 |
| Tone Curve Blue | 0, 0, 255, 255 |
| Tone Curve Green | 0, 0, 255, 255 |
| Tone Curve Name | Medium Contrast |
| Tone Curve Name 2012 | Linear |
| Tone Curve PV2012 | 0, 0, 255, 255 |
| Tone Curve PV2012 Blue | 0, 0, 255, 255 |
| Tone Curve PV2012 Green | 0, 0, 255, 255 |
| Tone Curve PV2012 Red | 0, 0, 255, 255 |
| Tone Curve Red | 0, 0, 255, 255 |
| Version | 6.7 |
| Vibrance | 0 |
| Vignette Amount | 0 |
| White Balance | As Shot |
| Whites 2012 | 0 |
X