Shooting information for this photo
| Camera: | NIKON CORPORATION NIKON D7200 |
| Exposure: | 0.00625 sec. (1/160) |
| Aperture: | f/3.5 |
| Focal Length: | 18.0 mm (35 mm equivalent: 27.0 mm) |
| Flash: | Off, Did not fire |
| Exposure mode: | Manual |
| Max Aperture: | 3.5 |
| Resolution: | 240 x 240 dpi |
| Dimension: | 1280 x 1920 pixels |
| Original Date: | 2016:12:05 19:50:49.53 |
| Created on: | 2016:12:05 19:50:49.53 |
| Modified on: | 2025:12:09 17:03:02.53 |
| Software: | Adobe Photoshop 27.3 (20251203.m.3317 3056628) (Windows) |
| Copyright: | Bernhard Westrup |
| Already Applied | True |
| Approximate Focus Distance | 3.76 |
| Artist | Bernhard Westrup |
| Auto Lateral CA | 0 |
| Blacks 2012 | +71 |
| Blue Hue | 0 |
| Blue Saturation | 0 |
| CFA Pattern | [Red,Green][Green,Blue] |
| Camera Profile | Adobe Standard |
| Circle Of Confusion | 0.020 mm |
| Clarity 2012 | 0 |
| Color Grade Blending | 50 |
| Color Grade Global Hue | 0 |
| Color Grade Global Lum | 0 |
| Color Grade Global Sat | 0 |
| Color Grade Highlight Lum | 0 |
| Color Grade Midtone Hue | 0 |
| Color Grade Midtone Lum | 0 |
| Color Grade Midtone Sat | 0 |
| Color Grade Shadow Lum | 0 |
| Color Mode | RGB |
| Color Noise Reduction | 0 |
| Color Space | sRGB |
| Color Temperature | 2480 |
| Compatible Version | 285212672 |
| Contrast | Normal |
| Contrast 2012 | +49 |
| Creator | Bernhard Westrup |
| Custom Rendered | Normal |
| Date Created | 2016:12:05 19:50:49+01:00 |
| Defringe Green Amount | 0 |
| Defringe Green Hue Hi | 60 |
| Defringe Green Hue Lo | 40 |
| Defringe Purple Amount | 0 |
| Defringe Purple Hue Hi | 70 |
| Defringe Purple Hue Lo | 30 |
| Dehaze | +63 |
| Digital Zoom Ratio | 1 |
| Exposure 2012 | +0.19 |
| Exposure Compensation | 0 |
| Exposure Mode | Manual |
| Field Of View | 67.4 deg |
| Focal Length In 35mm Format | 27 mm |
| Format | image/jpeg |
| Gain Control | High gain up |
| Grain Amount | 0 |
| Green Hue | 0 |
| Green Saturation | 0 |
| HDR Edit Mode | 0 |
| Has Crop | False |
| Has Settings | True |
| Highlights 2012 | -80 |
| Hue Adjustment Aqua | 0 |
| Hue Adjustment Blue | 0 |
| Hue Adjustment Green | 0 |
| Hue Adjustment Magenta | 0 |
| Hue Adjustment Orange | 0 |
| Hue Adjustment Purple | 0 |
| Hue Adjustment Red | 0 |
| Hue Adjustment Yellow | 0 |
| Hyperfocal Distance | 4.62 m |
| ICC Profile Name | sRGB IEC61966-2.1 |
| ISO | 1600 |
| Image Number | 31773 |
| Image Size | 1280x1920 |
| Label | Blau |
| Lens | 18.0-140.0 mm f/3.5-5.6 |
| Lens ID | AF-S Nikkor 50mm f/1.4G |
| Lens Info | 18-140mm f/3.5-5.6 |
| Lens Manual Distortion Amount | 0 |
| Lens Model | 18.0-140.0 mm f/3.5-5.6 |
| Lens Profile Enable | 0 |
| Light Source | Unknown |
| Light Value | 6.9 |
| Look Amount | 1 |
| Look Group | Profiles |
| Look Name | Adobe Color |
| Look Parameters Camera Profile | Adobe Standard |
| Look Parameters Convert To Grayscale | False |
| Look Parameters Look Table | E1095149FDB39D7A057BAB208837E2 E1 |
| Look Parameters Process Version | 15.4 |
| Look Parameters Tone Curve PV2012 | 0, 0, 22, 16, 40, 35, 127, 127, 224, 230, 240, 246, 255, 255 |
| Look Parameters Tone Curve PV2012 Blue | 0, 0, 255, 255 |
| Look Parameters Tone Curve PV2012 Green | 0, 0, 255, 255 |
| Look Parameters Tone Curve PV2012 Red | 0, 0, 255, 255 |
| Look Parameters Version | 18.0 |
| Look Supports Amount | false |
| Look Supports Monochrome | false |
| Look Supports Output Referred | false |
| Luminance Adjustment Aqua | 0 |
| Luminance Adjustment Blue | 0 |
| Luminance Adjustment Green | 0 |
| Luminance Adjustment Magenta | 0 |
| Luminance Adjustment Orange | 0 |
| Luminance Adjustment Purple | 0 |
| Luminance Adjustment Red | 0 |
| Luminance Adjustment Yellow | 0 |
| Luminance Noise Reduction Contrast | 0 |
| Luminance Noise Reduction Detail | 50 |
| Luminance Smoothing | 13 |
| Metering Mode | Spot |
| Override Look Vignette | False |
| Parametric Darks | 0 |
| Parametric Highlight Split | 75 |
| Parametric Highlights | 0 |
| Parametric Lights | 0 |
| Parametric Midtone Split | 50 |
| Parametric Shadow Split | 25 |
| Parametric Shadows | 0 |
| Perspective Aspect | 0 |
| Perspective Horizontal | 0 |
| Perspective Rotate | 0.0 |
| Perspective Scale | 100 |
| Perspective Upright | 0 |
| Perspective Vertical | 0 |
| Perspective X | 0.00 |
| Perspective Y | 0.00 |
| Photometric Interpretation | RGB |
| Pick | 0 |
| Post Crop Vignette Amount | 0 |
| Preserved File Name | _DSC0913.NEF |
| Process Version | 15.4 |
| Rating | 0 |
| Red Hue | 0 |
| Red Saturation | 0 |
| Rights | Bernhard Westrup |
| Samples Per Pixel | 3 |
| Saturation | Normal |
| Saturation Adjustment Aqua | 0 |
| Saturation Adjustment Blue | 0 |
| Saturation Adjustment Green | 0 |
| Saturation Adjustment Magenta | 0 |
| Saturation Adjustment Orange | 0 |
| Saturation Adjustment Purple | 0 |
| Saturation Adjustment Red | 0 |
| Saturation Adjustment Yellow | 0 |
| Scale Factor To 35 mm Equivalent | 1.5 |
| Scene Capture Type | Standard |
| Scene Type | Directly photographed |
| Sensing Method | One-chip color area |
| Sensitivity Type | Recommended Exposure Index |
| Shadow Tint | 0 |
| Shadows 2012 | +50 |
| Sharpen Detail | 25 |
| Sharpen Edge Masking | 0 |
| Sharpen Radius | +1.0 |
| Sharpness | Normal |
| Split Toning Balance | 0 |
| Split Toning Highlight Hue | 0 |
| Split Toning Highlight Saturation | 0 |
| Split Toning Shadow Hue | 0 |
| Split Toning Shadow Saturation | 0 |
| Subject Distance Range | Unknown |
| Texture | 0 |
| Tint | +9 |
| Tone Curve Name 2012 | Linear |
| Tone Curve PV2012 | 0, 0, 255, 255 |
| Tone Curve PV2012 Blue | 0, 0, 255, 255 |
| Tone Curve PV2012 Green | 0, 0, 255, 255 |
| Tone Curve PV2012 Red | 0, 0, 255, 255 |
| Version | 18.0 |
| Vibrance | +15 |
| Vignette Amount | 0 |
| White Balance | Auto |
| Whites 2012 | +2 |
X