Shooting information for this photo
| Camera: | FUJIFILM X-T2 |
| Exposure: | 0.00952 sec. (1/105) |
| Aperture: | f/2.8 |
| Focal Length: | 37.6 mm (35 mm equivalent: 56.0 mm) |
| Flash: | No Flash |
| Exposure mode: | Aperture-priority AE |
| Max Aperture: | 2.8 |
| Resolution: | 200 x 200 dpi |
| Original Date: | 2023:03:31 23:09:01 |
| Created on: | 2023:03:31 23:09:01 |
| Modified on: | 2023:04:13 12:27:14 |
| Software: | Adobe Photoshop Lightroom Classic 10.2 (Windows) |
| Copyright: | TerredePortraits |
| Already Applied | True |
| Artist | TerredePortraits |
| Auto Lateral CA | 0 |
| Blacks 2012 | -19 |
| Blue Hue | 0 |
| Blue Saturation | 0 |
| Brightness Value | -2.03 |
| Camera Profile | Adobe Standard |
| Circle Of Confusion | 0.020 mm |
| Clarity 2012 | +9 |
| Color Grade Blending | 50 |
| Color Grade Global Hue | 0 |
| Color Grade Global Lum | 0 |
| Color Grade Global Sat | 0 |
| Color Grade Highlight Lum | 0 |
| Color Grade Midtone Hue | 0 |
| Color Grade Midtone Lum | 0 |
| Color Grade Midtone Sat | 0 |
| Color Grade Shadow Lum | 0 |
| Color Noise Reduction | 20 |
| Color Noise Reduction Detail | 50 |
| Color Noise Reduction Smoothness | 50 |
| Color Space | sRGB |
| Color Temperature | 3438 |
| Contrast 2012 | +6 |
| Creator | TerredePortraits |
| Crop Angle | 0 |
| Crop Bottom | 1 |
| Crop Constrain To Warp | 0 |
| Crop Left | 0 |
| Crop Right | 1 |
| Crop Top | 0 |
| Custom Rendered | Normal |
| Date Created | 2023:03:31 23:09:01 |
| Defringe Green Amount | 0 |
| Defringe Green Hue Hi | 60 |
| Defringe Green Hue Lo | 40 |
| Defringe Purple Amount | 0 |
| Defringe Purple Hue Hi | 70 |
| Defringe Purple Hue Lo | 30 |
| Dehaze | -8 |
| Distortion Correction Already Applied | True |
| Exposure 2012 | +0.88 |
| Exposure Compensation | -1.33 |
| Exposure Mode | Auto |
| Field Of View | 35.6 deg |
| Focal Length In 35mm Format | 56 mm |
| Format | image/jpeg |
| Fuji Rating Already Applied | True |
| Grain Amount | 0 |
| Green Hue | 0 |
| Green Saturation | 0 |
| Has Crop | False |
| Has Settings | True |
| Highlights 2012 | -28 |
| Hue Adjustment Aqua | 0 |
| Hue Adjustment Blue | 0 |
| Hue Adjustment Green | 0 |
| Hue Adjustment Magenta | 0 |
| Hue Adjustment Orange | 0 |
| Hue Adjustment Purple | 0 |
| Hue Adjustment Red | 0 |
| Hue Adjustment Yellow | 0 |
| Hyperfocal Distance | 25.03 m |
| ISO | 3200 |
| Image Size | 4200x2800 |
| Lateral Chromatic Aberration Correction Already Applied | True |
| Lens | XF16-55mmF2.8 R LM WR |
| Lens Info | 16-55mm f/2.8 |
| Lens Make | FUJIFILM |
| Lens Manual Distortion Amount | 0 |
| Lens Model | XF16-55mmF2.8 R LM WR |
| Lens Profile Enable | 0 |
| Light Source | Unknown |
| Light Value | 4.7 |
| Look Amount | 1.000000 |
| Look Group | Profiles |
| Look Name | Adobe Color |
| Look Parameters Camera Profile | Adobe Standard |
| Look Parameters Convert To Grayscale | False |
| Look Parameters Look Table | E1095149FDB39D7A057BAB208837E2 E1 |
| Look Parameters Process Version | 11.0 |
| Look Parameters Tone Curve PV2012 | 0, 0, 22, 16, 40, 35, 127, 127, 224, 230, 240, 246, 255, 255 |
| Look Parameters Tone Curve PV2012 Blue | 0, 0, 255, 255 |
| Look Parameters Tone Curve PV2012 Green | 0, 0, 255, 255 |
| Look Parameters Tone Curve PV2012 Red | 0, 0, 255, 255 |
| Look Parameters Version | 13.2 |
| Look Supports Amount | false |
| Look Supports Monochrome | false |
| Look Supports Output Referred | false |
| Luminance Adjustment Aqua | 0 |
| Luminance Adjustment Blue | 0 |
| Luminance Adjustment Green | 0 |
| Luminance Adjustment Magenta | 0 |
| Luminance Adjustment Orange | -16 |
| Luminance Adjustment Purple | 0 |
| Luminance Adjustment Red | -7 |
| Luminance Adjustment Yellow | 0 |
| Luminance Noise Reduction Contrast | 6 |
| Luminance Noise Reduction Detail | 50 |
| Luminance Smoothing | 3 |
| Metering Mode | Multi-segment |
| Override Look Vignette | True |
| Parametric Darks | 0 |
| Parametric Highlight Split | 75 |
| Parametric Highlights | 0 |
| Parametric Lights | 0 |
| Parametric Midtone Split | 50 |
| Parametric Shadow Split | 25 |
| Parametric Shadows | 0 |
| Perspective Aspect | 0 |
| Perspective Horizontal | 0 |
| Perspective Rotate | 0.0 |
| Perspective Scale | 100 |
| Perspective Upright | 0 |
| Perspective Vertical | 0 |
| Perspective X | 0.00 |
| Perspective Y | 0.00 |
| Post Crop Vignette Amount | -9 |
| Post Crop Vignette Feather | 50 |
| Post Crop Vignette Highlight Contrast | 0 |
| Post Crop Vignette Midpoint | 50 |
| Post Crop Vignette Roundness | 0 |
| Post Crop Vignette Style | 1 |
| Preserved File Name | FUJI6367.RAF |
| Process Version | 11.0 |
| Raw File Name | FUJI6367.RAF |
| Red Hue | 0 |
| Red Saturation | 0 |
| Rights | TerredePortraits |
| Saturation | -11 |
| Saturation Adjustment Aqua | 0 |
| Saturation Adjustment Blue | 0 |
| Saturation Adjustment Green | 0 |
| Saturation Adjustment Magenta | 0 |
| Saturation Adjustment Orange | +26 |
| Saturation Adjustment Purple | 0 |
| Saturation Adjustment Red | +20 |
| Saturation Adjustment Yellow | 0 |
| Scale Factor To 35 mm Equivalent | 1.5 |
| Scene Capture Type | Standard |
| Scene Type | Directly photographed |
| Sensing Method | One-chip color area |
| Sensitivity Type | Standard Output Sensitivity |
| Shadow Tint | 0 |
| Shadows 2012 | +48 |
| Sharpen Detail | 25 |
| Sharpen Edge Masking | 0 |
| Sharpen Radius | +1.0 |
| Sharpness | Soft |
| Split Toning Balance | 0 |
| Split Toning Highlight Hue | 0 |
| Split Toning Highlight Saturation | 0 |
| Split Toning Shadow Hue | 0 |
| Split Toning Shadow Saturation | 0 |
| Subject Distance Range | Unknown |
| Texture | +8 |
| Tint | +11 |
| Tone Curve Name 2012 | Custom |
| Tone Curve PV2012 | 0, 11, 66, 63, 130, 130, 255, 255 |
| Tone Curve PV2012 Blue | 0, 0, 255, 255 |
| Tone Curve PV2012 Green | 0, 0, 255, 255 |
| Tone Curve PV2012 Red | 0, 0, 255, 255 |
| Version | 13.2 |
| Vibrance | 0 |
| Vignette Amount | 0 |
| Vignette Correction Already Applied | True |
| White Balance | Auto |
| Whites 2012 | +24 |
X