Shooting information for this photo
| Camera: | Canon EOS 5D Mark IV |
| Exposure: | 0.00063 sec. (1/1600) |
| Aperture: | f/5.0 |
| Focal Length: | 300.0 mm (35 mm equivalent: 672.0 mm) |
| Flash: | Off, Did not fire |
| Exposure mode: | Manual |
| Max Aperture: | 2.8 |
| Resolution: | 300 x 300 dpi |
| Dimension: | 3000 x 2000 pixels |
| Original Date: | 2025:10:15 11:22:41.00 |
| Created on: | 2025:10:15 11:22:41.00 |
| Modified on: | 2025:10:22 12:38:19.00 |
| Software: | Adobe Photoshop 25.12 (Macintosh) |
| Copyright: | Arlequin Photographie |
| Already Applied | True |
| Approximate Focus Distance | 4294967295 |
| Artist | Andreas Schindler |
| Auto Lateral CA | 0 |
| Blacks 2012 | -37 |
| Blue Hue | 0 |
| Blue Saturation | 0 |
| Camera Profile | Camera Faithful |
| Circle Of Confusion | 0.013 mm |
| Clarity 2012 | +11 |
| Color Grade Blending | 50 |
| Color Grade Global Hue | 0 |
| Color Grade Global Lum | 0 |
| Color Grade Global Sat | 0 |
| Color Grade Highlight Lum | +46 |
| Color Grade Midtone Hue | 0 |
| Color Grade Midtone Lum | 0 |
| Color Grade Midtone Sat | 0 |
| Color Grade Shadow Lum | 0 |
| Color Mode | RGB |
| Color Noise Reduction | 25 |
| Color Noise Reduction Detail | 50 |
| Color Noise Reduction Smoothness | 50 |
| Color Space | sRGB |
| Color Temperature | 5050 |
| Contrast 2012 | +29 |
| Convert To Grayscale | False |
| Creator | Andreas Schindler |
| Custom Rendered | Normal |
| Date Created | 2025:10:15 11:22:41 |
| Defringe Green Amount | 0 |
| Defringe Green Hue Hi | 60 |
| Defringe Green Hue Lo | 40 |
| Defringe Purple Amount | 0 |
| Defringe Purple Hue Hi | 70 |
| Defringe Purple Hue Lo | 30 |
| Dehaze | +61 |
| Distortion Correction Already Applied | True |
| Exposure 2012 | +0.70 |
| Exposure Compensation | 0 |
| Exposure Mode | Manual |
| Field Of View | 3.1 deg |
| Firmware | 1.0.4 |
| Flash Compensation | 0 |
| Format | image/jpeg |
| Grain Amount | 0 |
| Green Hue | 0 |
| Green Saturation | 0 |
| HDR Edit Mode | 0 |
| Has Crop | False |
| Has Settings | True |
| Highlights 2012 | -97 |
| Hue Adjustment Aqua | 0 |
| Hue Adjustment Blue | 0 |
| Hue Adjustment Green | 0 |
| Hue Adjustment Magenta | 0 |
| Hue Adjustment Orange | 0 |
| Hue Adjustment Purple | 0 |
| Hue Adjustment Red | 0 |
| Hue Adjustment Yellow | 0 |
| Hyperfocal Distance | 1341.93 m |
| ICC Profile Name | sRGB IEC61966-2.1 |
| ISO | 100 |
| Image Number | 0 |
| Image Size | 3000x2000 |
| Lens | EF300mm f/2.8L IS II USM |
| Lens ID | Canon EF 300mm f/2.8L IS II USM |
| Lens Info | 300mm f/? |
| Lens Manual Distortion Amount | 0 |
| Lens Model | EF300mm f/2.8L IS II USM |
| Lens Profile Distortion Scale | 100 |
| Lens Profile Enable | 1 |
| Lens Profile Filename | Canon EOS-1Ds Mark III (Canon EF 300mm f2.8L IS II USM) - RAW.lcp |
| Lens Profile Is Embedded | False |
| Lens Profile Name | Adobe (Canon EF 300mm f/2.8L IS II USM) |
| Lens Profile Setup | LensDefaults |
| Lens Profile Vignetting Scale | 100 |
| Light Value | 15.3 |
| Luminance Adjustment Aqua | 0 |
| Luminance Adjustment Blue | 0 |
| Luminance Adjustment Green | 0 |
| Luminance Adjustment Magenta | 0 |
| Luminance Adjustment Orange | 0 |
| Luminance Adjustment Purple | 0 |
| Luminance Adjustment Red | 0 |
| Luminance Adjustment Yellow | 0 |
| Luminance Smoothing | 0 |
| Metering Mode | Spot |
| Override Look Vignette | False |
| Parametric Darks | 0 |
| Parametric Highlight Split | 75 |
| Parametric Highlights | 0 |
| Parametric Lights | 0 |
| Parametric Midtone Split | 50 |
| Parametric Shadow Split | 25 |
| Parametric Shadows | 0 |
| Perspective Aspect | 0 |
| Perspective Horizontal | 0 |
| Perspective Rotate | 0.0 |
| Perspective Scale | 100 |
| Perspective Upright | 0 |
| Perspective Vertical | 0 |
| Perspective X | 0.00 |
| Perspective Y | 0.00 |
| Point Colors | -1.000000, -1.000000, -1.000000, -1.000000, -1.000000, -1.000000, -1.000000, -1.000000, -1.000000, -1.000000, -1.000000, -1.000000, -1.000000, -1.000000, -1.000000, -1.000000, -1.000000, -1.000000, -1.000000 |
| Post Crop Vignette Amount | 0 |
| Process Version | 15.4 |
| Rating | 0 |
| Recommended Exposure Index | 100 |
| Red Hue | 0 |
| Red Saturation | 0 |
| Rights | Arlequin Photographie |
| Saturation | -5 |
| Saturation Adjustment Aqua | 0 |
| Saturation Adjustment Blue | 0 |
| Saturation Adjustment Green | 0 |
| Saturation Adjustment Magenta | 0 |
| Saturation Adjustment Orange | 0 |
| Saturation Adjustment Purple | 0 |
| Saturation Adjustment Red | 0 |
| Saturation Adjustment Yellow | 0 |
| Scale Factor To 35 mm Equivalent | 2.2 |
| Scene Capture Type | Standard |
| Sensitivity Type | Recommended Exposure Index |
| Shadow Tint | 0 |
| Shadows 2012 | +99 |
| Sharpen Detail | 25 |
| Sharpen Edge Masking | 0 |
| Sharpen Radius | +1.0 |
| Sharpness | 40 |
| Split Toning Balance | 0 |
| Split Toning Highlight Hue | 0 |
| Split Toning Highlight Saturation | 0 |
| Split Toning Shadow Hue | 0 |
| Split Toning Shadow Saturation | 0 |
| Texture | +7 |
| Tint | +6 |
| Tone Curve Name 2012 | Linear |
| Tone Curve PV2012 | 0, 0, 255, 255 |
| Tone Curve PV2012 Blue | 0, 0, 255, 255 |
| Tone Curve PV2012 Green | 0, 0, 255, 255 |
| Tone Curve PV2012 Red | 0, 0, 255, 255 |
| Version | 16.5 |
| Vibrance | +10 |
| Vignette Amount | 0 |
| Vignette Correction Already Applied | True |
| White Balance | Manual |
| Whites 2012 | -23 |
GPS Information |
| GPS Altitude | 1515.8 m Above Sea Level |
| GPS Altitude Ref | Above Sea Level |
| GPS Date Stamp | 2025:10:15 |
| GPS Date/Time | 2025:10:15 09:22:40.702Z |
| GPS Dilution Of Precision | 2.7 |
| GPS Latitude | 46 deg 42' 24.11" N |
| GPS Latitude Ref | North |
| GPS Longitude | 11 deg 7' 58.70" E |
| GPS Longitude Ref | East |
| GPS Map Datum | WGS-84 |
| GPS Measure Mode | 3-Dimensional Measurement |
| GPS Position | 46 deg 42' 24.11" N, 11 deg 7' 58.70" E |
| GPS Satellites | 7 |
| GPS Status | Measurement Active |
| GPS Time Stamp | 09:22:40.702 |
| GPS Version ID | 2.3.0.0 |
X