Shooting information for this photo
| Camera: | Canon EOS 70D |
| Exposure: | 0.002 sec. (1/500) |
| Aperture: | f/5.6 |
| Focal Length: | 250.0 mm (35 mm equivalent: 1204.0 mm) |
| Flash: | Off, Did not fire |
| Exposure mode: | Shutter speed priority AE |
| Max Aperture: | 5.7 |
| Resolution: | 240 x 240 dpi |
| Original Date: | 2016:08:27 11:48:29.43 |
| Created on: | 2016:08:27 11:48:29.43 |
| Modified on: | 2016:12:28 11:48:45 |
| Software: | Adobe Photoshop Lightroom 5.7 (Windows) |
| Copyright: | Andrew Luyten 2016 |
| Already Applied | True |
| Approximate Focus Distance | 4294967295 |
| Artist | Andrew Luyten |
| Auto Lateral CA | 0 |
| Auto White Version | 134348800 |
| Blacks 2012 | -21 |
| Blue Hue | 0 |
| Blue Saturation | 0 |
| Camera Profile | Adobe Standard |
| Circle Of Confusion | 0.006 mm |
| City | Waverley District |
| Clarity 2012 | +12 |
| Color Noise Reduction | 25 |
| Color Noise Reduction Detail | 50 |
| Color Noise Reduction Smoothness | 50 |
| Color Temperature | 5333 |
| Contrast 2012 | +29 |
| Convert To Grayscale | False |
| Country | United Kingdom |
| Creator | Andrew Luyten |
| Crop Angle | 0 |
| Crop Bottom | 0.816359 |
| Crop Constrain To Warp | 0 |
| Crop Left | 0.055777 |
| Crop Right | 0.964828 |
| Crop Top | 0.049348 |
| Custom Rendered | Normal |
| Date Created | 2016:08:27 11:48:29.43 |
| Defringe Green Amount | 0 |
| Defringe Green Hue Hi | 60 |
| Defringe Green Hue Lo | 40 |
| Defringe Purple Amount | 0 |
| Defringe Purple Hue Hi | 70 |
| Defringe Purple Hue Lo | 30 |
| Description | http://jetaerobatics.weebly.co m/history-of-xw324.html |
| Exposure 2012 | +0.36 |
| Exposure Compensation | +1 |
| Exposure Mode | Auto |
| Field Of View | 1.7 deg |
| Firmware | 1.1.1 |
| Flash Compensation | 0 |
| Format | image/jpeg |
| Grain Amount | 0 |
| Green Hue | 0 |
| Green Saturation | 0 |
| Has Crop | True |
| Has Settings | True |
| Highlights 2012 | -64 |
| Hue Adjustment Aqua | 0 |
| Hue Adjustment Blue | 0 |
| Hue Adjustment Green | 0 |
| Hue Adjustment Magenta | 0 |
| Hue Adjustment Orange | 0 |
| Hue Adjustment Purple | 0 |
| Hue Adjustment Red | 0 |
| Hue Adjustment Yellow | 0 |
| Hyperfocal Distance | 1788.96 m |
| ISO | 200 |
| Image Description | http://jetaerobatics.weebly.co m/history-of-xw324.html |
| Image Number | 0 |
| Image Size | 1920x1080 |
| Lens | EF-S55-250mm f/4-5.6 IS STM |
| Lens ID | Canon EF-S55-250mm f/4-5.6 IS STM |
| Lens Info | 55-250mm f/? |
| Lens Manual Distortion Amount | 0 |
| Lens Model | EF-S55-250mm f/4-5.6 IS STM |
| Lens Profile Enable | 0 |
| Lens Profile Setup | LensDefaults |
| Light Value | 12.9 |
| Luminance Adjustment Aqua | 0 |
| Luminance Adjustment Blue | 0 |
| Luminance Adjustment Green | 0 |
| Luminance Adjustment Magenta | 0 |
| Luminance Adjustment Orange | 0 |
| Luminance Adjustment Purple | 0 |
| Luminance Adjustment Red | 0 |
| Luminance Adjustment Yellow | 0 |
| Luminance Noise Reduction Contrast | 0 |
| Luminance Noise Reduction Detail | 50 |
| Luminance Smoothing | 37 |
| Marked | True |
| Metering Mode | Multi-segment |
| Owner Name | Andrew Luyten |
| Parametric Darks | 0 |
| Parametric Highlight Split | 75 |
| Parametric Highlights | 0 |
| Parametric Lights | 0 |
| Parametric Midtone Split | 50 |
| Parametric Shadow Split | 25 |
| Parametric Shadows | 0 |
| Perspective Aspect | 0 |
| Perspective Horizontal | 0 |
| Perspective Rotate | 0.0 |
| Perspective Scale | 100 |
| Perspective Upright | 0 |
| Perspective Vertical | 0 |
| Post Crop Vignette Amount | 0 |
| Process Version | 6.7 |
| Rating | 2 |
| Recommended Exposure Index | 200 |
| Red Hue | 0 |
| Red Saturation | 0 |
| Rights | Andrew Luyten 2016 |
| Saturation | -7 |
| Saturation Adjustment Aqua | 0 |
| Saturation Adjustment Blue | 0 |
| Saturation Adjustment Green | 0 |
| Saturation Adjustment Magenta | 0 |
| Saturation Adjustment Orange | 0 |
| Saturation Adjustment Purple | 0 |
| Saturation Adjustment Red | 0 |
| Saturation Adjustment Yellow | 0 |
| Scale Factor To 35 mm Equivalent | 4.8 |
| Scene Capture Type | Standard |
| Sensitivity Type | Recommended Exposure Index |
| Shadow Tint | 0 |
| Shadows 2012 | 0 |
| Sharpen Detail | 25 |
| Sharpen Edge Masking | 0 |
| Sharpen Radius | +1.0 |
| Sharpness | 43 |
| Split Toning Balance | 0 |
| Split Toning Highlight Hue | 0 |
| Split Toning Highlight Saturation | 0 |
| Split Toning Shadow Hue | 0 |
| Split Toning Shadow Saturation | 0 |
| State | England |
| Subject | Dunsfold, Jet Aerobatics, Jet Provost, Mk5, UK, XW324, airShow, wings&wheels |
| Tint | +22 |
| Title | Jet Provost |
| Tone Curve | 0, 0, 255, 255 |
| Tone Curve Blue | 0, 0, 255, 255 |
| Tone Curve Green | 0, 0, 255, 255 |
| Tone Curve Name | Linear |
| Tone Curve Name 2012 | Linear |
| Tone Curve PV2012 | 0, 0, 255, 255 |
| Tone Curve PV2012 Blue | 0, 0, 255, 255 |
| Tone Curve PV2012 Green | 0, 0, 255, 255 |
| Tone Curve PV2012 Red | 0, 0, 255, 255 |
| Tone Curve Red | 0, 0, 255, 255 |
| Version | 8.7 |
| Vibrance | 0 |
| Vignette Amount | 0 |
| White Balance | Auto |
| Whites 2012 | -17 |
GPS Information |
| GPS Latitude | 51 deg 7' 2.73" N |
| GPS Latitude Ref | North |
| GPS Longitude | 0 deg 32' 4.62" W |
| GPS Longitude Ref | West |
| GPS Position | 51 deg 7' 2.73" N, 0 deg 32' 4.62" W |
| GPS Version ID | 2.2.0.0 |
X