Shooting information for this photo
Camera: | Canon EOS 70D |
Exposure: | 0.01667 sec. (1/60) |
Aperture: | f/4.5 |
Focal Length: | 40.0 mm (35 mm equivalent: 192.6 mm) |
Flash: | Off, Did not fire |
Exposure mode: | Aperture-priority AE |
Max Aperture: | 2.8 |
Resolution: | 240 x 240 dpi |
Original Date: | 2014:11:01 13:54:51.00 |
Created on: | 2014:11:01 13:54:51 |
Modified on: | 2016:01:01 16:59:09 |
Software: | Adobe Photoshop Lightroom 5.7 (Windows) |
Copyright: | Andrew Luyten 2014 |
Already Applied | True |
Approximate Focus Distance | 1.22 |
Artist | Andrew Luyten |
Auto Lateral CA | 0 |
Auto White Version | 134348800 |
Blacks 2012 | -100 |
Blue Hue | 0 |
Blue Saturation | 0 |
Camera Profile | Adobe Standard |
Circle Of Confusion | 0.006 mm |
City | Lho |
Clarity 2012 | +100 |
Color Noise Reduction | 25 |
Color Noise Reduction Detail | 50 |
Color Noise Reduction Smoothness | 50 |
Color Temperature | 5500 |
Contrast 2012 | +100 |
Convert To Grayscale | False |
Country | Nepal |
Creator | Andrew Luyten |
Crop Angle | -1.89859 |
Crop Bottom | 0.914367 |
Crop Constrain To Warp | 0 |
Crop Left | 0 |
Crop Right | 0.986258 |
Crop Top | 0.145586 |
Custom Rendered | Normal |
Date Created | 2014:11:01 13:54:51.00 |
Defringe Green Amount | 0 |
Defringe Green Hue Hi | 60 |
Defringe Green Hue Lo | 40 |
Defringe Purple Amount | 0 |
Defringe Purple Hue Hi | 70 |
Defringe Purple Hue Lo | 30 |
Description | Perhaps harvest Buddhas?..At Sho again. |
Exposure 2012 | +0.60 |
Exposure Compensation | +1 |
Exposure Mode | Auto |
Field Of View | 10.7 deg |
Firmware | 1.1.1 |
Flash Compensation | 0 |
Format | image/jpeg |
Grain Amount | 0 |
Green Hue | 0 |
Green Saturation | 0 |
Has Crop | True |
Has Settings | True |
Highlights 2012 | -48 |
Hue Adjustment Aqua | 0 |
Hue Adjustment Blue | 0 |
Hue Adjustment Green | 0 |
Hue Adjustment Magenta | 0 |
Hue Adjustment Orange | 0 |
Hue Adjustment Purple | 0 |
Hue Adjustment Red | 0 |
Hue Adjustment Yellow | 0 |
Hyperfocal Distance | 56.99 m |
ISO | 200 |
Image Description | Perhaps harvest Buddhas?..At Sho again. |
Image Number | 0 |
Image Size | 1920x1080 |
Label | Picks |
Lens | EF-S17-55mm f/2.8 IS USM |
Lens ID | Canon EF-S 17-55mm f/2.8 IS USM |
Lens Info | 17-55mm f/? |
Lens Manual Distortion Amount | 0 |
Lens Model | EF-S17-55mm f/2.8 IS USM |
Lens Profile Enable | 0 |
Lens Profile Setup | LensDefaults |
Light Value | 9.2 |
Luminance Adjustment Aqua | 0 |
Luminance Adjustment Blue | 0 |
Luminance Adjustment Green | 0 |
Luminance Adjustment Magenta | 0 |
Luminance Adjustment Orange | 0 |
Luminance Adjustment Purple | 0 |
Luminance Adjustment Red | 0 |
Luminance Adjustment Yellow | 0 |
Luminance Noise Reduction Contrast | 0 |
Luminance Noise Reduction Detail | 29 |
Luminance Smoothing | 39 |
Marked | True |
Metering Mode | Multi-segment |
Owner Name | Andrew Luyten |
Parametric Darks | 0 |
Parametric Highlight Split | 75 |
Parametric Highlights | 0 |
Parametric Lights | 0 |
Parametric Midtone Split | 50 |
Parametric Shadow Split | 25 |
Parametric Shadows | 0 |
Perspective Aspect | 0 |
Perspective Horizontal | 0 |
Perspective Rotate | 0.0 |
Perspective Scale | 100 |
Perspective Upright | 0 |
Perspective Vertical | 0 |
Post Crop Vignette Amount | 0 |
Process Version | 6.7 |
Rating | 1 |
Recommended Exposure Index | 200 |
Red Hue | 0 |
Red Saturation | 0 |
Rights | Andrew Luyten 2014 |
Saturation | +5 |
Saturation Adjustment Aqua | 0 |
Saturation Adjustment Blue | 0 |
Saturation Adjustment Green | 0 |
Saturation Adjustment Magenta | 0 |
Saturation Adjustment Orange | 0 |
Saturation Adjustment Purple | 0 |
Saturation Adjustment Red | 0 |
Saturation Adjustment Yellow | 0 |
Scale Factor To 35 mm Equivalent | 4.8 |
Scene Capture Type | Standard |
Sensitivity Type | Recommended Exposure Index |
Shadow Tint | 0 |
Shadows 2012 | -100 |
Sharpen Detail | 35 |
Sharpen Edge Masking | 0 |
Sharpen Radius | +0.8 |
Sharpness | 50 |
Split Toning Balance | 0 |
Split Toning Highlight Hue | 0 |
Split Toning Highlight Saturation | 0 |
Split Toning Shadow Hue | 0 |
Split Toning Shadow Saturation | 0 |
State | Western Region |
Subject | Himalaya, Manaslu Circuit, Mountain Kingdoms, Nepal, buddhism |
Tint | +16 |
Title | Buddhas of Something |
Tone Curve | 0, 0, 255, 255 |
Tone Curve Blue | 0, 0, 255, 255 |
Tone Curve Green | 0, 0, 255, 255 |
Tone Curve Name | Linear |
Tone Curve Name 2012 | Strong Contrast |
Tone Curve PV2012 | 0, 0, 32, 16, 64, 50, 128, 128, 192, 202, 255, 255 |
Tone Curve PV2012 Blue | 0, 0, 255, 255 |
Tone Curve PV2012 Green | 0, 0, 255, 255 |
Tone Curve PV2012 Red | 0, 0, 255, 255 |
Tone Curve Red | 0, 0, 255, 255 |
Version | 8.7 |
Vibrance | +14 |
Vignette Amount | 0 |
White Balance | Auto |
Whites 2012 | -21 |
GPS Information |
GPS Altitude | 2973.1 m Above Sea Level |
GPS Altitude Ref | Above Sea Level |
GPS Date Stamp | 2014:11:01 |
GPS Date/Time | 2014:11:01 08:09:51Z |
GPS Latitude | 28 deg 33' 56.63" N |
GPS Latitude Ref | North |
GPS Longitude | 84 deg 43' 51.69" E |
GPS Longitude Ref | East |
GPS Map Datum | WGS 1984 |
GPS Position | 28 deg 33' 56.63" N, 84 deg 43' 51.69" E |
GPS Time Stamp | 08:09:51 |
GPS Version ID | 2.3.0.0 |