Shooting information for this photo
Camera: | Canon EOS 5D Mark II |
Exposure: | 0.0005 sec. (1/2000) |
Aperture: | f/5.0 |
Focal Length: | 16.0 mm (35 mm equivalent: 15.6 mm) |
Flash: | Off, Did not fire |
Exposure mode: | Aperture-priority AE |
Max Aperture: | 4.0 |
Resolution: | 72 x 72 dpi |
Dimension: | 1120 x 1680 pixels |
Original Date: | 2015:04:02 15:59:02.63 |
Created on: | 2015:04:02 15:59:02.63 |
Modified on: | 2015:04:03 20:14:21 |
Software: | Adobe Photoshop CS6 (Windows) |
Copyright: | Copyright:Matthias jung |
Already Applied | True |
Approximate Focus Distance | 1.83 |
Artist | Matthias Jung |
Auto Lateral CA | 0 |
Blacks 2012 | +32 |
Blue Hue | 0 |
Blue Saturation | 0 |
Camera Profile | Adobe Standard |
Circle Of Confusion | 0.031 mm |
Clarity 2012 | +44 |
Color Mode | RGB |
Color Noise Reduction | 25 |
Color Noise Reduction Detail | 50 |
Color Space | Uncalibrated |
Color Temperature | 5204 |
Contrast 2012 | 0 |
Convert To Grayscale | True |
Creator | Matthias Jung |
Crop Angle | -1.8285 |
Crop Bottom | 0.954302 |
Crop Constrain To Warp | 0 |
Crop Height | 3575 |
Crop Left | 0.012694 |
Crop Right | 0.987306 |
Crop Top | 0.045698 |
Crop Unit | pixels |
Crop Width | 5362 |
Custom Rendered | Normal |
Date Created | 2015:04:02 15:59:02.063 |
Exposure 2012 | 0.00 |
Exposure Compensation | 0 |
Exposure Mode | Auto |
Field Of View | 98.1 deg |
Firmware | 2.1.2 |
Flash Compensation | 0 |
Format | image/jpeg |
Grain Amount | 0 |
Gray Mixer Aqua | -23 |
Gray Mixer Blue | -60 |
Gray Mixer Green | +30 |
Gray Mixer Magenta | -3 |
Gray Mixer Orange | -19 |
Gray Mixer Purple | +12 |
Gray Mixer Red | -28 |
Gray Mixer Yellow | +16 |
Green Hue | 0 |
Green Saturation | 0 |
Has Crop | True |
Has Settings | True |
Highlights 2012 | -50 |
Hyperfocal Distance | 1.66 m |
ICC Profile Name | Adobe RGB (1998) |
ISO | 160 |
Image Number | 0 |
Image Size | 1120x1680 |
Lens | EF16-35mm f/4L IS USM |
Lens ID | Canon EF16-35mm f/4L IS USM |
Lens Info | 16-35mm f/? |
Lens Manual Distortion Amount | 0 |
Lens Model | EF16-35mm f/4L IS USM |
Lens Profile Enable | 0 |
Lens Profile Setup | LensDefaults |
Light Value | 14.9 |
Luminance Smoothing | 0 |
Metering Mode | Center-weighted average |
Owner Name | Matthias Jung |
Parametric Darks | 0 |
Parametric Highlight Split | 75 |
Parametric Highlights | 0 |
Parametric Lights | +14 |
Parametric Midtone Split | 50 |
Parametric Shadow Split | 25 |
Parametric Shadows | 0 |
Perspective Horizontal | 0 |
Perspective Rotate | 0.0 |
Perspective Scale | 100 |
Perspective Vertical | 0 |
Photometric Interpretation | RGB |
Planar Configuration | Chunky |
Post Crop Vignette Amount | 0 |
Process Version | 6.7 |
Red Hue | 0 |
Red Saturation | 0 |
Rights | Copyright:Matthias jung |
Samples Per Pixel | 3 |
Scale Factor To 35 mm Equivalent | 1.0 |
Scene Capture Type | Standard |
Shadow Tint | 0 |
Shadows 2012 | +28 |
Sharpen Detail | 25 |
Sharpen Edge Masking | 0 |
Sharpen Radius | +1.0 |
Sharpness | 42 |
Split Toning Balance | 0 |
Split Toning Highlight Hue | 0 |
Split Toning Highlight Saturation | 0 |
Split Toning Shadow Hue | 0 |
Split Toning Shadow Saturation | 0 |
Tint | -5 |
Tone Curve Name 2012 | Linear |
Tone Curve PV2012 | 0, 0, 255, 255 |
Tone Curve PV2012 Blue | 0, 0, 255, 255 |
Tone Curve PV2012 Green | 0, 0, 255, 255 |
Tone Curve PV2012 Red | 0, 0, 255, 255 |
Version | 7.4 |
Vignette Amount | 0 |
White Balance | Auto |
Whites 2012 | 0 |