Shooting information for this photo
| Camera: | OLYMPUS IMAGING CORP. E-M1 |
| Exposure: | 0.0025 sec. (1/400) |
| Aperture: | f/4.0 |
| Focal Length: | 82.0 mm (35 mm equivalent: 164.0 mm) |
| Flash: | Auto, Did not fire |
| Exposure mode: | Program AE |
| Max Aperture: | 2.8 |
| Resolution: | 240 x 240 dpi |
| Original Date: | 2016:08:13 20:38:30 |
| Created on: | 2016:08:13 20:38:30 |
| Modified on: | 2016:08:25 00:08:55 |
| Software: | Adobe Photoshop Lightroom 5.7 (Windows) |
| Copyright: | L. Bruce Dean |
| Already Applied | True |
| Approximate Focus Distance | 4294967295 |
| Artist | L. Bruce Dean |
| Auto Lateral CA | 0 |
| Auto White Version | 134348800 |
| Blacks 2012 | -69 |
| Blue Hue | 0 |
| Blue Saturation | 0 |
| CFA Pattern | [Blue,Green][Green,Red] |
| Camera Profile | Adobe Standard |
| Circle Of Confusion | 0.015 mm |
| Clarity 2012 | 0 |
| Color Noise Reduction | 25 |
| Color Noise Reduction Detail | 50 |
| Color Noise Reduction Smoothness | 50 |
| Color Space | sRGB |
| Color Temperature | 5850 |
| Contrast | Normal |
| Contrast 2012 | 0 |
| Convert To Grayscale | False |
| Creator | L. Bruce Dean |
| Crop Angle | 0 |
| Crop Bottom | 0.886544 |
| Crop Constrain To Warp | 0 |
| Crop Left | 0 |
| Crop Right | 1 |
| Crop Top | 0.136544 |
| Custom Rendered | Normal |
| Date Created | 2016:08:13 20:38:30 |
| Defringe Green Amount | 0 |
| Defringe Green Hue Hi | 60 |
| Defringe Green Hue Lo | 40 |
| Defringe Purple Amount | 0 |
| Defringe Purple Hue Hi | 70 |
| Defringe Purple Hue Lo | 30 |
| Description | OLYMPUS DIGITAL CAMERA |
| Digital Zoom Ratio | 1 |
| Exposure 2012 | 0.00 |
| Exposure Compensation | 0 |
| Exposure Mode | Auto |
| Field Of View | 12.5 deg |
| Flash Compensation | 0 |
| Focal Length In 35mm Format | 164 mm |
| Format | image/jpeg |
| Gain Control | Low gain up |
| Grain Amount | 0 |
| Green Hue | 0 |
| Green Saturation | 0 |
| Has Crop | True |
| Has Settings | True |
| Highlights 2012 | -50 |
| Hue Adjustment Aqua | 0 |
| Hue Adjustment Blue | 0 |
| Hue Adjustment Green | 0 |
| Hue Adjustment Magenta | 0 |
| Hue Adjustment Orange | 0 |
| Hue Adjustment Purple | 0 |
| Hue Adjustment Red | 0 |
| Hue Adjustment Yellow | 0 |
| Hyperfocal Distance | 111.89 m |
| ISO | 200 |
| Image Description | OLYMPUS DIGITAL CAMERA |
| Image Size | 4608x2592 |
| Lens | OLYMPUS M.40-150mm F2.8 |
| Lens Info | 40-150mm f/2.8 |
| Lens Manual Distortion Amount | 0 |
| Lens Model | OLYMPUS M.40-150mm F2.8 |
| Lens Profile Enable | 0 |
| Lens Profile Setup | LensDefaults |
| Light Source | Unknown |
| Light Value | 11.6 |
| Luminance Adjustment Aqua | 0 |
| Luminance Adjustment Blue | 0 |
| Luminance Adjustment Green | 0 |
| Luminance Adjustment Magenta | 0 |
| Luminance Adjustment Orange | 0 |
| Luminance Adjustment Purple | 0 |
| Luminance Adjustment Red | 0 |
| Luminance Adjustment Yellow | 0 |
| Luminance Smoothing | 0 |
| Metering Mode | Multi-segment |
| Parametric Darks | 0 |
| Parametric Highlight Split | 75 |
| Parametric Highlights | 0 |
| Parametric Lights | 0 |
| Parametric Midtone Split | 50 |
| Parametric Shadow Split | 25 |
| Parametric Shadows | 0 |
| Perspective Aspect | 0 |
| Perspective Horizontal | 0 |
| Perspective Rotate | 0.0 |
| Perspective Scale | 100 |
| Perspective Upright | 0 |
| Perspective Vertical | 0 |
| Post Crop Vignette Amount | 0 |
| Process Version | 6.7 |
| Red Hue | 0 |
| Red Saturation | 0 |
| Rights | L. Bruce Dean |
| Saturation | Low |
| Saturation Adjustment Aqua | 0 |
| Saturation Adjustment Blue | 0 |
| Saturation Adjustment Green | 0 |
| Saturation Adjustment Magenta | 0 |
| Saturation Adjustment Orange | 0 |
| Saturation Adjustment Purple | 0 |
| Saturation Adjustment Red | 0 |
| Saturation Adjustment Yellow | 0 |
| Scale Factor To 35 mm Equivalent | 2.0 |
| Scene Capture Type | Standard |
| Sensitivity Type | Standard Output Sensitivity |
| Shadow Tint | 0 |
| Shadows 2012 | +100 |
| Sharpen Detail | 25 |
| Sharpen Edge Masking | 0 |
| Sharpen Radius | +1.0 |
| Sharpness | Normal |
| Split Toning Balance | 0 |
| Split Toning Highlight Hue | 0 |
| Split Toning Highlight Saturation | 0 |
| Split Toning Shadow Hue | 0 |
| Split Toning Shadow Saturation | 0 |
| Tint | +15 |
| Tone Curve | 0, 0, 255, 255 |
| Tone Curve Blue | 0, 0, 255, 255 |
| Tone Curve Green | 0, 0, 255, 255 |
| Tone Curve Name | Linear |
| Tone Curve Name 2012 | Linear |
| Tone Curve PV2012 | 0, 0, 255, 255 |
| Tone Curve PV2012 Blue | 0, 0, 255, 255 |
| Tone Curve PV2012 Green | 0, 0, 255, 255 |
| Tone Curve PV2012 Red | 0, 0, 255, 255 |
| Tone Curve Red | 0, 0, 255, 255 |
| Version | 8.7 |
| Vibrance | 0 |
| Vignette Amount | 0 |
| White Balance | Auto |
| Whites 2012 | +40 |
X