Shooting information for this photo
Camera: | SAMSUNG GT-S5839i |
Exposure: | 0.00625 sec. (1/160) |
Aperture: | f/2.6 |
Focal Length: | 3.5 mm |
Flash: | No Flash |
Exposure mode: | Aperture-priority AE |
Max Aperture: | 2.8 |
Resolution: | 300 x 300 dpi |
Dimension: | 1719 x 1719 pixels |
Original Date: | 2014:07:01 18:27:59 |
Digitized Date: | 2014:07:01 18:27:59+02:00 |
Created on: | 2014:07:01 18:27:59 |
Modified on: | 2014:07:04 18:21:22 |
Software: | Microsoft Windows Photo Viewer 6.1.7600.16385 |
Already Applied | True |
Blue Hue | 0 |
Blue Saturation | 0 |
Brightness | +3 |
Camera Profile | Embedded |
Chromatic Aberration B | 0 |
Chromatic Aberration R | 0 |
Clarity | 0 |
Color Noise Reduction | 0 |
Contrast | +25 |
Convert To Grayscale | False |
Crop Angle | 0 |
Crop Bottom | 0.893775 |
Crop Constrain To Warp | 0 |
Crop Height | 1719 |
Crop Left | 0.052369 |
Crop Right | 0.947631 |
Crop Top | 0.222329 |
Crop Unit | pixels |
Crop Width | 1719 |
Defringe | 0 |
Exposure | +0.50 |
Exposure Mode | Auto |
Fill Light | 0 |
Flash Fired | False |
Flash Function | False |
Flash Mode | Unknown |
Flash Red Eye Mode | False |
Flash Return | No return detection |
Grain Amount | 0 |
Green Hue | 0 |
Green Saturation | 0 |
Has Crop | True |
Has Settings | True |
Highlight Recovery | 0 |
Hue Adjustment Aqua | 0 |
Hue Adjustment Blue | 0 |
Hue Adjustment Green | 0 |
Hue Adjustment Magenta | 0 |
Hue Adjustment Orange | 0 |
Hue Adjustment Purple | 0 |
Hue Adjustment Red | 0 |
Hue Adjustment Yellow | 0 |
ISO | 50 |
Image Size | 1719x1719 |
Incremental Temperature | 0 |
Incremental Tint | -23 |
Lens Manual Distortion Amount | 0 |
Lens Profile Enable | 0 |
Lens Profile Setup | LensDefaults |
Light Value | 11.1 |
Luminance Adjustment Aqua | 0 |
Luminance Adjustment Blue | 0 |
Luminance Adjustment Green | 0 |
Luminance Adjustment Magenta | 0 |
Luminance Adjustment Orange | 0 |
Luminance Adjustment Purple | 0 |
Luminance Adjustment Red | 0 |
Luminance Adjustment Yellow | 0 |
Luminance Smoothing | 0 |
Metering Mode | Center-weighted average |
Parametric Darks | 0 |
Parametric Highlight Split | 75 |
Parametric Highlights | 0 |
Parametric Lights | 0 |
Parametric Midtone Split | 50 |
Parametric Shadow Split | 25 |
Parametric Shadows | 0 |
Perspective Horizontal | 0 |
Perspective Rotate | 0.0 |
Perspective Scale | 100 |
Perspective Vertical | 0 |
Post Crop Vignette Amount | +100 |
Post Crop Vignette Feather | 0 |
Post Crop Vignette Midpoint | 19 |
Post Crop Vignette Roundness | -100 |
Post Crop Vignette Style | 1 |
Process Version | 5.7 |
Red Hue | 0 |
Red Saturation | 0 |
Saturation | 0 |
Saturation Adjustment Aqua | +75 |
Saturation Adjustment Blue | +55 |
Saturation Adjustment Green | 0 |
Saturation Adjustment Magenta | 0 |
Saturation Adjustment Orange | 0 |
Saturation Adjustment Purple | 0 |
Saturation Adjustment Red | +25 |
Saturation Adjustment Yellow | 0 |
Scene Capture Type | Standard |
Scene Type | Directly photographed |
Sensitivity Type | Unknown |
Shadow Tint | 0 |
Shadows | 0 |
Sharpen Detail | 25 |
Sharpen Edge Masking | 0 |
Sharpen Radius | +1.0 |
Sharpness | 75 |
Split Toning Balance | 0 |
Split Toning Highlight Hue | 47 |
Split Toning Highlight Saturation | 75 |
Split Toning Shadow Hue | 227 |
Split Toning Shadow Saturation | 75 |
Tone Curve | 0, 0, 255, 255 |
Tone Curve Name | Linear |
Version | 6.3 |
Vibrance | 0 |
Vignette Amount | -100 |
Vignette Midpoint | 16 |
White Balance | Auto |