Shooting information for this photo
| Camera: | Canon EOS 450D |
| Exposure: | 0.1 sec. (1/10) |
| Aperture: | f/4.5 |
| Focal Length: | 18.0 mm (35 mm equivalent: 37.2 mm) |
| Flash: | On, Fired |
| Exposure mode: | Manual |
| Max Aperture: | 3.5 |
| Resolution: | 240 x 240 dpi |
| Dimension: | 2839 x 2843 pixels |
| Original Date: | 2010:10:21 14:53:27.03 |
| Digitized Date: | 2010:10:21 14:53:27.03+02:00 |
| Created on: | 2010:10:21 14:53:27.03 |
| Modified on: | 2010:11:05 16:40:44 |
| Software: | Imagerie numerique d'ACD Systems |
| Already Applied | True |
| Blue Hue | 0 |
| Blue Saturation | 0 |
| Brightness | 0 |
| Camera Profile | Embedded |
| Chromatic Aberration B | 0 |
| Chromatic Aberration R | 0 |
| Circle Of Confusion | 0.015 mm |
| Clarity | +37 |
| Color Noise Reduction | 0 |
| Contrast | +23 |
| Convert To Grayscale | False |
| Custom Rendered | Normal |
| Defringe | 0 |
| Exposure | 0.00 |
| Exposure Compensation | 0 |
| Exposure Mode | Manual |
| Field Of View | 51.7 deg |
| Fill Light | 79 |
| Firmware | 1.1.0 |
| Flash Compensation | 0 |
| Flash Fired | True |
| Flash Function | False |
| Flash Mode | On |
| Flash Red Eye Mode | False |
| Flash Return | No return detection |
| Green Hue | 0 |
| Green Saturation | 0 |
| Has Crop | False |
| Has Settings | True |
| Highlight Recovery | 0 |
| Hue Adjustment Aqua | 0 |
| Hue Adjustment Blue | 0 |
| Hue Adjustment Green | 0 |
| Hue Adjustment Magenta | 0 |
| Hue Adjustment Orange | +48 |
| Hue Adjustment Purple | 0 |
| Hue Adjustment Red | 0 |
| Hue Adjustment Yellow | 0 |
| Hyperfocal Distance | 4.95 m |
| ISO | 100 |
| Image Number | 0 |
| Image Size | 2839x2843 |
| Incremental Temperature | +17 |
| Incremental Tint | -2 |
| Lens | EF-S18-55mm f/3.5-5.6 IS |
| Lens Info | 18-55mm f/? |
| Light Value | 7.7 |
| Luminance Adjustment Aqua | 0 |
| Luminance Adjustment Blue | 0 |
| Luminance Adjustment Green | 0 |
| Luminance Adjustment Magenta | 0 |
| Luminance Adjustment Orange | -23 |
| Luminance Adjustment Purple | 0 |
| Luminance Adjustment Red | 0 |
| Luminance Adjustment Yellow | 0 |
| Luminance Smoothing | 0 |
| Metering Mode | Multi-segment |
| Parametric Darks | 0 |
| Parametric Highlight Split | 75 |
| Parametric Highlights | 0 |
| Parametric Lights | 0 |
| Parametric Midtone Split | 50 |
| Parametric Shadow Split | 25 |
| Parametric Shadows | 0 |
| Post Crop Vignette Amount | 0 |
| Red Hue | 0 |
| Red Saturation | 0 |
| Saturation | -8 |
| Saturation Adjustment Aqua | 0 |
| Saturation Adjustment Blue | 0 |
| Saturation Adjustment Green | 0 |
| Saturation Adjustment Magenta | 0 |
| Saturation Adjustment Orange | -23 |
| Saturation Adjustment Purple | 0 |
| Saturation Adjustment Red | 0 |
| Saturation Adjustment Yellow | 0 |
| Scale Factor To 35 mm Equivalent | 2.1 |
| Scene Capture Type | Standard |
| Shadow Tint | 0 |
| Shadows | 0 |
| Sharpen Detail | 25 |
| Sharpen Edge Masking | 0 |
| Sharpen Radius | +1.0 |
| Sharpness | 0 |
| Split Toning Balance | 0 |
| Split Toning Highlight Hue | 0 |
| Split Toning Highlight Saturation | 0 |
| Split Toning Shadow Hue | 0 |
| Split Toning Shadow Saturation | 0 |
| Tone Curve | 0, 0, 255, 255 |
| Tone Curve Name | Linear |
| Version | 4.6 |
| Vibrance | 0 |
| Vignette Amount | 0 |
| White Balance | Custom |
X