Shooting information for this photo
Camera: | Apple iPhone 14 Pro Max |
Exposure: | 0.00053 sec. (1/1900) |
Aperture: | f/1.8 |
Focal Length: | 6.9 mm (35 mm equivalent: 24.0 mm) |
Flash: | Off, Did not fire |
Exposure mode: | Program AE |
Resolution: | 300 x 300 dpi |
Original Date: | 2022:09:16 16:53:00.341 |
Created on: | 2022:09:16 16:53:00.341 |
Modified on: | 2022:09:29 16:48:51 |
Software: | 16.0 |
Copyright: | © Bernhard Sonderhuesken |
Already Applied | True |
Auto Lateral CA | 0 |
Blacks 2012 | -17 |
Blue Hue | 0 |
Blue Saturation | 0 |
Brightness Value | 8.796304492 |
Camera Profile | Apple Embedded Color Profile |
Circle Of Confusion | 0.009 mm |
Clarity 2012 | 0 |
Color Grade Blending | 50 |
Color Grade Global Hue | 0 |
Color Grade Global Lum | 0 |
Color Grade Global Sat | 0 |
Color Grade Highlight Lum | 0 |
Color Grade Midtone Hue | 0 |
Color Grade Midtone Lum | 0 |
Color Grade Midtone Sat | 0 |
Color Grade Shadow Lum | 0 |
Color Noise Reduction | 25 |
Color Noise Reduction Detail | 50 |
Color Noise Reduction Smoothness | 50 |
Color Space | sRGB |
Color Temperature | 5200 |
Contrast 2012 | +7 |
Crop Angle | 0 |
Crop Bottom | 0.946672 |
Crop Constrain To Warp | 0 |
Crop Left | 0 |
Crop Right | 0.944449 |
Crop Top | 0 |
Defringe Green Amount | 0 |
Defringe Green Hue Hi | 60 |
Defringe Green Hue Lo | 40 |
Defringe Purple Amount | 0 |
Defringe Purple Hue Hi | 70 |
Defringe Purple Hue Lo | 30 |
Dehaze | +9 |
Exposure 2012 | +0.61 |
Exposure Compensation | 0 |
Exposure Mode | Auto |
Field Of View | 73.7 deg |
Focal Length In 35mm Format | 24 mm |
Format | image/jpeg |
Grain Amount | 0 |
Green Hue | 0 |
Green Saturation | 0 |
Has Crop | True |
Has Settings | True |
Highlights 2012 | -69 |
Hue Adjustment Aqua | 0 |
Hue Adjustment Blue | 0 |
Hue Adjustment Green | 0 |
Hue Adjustment Magenta | 0 |
Hue Adjustment Orange | 0 |
Hue Adjustment Purple | 0 |
Hue Adjustment Red | 0 |
Hue Adjustment Yellow | 0 |
Hyperfocal Distance | 3.04 m |
ISO | 100 |
Image Size | 7616x5725 |
Lens | iPhone 14 Pro Max back triple camera 6.86mm f/1.78 |
Lens Info | 2.22000002861193-9mm f/1.77999997138807-2.8 |
Lens Make | Apple |
Lens Manual Distortion Amount | 0 |
Lens Model | iPhone 14 Pro Max back triple camera 6.86mm f/1.78 |
Lens Profile Enable | 0 |
Light Value | 12.6 |
Look Amount | 1 |
Look Group | Profiles |
Look Name | Apple ProRaw |
Look Parameters Camera Profile | Apple Embedded Color Profile |
Look Parameters Convert To Grayscale | False |
Look Parameters Process Version | 11.0 |
Look Parameters Profile Gain Table Map | 100 |
Look Parameters Version | 14.5 |
Look Supports Monochrome | false |
Look Supports Output Referred | false |
Luminance Adjustment Aqua | 0 |
Luminance Adjustment Blue | 0 |
Luminance Adjustment Green | 0 |
Luminance Adjustment Magenta | 0 |
Luminance Adjustment Orange | 0 |
Luminance Adjustment Purple | 0 |
Luminance Adjustment Red | 0 |
Luminance Adjustment Yellow | 0 |
Luminance Smoothing | 0 |
Metering Mode | Multi-segment |
Override Look Vignette | False |
Parametric Darks | 0 |
Parametric Highlight Split | 75 |
Parametric Highlights | 0 |
Parametric Lights | 0 |
Parametric Midtone Split | 50 |
Parametric Shadow Split | 25 |
Parametric Shadows | 0 |
Perspective Aspect | 0 |
Perspective Horizontal | 0 |
Perspective Rotate | 0.0 |
Perspective Scale | 100 |
Perspective Upright | 1 |
Perspective Vertical | 0 |
Perspective X | 0.00 |
Perspective Y | 0.00 |
Post Crop Vignette Amount | 0 |
Process Version | 11.0 |
Red Hue | 0 |
Red Saturation | 0 |
Rights | © Bernhard Sonderhuesken |
Rights (en-US) | © Bernhard Sonderhuesken |
Saturation | +8 |
Saturation Adjustment Aqua | 0 |
Saturation Adjustment Blue | 0 |
Saturation Adjustment Green | 0 |
Saturation Adjustment Magenta | 0 |
Saturation Adjustment Orange | 0 |
Saturation Adjustment Purple | 0 |
Saturation Adjustment Red | 0 |
Saturation Adjustment Yellow | 0 |
Scale Factor To 35 mm Equivalent | 3.5 |
Scene Type | Directly photographed |
Sensing Method | One-chip color area |
Shadow Tint | 0 |
Shadows 2012 | +49 |
Sharpen Detail | 25 |
Sharpen Edge Masking | 0 |
Sharpen Radius | +1.0 |
Sharpness | 40 |
Split Toning Balance | 0 |
Split Toning Highlight Hue | 0 |
Split Toning Highlight Saturation | 0 |
Split Toning Shadow Hue | 0 |
Split Toning Shadow Saturation | 0 |
Subject Area | 4018 3011 4418 2649 |
Texture | 0 |
Tint | +1 |
Tone Curve Name 2012 | Linear |
Tone Curve PV2012 | 0, 0, 255, 255 |
Tone Curve PV2012 Blue | 0, 0, 255, 255 |
Tone Curve PV2012 Green | 0, 0, 255, 255 |
Tone Curve PV2012 Red | 0, 0, 255, 255 |
Version | 14.5 |
Vibrance | +20 |
Vignette Amount | 0 |
White Balance | Auto |
Whites 2012 | +17 |
GPS Information |
GPS Altitude | 7 m Above Sea Level |
GPS Altitude Ref | Above Sea Level |
GPS Dest Bearing | 250.446747 |
GPS Dest Bearing Ref | Magnetic North |
GPS Horizontal Positioning Error | 4.770472671 m |
GPS Img Direction | 250.446747 |
GPS Img Direction Ref | Magnetic North |
GPS Latitude | 53 deg 33' 13.62" N |
GPS Latitude Ref | North |
GPS Longitude | 8 deg 33' 36.92" E |
GPS Longitude Ref | East |
GPS Position | 53 deg 33' 13.62" N, 8 deg 33' 36.92" E |
GPS Speed | 0.007761003215 |
GPS Speed Ref | km/h |