Shooting information for this photo
| Camera: | SONY DSC-RX100M6 |
| Exposure: | 0.00156 sec. (1/640) |
| Aperture: | f/4.5 |
| Focal Length: | 28.0 mm (35 mm equivalent: 76.0 mm) |
| Flash: | Off, Did not fire |
| Exposure mode: | Aperture-priority AE |
| Max Aperture: | 4.0 |
| Resolution: | 240 x 240 dpi |
| Original Date: | 2018:09:08 09:24:01 |
| Created on: | 2018:09:08 09:24:01 |
| Modified on: | 2018:09:13 13:16:13 |
| Software: | Adobe Photoshop Lightroom Classic 7.5 (Windows) |
| Copyright: | Bernhard Sonderhuesken |
| Already Applied | True |
| Artist | Bernhard Sonderhuesken |
| Auto Lateral CA | 0 |
| Blacks 2012 | -23 |
| Blue Hue | 0 |
| Blue Saturation | 0 |
| Brightness Value | 9.31796875 |
| Camera Profile | Adobe Standard |
| Circle Of Confusion | 0.011 mm |
| Clarity 2012 | 0 |
| Color Noise Reduction | 25 |
| Color Noise Reduction Detail | 50 |
| Color Noise Reduction Smoothness | 50 |
| Color Space | sRGB |
| Color Temperature | 5500 |
| Contrast | Normal |
| Contrast 2012 | -1 |
| Convert To Grayscale | False |
| Creator | Bernhard Sonderhuesken |
| Custom Rendered | Normal |
| Date Created | 2018:09:08 09:24:01 |
| Defringe Green Amount | 0 |
| Defringe Green Hue Hi | 60 |
| Defringe Green Hue Lo | 40 |
| Defringe Purple Amount | 0 |
| Defringe Purple Hue Hi | 70 |
| Defringe Purple Hue Lo | 30 |
| Dehaze | 0 |
| Description | Château de Costaérès, Trégastel, France |
| Digital Zoom Ratio | 1 |
| Distortion Correction Already Applied | True |
| Exposure 2012 | +0.44 |
| Exposure Compensation | -0.3 |
| Exposure Mode | Auto |
| Field Of View | 26.6 deg |
| Focal Length In 35mm Format | 76 mm |
| Format | image/jpeg |
| Gradient Based Corr Active | true |
| Gradient Based Corr Amount | 1.000000 |
| Gradient Based Corr Brightness | 0.000000 |
| Gradient Based Corr Clarity 2012 | 0.000000 |
| Gradient Based Corr Contrast 2012 | 0.000000 |
| Gradient Based Corr Correction Range Mask Color Amount | 0.500000 |
| Gradient Based Corr Correction Range Mask Lum Feather | 0.500000 |
| Gradient Based Corr Correction Range Mask Lum Max | 1.000000 |
| Gradient Based Corr Correction Range Mask Lum Min | 0.000000 |
| Gradient Based Corr Correction Range Mask Type | 0 |
| Gradient Based Corr Correction Range Mask Version | +2 |
| Gradient Based Corr Defringe | 0.000000 |
| Gradient Based Corr Exposure 2012 | -0.098000 |
| Gradient Based Corr Highlights 2012 | -0.411760 |
| Gradient Based Corr Hue | 0.000000 |
| Gradient Based Corr Local Blacks 2012 | 0.000000 |
| Gradient Based Corr Local Dehaze | 0.000000 |
| Gradient Based Corr Local Whites 2012 | 0.000000 |
| Gradient Based Corr Luminance Noise | 0.000000 |
| Gradient Based Corr Mask Full X | 0.487863 |
| Gradient Based Corr Mask Full Y | 0.003552 |
| Gradient Based Corr Mask Value | 1.000000 |
| Gradient Based Corr Mask What | Mask/Gradient |
| Gradient Based Corr Mask Zero X | 0.492599 |
| Gradient Based Corr Mask Zero Y | 0.753996 |
| Gradient Based Corr Moire | 0.000000 |
| Gradient Based Corr Saturation | 0.000000 |
| Gradient Based Corr Shadows 2012 | 0.000000 |
| Gradient Based Corr Sharpness | 0.000000 |
| Gradient Based Corr Temperature | 0.000000 |
| Gradient Based Corr Tint | 0.000000 |
| Gradient Based Corr What | Correction |
| Grain Amount | 0 |
| Green Hue | 0 |
| Green Saturation | 0 |
| Has Crop | False |
| Has Settings | True |
| Highlights 2012 | -84 |
| Hue Adjustment Aqua | 0 |
| Hue Adjustment Blue | 0 |
| Hue Adjustment Green | 0 |
| Hue Adjustment Magenta | 0 |
| Hue Adjustment Orange | 0 |
| Hue Adjustment Purple | 0 |
| Hue Adjustment Red | 0 |
| Hue Adjustment Yellow | 0 |
| Hyperfocal Distance | 15.73 m |
| ISO | 125 |
| Image Description | Château de Costaérès, Trégastel, France |
| Image Size | 5472x3648 |
| Lateral Chromatic Aberration Correction Already Applied | True |
| Lens | 24-200mm F2.8-4.5 |
| Lens Distort Info | 1039418308/1073741824 15450066/1073741824 20688585/1073741824 -1820551/1073741824 |
| Lens Info | 9-72mm f/2.8-4.5 |
| Lens Manual Distortion Amount | 0 |
| Lens Model | 24-200mm F2.8-4.5 |
| Lens Profile Enable | 0 |
| Lens Profile Setup | LensDefaults |
| Light Source | Unknown |
| Light Value | 13.3 |
| Look Amount | 1.000000 |
| Look Group | Profiles |
| Look Name | Adobe Color |
| Look Parameters Camera Profile | Adobe Standard |
| Look Parameters Convert To Grayscale | False |
| Look Parameters Look Table | E1095149FDB39D7A057BAB208837E2 E1 |
| Look Parameters Process Version | 10.0 |
| Look Parameters Tone Curve PV2012 | 0, 0, 22, 16, 40, 35, 127, 127, 224, 230, 240, 246, 255, 255 |
| Look Parameters Tone Curve PV2012 Blue | 0, 0, 255, 255 |
| Look Parameters Tone Curve PV2012 Green | 0, 0, 255, 255 |
| Look Parameters Tone Curve PV2012 Red | 0, 0, 255, 255 |
| Look Parameters Version | 10.5 |
| Look Supports Amount | false |
| Look Supports Monochrome | false |
| Look Supports Output Referred | false |
| Luminance Adjustment Aqua | 0 |
| Luminance Adjustment Blue | 0 |
| Luminance Adjustment Green | 0 |
| Luminance Adjustment Magenta | 0 |
| Luminance Adjustment Orange | 0 |
| Luminance Adjustment Purple | 0 |
| Luminance Adjustment Red | 0 |
| Luminance Adjustment Yellow | 0 |
| Luminance Smoothing | 0 |
| Marked | True |
| Metering Mode | Multi-segment |
| Override Look Vignette | False |
| Parametric Darks | 0 |
| Parametric Highlight Split | 75 |
| Parametric Highlights | 0 |
| Parametric Lights | 0 |
| Parametric Midtone Split | 50 |
| Parametric Shadow Split | 25 |
| Parametric Shadows | 0 |
| Perspective Aspect | 0 |
| Perspective Horizontal | 0 |
| Perspective Rotate | 0.0 |
| Perspective Scale | 100 |
| Perspective Upright | 0 |
| Perspective Vertical | 0 |
| Perspective X | 0.00 |
| Perspective Y | 0.00 |
| Post Crop Vignette Amount | 0 |
| Process Version | 10.0 |
| Raw File Name | DSC00556.ARW |
| Recommended Exposure Index | 125 |
| Red Hue | 0 |
| Red Saturation | 0 |
| Rights | Bernhard Sonderhuesken |
| Saturation | Normal |
| Saturation Adjustment Aqua | 0 |
| Saturation Adjustment Blue | 0 |
| Saturation Adjustment Green | 0 |
| Saturation Adjustment Magenta | 0 |
| Saturation Adjustment Orange | 0 |
| Saturation Adjustment Purple | 0 |
| Saturation Adjustment Red | 0 |
| Saturation Adjustment Yellow | 0 |
| Scale Factor To 35 mm Equivalent | 2.7 |
| Scene Capture Type | Standard |
| Scene Type | Directly photographed |
| Sensitivity Type | Recommended Exposure Index |
| Shadow Tint | 0 |
| Shadows 2012 | +53 |
| Sharpen Detail | 25 |
| Sharpen Edge Masking | 0 |
| Sharpen Radius | +1.0 |
| Sharpness | Normal |
| Split Toning Balance | 0 |
| Split Toning Highlight Hue | 0 |
| Split Toning Highlight Saturation | 0 |
| Split Toning Shadow Hue | 0 |
| Split Toning Shadow Saturation | 0 |
| Subject | bretagne, castle, château, costaérès, côtes d'amor, france, granit, granit rose, ile, insel, island, rose, schloss |
| Tint | +4 |
| Title | Île de Costaérès |
| Tone Curve | 0, 0, 255, 255 |
| Tone Curve Blue | 0, 0, 255, 255 |
| Tone Curve Green | 0, 0, 255, 255 |
| Tone Curve Name | Linear |
| Tone Curve Name 2012 | Linear |
| Tone Curve PV2012 | 0, 0, 255, 255 |
| Tone Curve PV2012 Blue | 0, 0, 255, 255 |
| Tone Curve PV2012 Green | 0, 0, 255, 255 |
| Tone Curve PV2012 Red | 0, 0, 255, 255 |
| Tone Curve Red | 0, 0, 255, 255 |
| Tone Map Strength | 0 |
| Version | 10.5 |
| Vibrance | +12 |
| Vignette Amount | 0 |
| White Balance | Auto |
| Whites 2012 | +38 |
GPS Information |
| GPS Altitude | 0 m |
| GPS Differential | No Correction |
| GPS Latitude | 48 deg 49' 56.49" N |
| GPS Latitude Ref | North |
| GPS Longitude | 3 deg 29' 19.06" W |
| GPS Longitude Ref | West |
| GPS Map Datum | WGS-84 |
| GPS Position | 48 deg 49' 56.49" N, 3 deg 29' 19.06" W |
| GPS Status | Measurement Void |
| GPS Version ID | 2.2.0.0 |
X