Shooting information for this photo
Camera: | NIKON CORPORATION NIKON D300 |
Exposure: | 0.008 sec. (1/125) |
Aperture: | f/5.6 |
Focal Length: | 52.0 mm (35 mm equivalent: 78.0 mm) |
Flash: | No Flash |
Exposure mode: | Aperture-priority AE |
Max Aperture: | 2.8 |
Resolution: | 240 x 240 dpi |
Original Date: | 2009:09:06 19:43:55.43 |
Created on: | 2009:09:06 19:43:55.43 |
Modified on: | 2014:01:26 18:38:09 |
Software: | Adobe Photoshop Lightroom 5.3 (Windows) |
Copyright: | Bernhard Sonderhuesken |
Already Applied | True |
Approximate Focus Distance | 4294967295 |
Artist | Bernhard Sonderhuesken |
Auto Lateral CA | 0 |
Auto White Version | 134348800 |
Blacks 2012 | -15 |
Blue Hue | 0 |
Blue Saturation | 0 |
CFA Pattern | [Red,Green][Green,Blue] |
Camera Profile | Adobe Standard |
Circle Of Confusion | 0.020 mm |
City | Barneville-Carteret |
Clarity 2012 | +17 |
Color Noise Reduction | 25 |
Color Noise Reduction Detail | 50 |
Color Noise Reduction Smoothness | 50 |
Color Temperature | 4330 |
Contrast | Normal |
Contrast 2012 | -22 |
Convert To Grayscale | False |
Country | Frankreich |
Creator | Bernhard Sonderhuesken |
Custom Rendered | Normal |
Date Created | 2009:09:06 19:43:55.43 |
Defringe Green Amount | 0 |
Defringe Green Hue Hi | 60 |
Defringe Green Hue Lo | 40 |
Defringe Purple Amount | 0 |
Defringe Purple Hue Hi | 70 |
Defringe Purple Hue Lo | 30 |
Description | Barneville-Carteret, Cotentin, France |
Digital Zoom Ratio | 1 |
Exposure 2012 | +0.34 |
Exposure Compensation | 0 |
Exposure Mode | Auto |
Field Of View | 26.0 deg |
Focal Length In 35mm Format | 78 mm |
Format | image/jpeg |
Gain Control | None |
Grain Amount | 0 |
Green Hue | 0 |
Green Saturation | 0 |
Has Crop | False |
Has Settings | True |
Highlights 2012 | -100 |
Hue Adjustment Aqua | 0 |
Hue Adjustment Blue | 0 |
Hue Adjustment Green | 0 |
Hue Adjustment Magenta | 0 |
Hue Adjustment Orange | 0 |
Hue Adjustment Purple | 0 |
Hue Adjustment Red | 0 |
Hue Adjustment Yellow | 0 |
Hyperfocal Distance | 24.11 m |
ISO | 200 |
Image Description | Barneville-Carteret, Cotentin, France |
Image Number | 17608 |
Image Size | 4288x2848 |
Lens | 17.0-55.0 mm f/2.8 |
Lens ID | AF-S DX Zoom-Nikkor 17-55mm f/2.8G IF-ED |
Lens Info | 17-55mm f/2.8 |
Lens Manual Distortion Amount | 0 |
Lens Model | 17.0-55.0 mm f/2.8 |
Lens Profile Chromatic Aberration Scale | 100 |
Lens Profile Distortion Scale | 100 |
Lens Profile Enable | 1 |
Lens Profile Filename | NIKON D90 (Nikon AF-S DX Zoom-NIKKOR 17-55mm f2.8G IF-ED) - RAW.lcp |
Lens Profile Name | Adobe (Nikon AF-S DX Zoom-Nikkor 17-55mm f/2.8G IF-ED) |
Lens Profile Setup | Custom |
Lens Profile Vignetting Scale | 100 |
Light Source | Unknown |
Light Value | 10.9 |
Luminance Adjustment Aqua | 0 |
Luminance Adjustment Blue | 0 |
Luminance Adjustment Green | 0 |
Luminance Adjustment Magenta | 0 |
Luminance Adjustment Orange | 0 |
Luminance Adjustment Purple | 0 |
Luminance Adjustment Red | 0 |
Luminance Adjustment Yellow | 0 |
Luminance Smoothing | 0 |
Marked | True |
Metering Mode | Multi-segment |
Parametric Darks | 0 |
Parametric Highlight Split | 75 |
Parametric Highlights | 0 |
Parametric Lights | 0 |
Parametric Midtone Split | 50 |
Parametric Shadow Split | 25 |
Parametric Shadows | 0 |
Perspective Aspect | 0 |
Perspective Horizontal | 0 |
Perspective Rotate | 0.0 |
Perspective Scale | 100 |
Perspective Upright | 0 |
Perspective Vertical | 0 |
Post Crop Vignette Amount | 0 |
Process Version | 6.7 |
Red Hue | 0 |
Red Saturation | 0 |
Rights | Bernhard Sonderhuesken |
Saturation | Normal |
Saturation Adjustment Aqua | 0 |
Saturation Adjustment Blue | 0 |
Saturation Adjustment Green | 0 |
Saturation Adjustment Magenta | 0 |
Saturation Adjustment Orange | 0 |
Saturation Adjustment Purple | 0 |
Saturation Adjustment Red | 0 |
Saturation Adjustment Yellow | 0 |
Scale Factor To 35 mm Equivalent | 1.5 |
Scene Capture Type | Standard |
Scene Type | Directly photographed |
Sensing Method | One-chip color area |
Shadow Tint | 0 |
Shadows 2012 | +48 |
Sharpen Detail | 25 |
Sharpen Edge Masking | 0 |
Sharpen Radius | +1.0 |
Sharpness | Normal |
Split Toning Balance | 0 |
Split Toning Highlight Hue | 0 |
Split Toning Highlight Saturation | 0 |
Split Toning Shadow Hue | 0 |
Split Toning Shadow Saturation | 0 |
State | Basse-Normandie |
Subject | barneville, carteret, cotentin, france, normandie, reflections, sunset |
Subject Distance Range | Unknown |
Tint | 0 |
Title | Sunset |
Tone Curve Name 2012 | Medium Contrast |
Tone Curve PV2012 | 0, 0, 32, 22, 64, 56, 128, 128, 192, 196, 255, 255 |
Tone Curve PV2012 Blue | 0, 0, 255, 255 |
Tone Curve PV2012 Green | 0, 0, 255, 255 |
Tone Curve PV2012 Red | 0, 0, 255, 255 |
Version | 8.3 |
Vibrance | +40 |
Vignette Amount | 0 |
White Balance | Auto |
Whites 2012 | 0 |
GPS Information |
GPS Latitude | 49 deg 22' 20.08" N |
GPS Latitude Ref | North |
GPS Longitude | 1 deg 45' 44.10" W |
GPS Longitude Ref | West |
GPS Position | 49 deg 22' 20.08" N, 1 deg 45' 44.10" W |
GPS Version ID | 2.2.0.0 |