Shooting information for this photo
| Camera: | NIKON CORPORATION NIKON D90 |
| Exposure: | 0.002 sec. (1/500) |
| Aperture: | f/4.5 |
| Focal Length: | 24.0 mm (35 mm equivalent: 36.0 mm) |
| Flash: | No Flash |
| Exposure mode: | Shutter speed priority AE |
| Max Aperture: | 3.9 |
| Resolution: | 300 x 300 dpi |
| Dimension: | 1024 x 689 pixels |
| Original Date: | 2011:01:14 12:54:25.00 |
| Digitized Date: | 2011:01:14 12:54:25+01:00 |
| Created on: | 2011:01:14 12:54:25.00 |
| Modified on: | 2013:12:20 17:37:54.00 |
| Software: | Adobe Photoshop CS3 Windows |
| Already Applied | True |
| Approximate Focus Distance | 4.22 |
| Auto Lateral CA | 0 |
| Blacks 2012 | -28 |
| Blue Hue | 0 |
| Blue Saturation | 0 |
| CFA Pattern | [Green,Blue][Red,Green] |
| Camera Profile | Adobe Standard |
| Circle Of Confusion | 0.020 mm |
| Clarity 2012 | +91 |
| Color Mode | RGB |
| Color Noise Reduction | 25 |
| Color Noise Reduction Detail | 50 |
| Color Space | Uncalibrated |
| Color Temperature | 4800 |
| Contrast | Normal |
| Contrast 2012 | +29 |
| Convert To Grayscale | False |
| Custom Rendered | Custom |
| Date Created | 2011:01:14 |
| Defringe Green Amount | 0 |
| Defringe Green Hue Hi | 60 |
| Defringe Green Hue Lo | 40 |
| Defringe Purple Amount | 0 |
| Defringe Purple Hue Hi | 70 |
| Defringe Purple Hue Lo | 30 |
| Digital Zoom Ratio | 1 |
| Exposure 2012 | -0.10 |
| Exposure Compensation | 0 |
| Exposure Mode | Auto |
| Field Of View | 53.1 deg |
| Flash Fired | False |
| Flash Function | False |
| Flash Mode | Unknown |
| Flash Red Eye Mode | False |
| Flash Return | No return detection |
| Focal Length In 35mm Format | 36 mm |
| Format | image/jpeg |
| Gain Control | Low gain up |
| Grain Amount | 0 |
| Green Hue | 0 |
| Green Saturation | 0 |
| Has Crop | False |
| Has Settings | True |
| Highlights 2012 | -57 |
| Hue Adjustment Aqua | 0 |
| Hue Adjustment Blue | 0 |
| Hue Adjustment Green | 0 |
| Hue Adjustment Magenta | 0 |
| Hue Adjustment Orange | 0 |
| Hue Adjustment Purple | 0 |
| Hue Adjustment Red | 0 |
| Hue Adjustment Yellow | 0 |
| Hyperfocal Distance | 6.39 m |
| ICC Profile Name | Adobe RGB (1998) |
| ISO | 800 |
| Image Number | 13020 |
| Image Size | 1024x689 |
| Lens | 18.0-105.0 mm f/3.5-5.6 |
| Lens ID | AF-S DX VR Zoom-Nikkor 18-105mm f/3.5-5.6G ED |
| Lens Info | 18-105mm f/3.5-5.6 |
| Lens Manual Distortion Amount | 0 |
| Lens Model | 18.0-105.0 mm f/3.5-5.6 |
| Lens Profile Enable | 0 |
| Lens Profile Setup | LensDefaults |
| Light Source | Unknown |
| Light Value | 10.3 |
| Luminance Adjustment Aqua | 0 |
| Luminance Adjustment Blue | 0 |
| Luminance Adjustment Green | 0 |
| Luminance Adjustment Magenta | 0 |
| Luminance Adjustment Orange | 0 |
| Luminance Adjustment Purple | 0 |
| Luminance Adjustment Red | 0 |
| Luminance Adjustment Yellow | 0 |
| Luminance Smoothing | 0 |
| Metering Mode | Center-weighted average |
| Parametric Darks | 0 |
| Parametric Highlight Split | 75 |
| Parametric Highlights | 0 |
| Parametric Lights | 0 |
| Parametric Midtone Split | 50 |
| Parametric Shadow Split | 25 |
| Parametric Shadows | 0 |
| Perspective Aspect | 0 |
| Perspective Horizontal | 0 |
| Perspective Rotate | 0.0 |
| Perspective Scale | 100 |
| Perspective Upright | 0 |
| Perspective Vertical | 0 |
| Photometric Interpretation | RGB |
| Planar Configuration | Chunky |
| Post Crop Vignette Amount | 0 |
| Process Version | 6.7 |
| Rating | 0 |
| Rating Percent | 0 |
| Raw File Name | _DSC0215.NEF |
| Red Hue | 0 |
| Red Saturation | 0 |
| Samples Per Pixel | 3 |
| Saturation | Normal |
| Saturation Adjustment Aqua | 0 |
| Saturation Adjustment Blue | 0 |
| Saturation Adjustment Green | 0 |
| Saturation Adjustment Magenta | 0 |
| Saturation Adjustment Orange | 0 |
| Saturation Adjustment Purple | 0 |
| Saturation Adjustment Red | 0 |
| Saturation Adjustment Yellow | 0 |
| Scale Factor To 35 mm Equivalent | 1.5 |
| Scene Capture Type | Standard |
| Scene Type | Directly photographed |
| Sensing Method | One-chip color area |
| Shadow Tint | 0 |
| Shadows 2012 | 0 |
| Sharpen Detail | 25 |
| Sharpen Edge Masking | 0 |
| Sharpen Radius | +1.0 |
| Sharpness | Normal |
| Split Toning Balance | 0 |
| Split Toning Highlight Hue | 0 |
| Split Toning Highlight Saturation | 0 |
| Split Toning Shadow Hue | 0 |
| Split Toning Shadow Saturation | 0 |
| Subject Distance Range | Unknown |
| Tint | -4 |
| Tone Curve Name 2012 | Linear |
| Tone Curve PV2012 | 0, 0, 255, 255 |
| Tone Curve PV2012 Blue | 0, 0, 255, 255 |
| Tone Curve PV2012 Green | 0, 0, 255, 255 |
| Tone Curve PV2012 Red | 0, 0, 255, 255 |
| Version | 8.1 |
| Vibrance | 0 |
| Vignette Amount | 0 |
| White Balance | Manual |
| Whites 2012 | -5 |
X