Shooting information for this photo
| Camera: | Canon DIGITAL IXUS 500 |
| Exposure: | 0.00156 sec. (1/640) |
| Aperture: | f/7.1 |
| Focal Length: | 7.4 mm (35 mm equivalent: 35.7 mm) |
| Flash: | Auto, Did not fire |
| Max Aperture: | 2.8 |
| Resolution: | 360 x 360 dpi |
| Original Date: | 2004:09:30 12:01:01 |
| Created on: | 2004:09:30 12:01:01 |
| Modified on: | 2015:05:19 11:38:14 |
| Software: | Adobe Photoshop Lightroom 5.7 (Windows) |
| Copyright: | (C)2004 Jakob Bärfuss CH-8625 Gossau ZH, all rights reserved |
| Already Applied | True |
| Approximate Focus Distance | 2.14 |
| Artist | Jakob Bärfuss |
| Authors Position | Dipl. Naturwissenschafter (Botaniker) |
| Auto Lateral CA | 0 |
| Auto White Version | 134348800 |
| Blacks 2012 | -6 |
| Blue Hue | 0 |
| Blue Saturation | 0 |
| Camera Profile | Embedded |
| Circle Of Confusion | 0.006 mm |
| Clarity 2012 | +10 |
| Color Noise Reduction | 5 |
| Color Noise Reduction Detail | 50 |
| Color Noise Reduction Smoothness | 50 |
| Color Space | sRGB |
| Contrast 2012 | 0 |
| Convert To Grayscale | False |
| Creator | Jakob Bärfuss |
| Custom Rendered | Normal |
| Date Created | 2004:09:30 12:01:01+02:00 |
| Defringe Green Amount | 0 |
| Defringe Green Hue Hi | 60 |
| Defringe Green Hue Lo | 40 |
| Defringe Purple Amount | 0 |
| Defringe Purple Hue Hi | 70 |
| Defringe Purple Hue Lo | 30 |
| Digital Zoom Ratio | 1 |
| Exposure 2012 | +0.30 |
| Exposure Compensation | 0 |
| Exposure Mode | Auto |
| Field Of View | 53.5 deg |
| Firmware | 1.00 |
| Flash Compensation | 0 |
| Format | image/jpeg |
| Grain Amount | 0 |
| Green Hue | 0 |
| Green Saturation | 0 |
| Has Crop | False |
| Has Settings | True |
| Highlights 2012 | -10 |
| Hue Adjustment Aqua | 0 |
| Hue Adjustment Blue | -4 |
| Hue Adjustment Green | 0 |
| Hue Adjustment Magenta | 0 |
| Hue Adjustment Orange | 0 |
| Hue Adjustment Purple | 0 |
| Hue Adjustment Red | 0 |
| Hue Adjustment Yellow | 0 |
| Hyperfocal Distance | 1.24 m |
| ISO | 50 |
| Image Size | 2592x1944 |
| Incremental Temperature | 0 |
| Incremental Tint | 0 |
| Lens | 7.4-22.2 mm |
| Lens Info | 7.40625-22.21875mm f/? |
| Lens Manual Distortion Amount | 0 |
| Lens Model | 7.4-22.2 mm |
| Lens Profile Enable | 0 |
| Lens Profile Setup | LensDefaults |
| Light Value | 16.0 |
| Luminance Adjustment Aqua | 0 |
| Luminance Adjustment Blue | +5 |
| Luminance Adjustment Green | +74 |
| Luminance Adjustment Magenta | 0 |
| Luminance Adjustment Orange | -20 |
| Luminance Adjustment Purple | 0 |
| Luminance Adjustment Red | +20 |
| Luminance Adjustment Yellow | +40 |
| Luminance Noise Reduction Contrast | 50 |
| Luminance Noise Reduction Detail | 50 |
| Luminance Smoothing | 5 |
| Marked | True |
| Metering Mode | Multi-segment |
| Parametric Darks | 0 |
| Parametric Highlight Split | 86 |
| Parametric Highlights | +10 |
| Parametric Lights | -10 |
| Parametric Midtone Split | 50 |
| Parametric Shadow Split | 25 |
| Parametric Shadows | -5 |
| Perspective Aspect | 0 |
| Perspective Horizontal | 0 |
| Perspective Rotate | 0.0 |
| Perspective Scale | 100 |
| Perspective Upright | 0 |
| Perspective Vertical | 0 |
| Post Crop Vignette Amount | 0 |
| Process Version | 6.7 |
| Rating | 3 |
| Red Hue | 0 |
| Red Saturation | 0 |
| Rights | (C)2004 Jakob Bärfuss CH-8625 Gossau ZH, all rights reserved |
| Saturation | +2 |
| Saturation Adjustment Aqua | 0 |
| Saturation Adjustment Blue | 0 |
| Saturation Adjustment Green | -16 |
| Saturation Adjustment Magenta | 0 |
| Saturation Adjustment Orange | +10 |
| Saturation Adjustment Purple | -10 |
| Saturation Adjustment Red | +15 |
| Saturation Adjustment Yellow | -5 |
| Scale Factor To 35 mm Equivalent | 4.8 |
| Scene Capture Type | Standard |
| Sensing Method | One-chip color area |
| Shadow Tint | 0 |
| Shadows 2012 | 0 |
| Sharpen Detail | 30 |
| Sharpen Edge Masking | 5 |
| Sharpen Radius | +1.0 |
| Sharpness | 25 |
| Split Toning Balance | 0 |
| Split Toning Highlight Hue | 0 |
| Split Toning Highlight Saturation | 0 |
| Split Toning Shadow Hue | 0 |
| Split Toning Shadow Saturation | 0 |
| Subject | 01 Jakob |
| Tone Curve | 0, 0, 255, 255 |
| Tone Curve Blue | 0, 0, 255, 255 |
| Tone Curve Green | 0, 0, 255, 255 |
| Tone Curve Name | Linear |
| Tone Curve Name 2012 | Linear |
| Tone Curve PV2012 | 0, 0, 255, 255 |
| Tone Curve PV2012 Blue | 0, 0, 255, 255 |
| Tone Curve PV2012 Green | 0, 0, 255, 255 |
| Tone Curve PV2012 Red | 0, 0, 255, 255 |
| Tone Curve Red | 0, 0, 255, 255 |
| Usage Terms | Nur zur Ansicht, keine Vervielfältigung ohne vorherige Genehmigung |
| Version | 8.7 |
| Vibrance | +5 |
| Vignette Amount | 0 |
| White Balance | Auto |
| Whites 2012 | -10 |
X