Shooting information for this photo
| Camera: | NIKON CORPORATION NIKON D300 |
| Exposure: | 0.01667 sec. (1/60) |
| Aperture: | f/11.0 |
| Focal Length: | 105.0 mm (35 mm equivalent: 157.0 mm) |
| Flash: | No Flash |
| Exposure mode: | Aperture-priority AE |
| Max Aperture: | 3.0 |
| Resolution: | 240 x 240 dpi |
| Original Date: | 2012:10:04 15:43:22.68 |
| Created on: | 2012:10:04 15:43:22.68 |
| Modified on: | 2012:10:27 20:07:45 |
| Software: | Adobe Photoshop Lightroom 4.2 (Windows) |
| Copyright: | (C)2012 Jakob Bärfuss CH-8625 Gossau ZH, all rights reserved |
| Already Applied | True |
| Approximate Focus Distance | 1 |
| Artist | Jakob Bärfuss |
| Authors Position | Dipl. Naturwissenschafter (Botaniker) |
| Auto Lateral CA | 0 |
| Blacks 2012 | -10 |
| Blue Hue | 0 |
| Blue Saturation | 0 |
| CFA Pattern | [Red,Green][Green,Blue] |
| Camera Profile | Adobe Standard |
| Circle Of Confusion | 0.020 mm |
| Clarity 2012 | +30 |
| Color Noise Reduction | 30 |
| Color Noise Reduction Detail | 50 |
| Color Temperature | 4200 |
| Contrast | Normal |
| Contrast 2012 | 0 |
| Convert To Grayscale | False |
| Creator | Jakob Bärfuss |
| Crop Angle | 0 |
| Crop Bottom | 1 |
| Crop Constrain To Warp | 0 |
| Crop Height | 2848 |
| Crop Left | 0.058866 |
| Crop Right | 0.88909 |
| Crop Top | 0 |
| Crop Unit | pixels |
| Crop Width | 3560 |
| Custom Rendered | Normal |
| Date Created | 2012:10:04 15:43:22.68 |
| Defringe Green Amount | 0 |
| Defringe Green Hue Hi | 60 |
| Defringe Green Hue Lo | 40 |
| Defringe Purple Amount | 0 |
| Defringe Purple Hue Hi | 70 |
| Defringe Purple Hue Lo | 30 |
| Digital Zoom Ratio | 1 |
| Exposure 2012 | +1.00 |
| Exposure Compensation | -1 |
| Exposure Mode | Auto |
| Field Of View | 13.1 deg |
| Focal Length In 35mm Format | 157 mm |
| Format | image/jpeg |
| Gain Control | None |
| Grain Amount | 0 |
| Green Hue | 0 |
| Green Saturation | 0 |
| Has Crop | True |
| Has Settings | True |
| Highlights 2012 | 0 |
| Hue Adjustment Aqua | 0 |
| Hue Adjustment Blue | 0 |
| Hue Adjustment Green | 0 |
| Hue Adjustment Magenta | 0 |
| Hue Adjustment Orange | 0 |
| Hue Adjustment Purple | 0 |
| Hue Adjustment Red | 0 |
| Hue Adjustment Yellow | 0 |
| Hyperfocal Distance | 49.88 m |
| ISO | 200 |
| Image Number | 32751 |
| Image Size | 3560x2848 |
| Lens | 105.0 mm f/2.8 |
| Lens ID | AF-S VR Micro-Nikkor 105mm f/2.8G IF-ED |
| Lens Info | 105mm f/2.8 |
| Lens Manual Distortion Amount | 0 |
| Lens Model | 105.0 mm f/2.8 |
| Lens Profile Enable | 0 |
| Lens Profile Setup | LensDefaults |
| Light Source | Unknown |
| Light Value | 11.8 |
| Luminance Adjustment Aqua | -18 |
| Luminance Adjustment Blue | -14 |
| Luminance Adjustment Green | 0 |
| Luminance Adjustment Magenta | 0 |
| Luminance Adjustment Orange | 0 |
| Luminance Adjustment Purple | 0 |
| Luminance Adjustment Red | 0 |
| Luminance Adjustment Yellow | +16 |
| Luminance Noise Reduction Contrast | 50 |
| Luminance Noise Reduction Detail | 50 |
| Luminance Smoothing | 12 |
| Marked | True |
| Metering Mode | Center-weighted average |
| Parametric Darks | 0 |
| Parametric Highlight Split | 90 |
| Parametric Highlights | +40 |
| Parametric Lights | -30 |
| Parametric Midtone Split | 45 |
| Parametric Shadow Split | 25 |
| Parametric Shadows | -15 |
| Perspective Horizontal | 0 |
| Perspective Rotate | 0.0 |
| Perspective Scale | 100 |
| Perspective Vertical | 0 |
| Post Crop Vignette Amount | 0 |
| Process Version | 6.7 |
| Rating | 3 |
| Red Hue | 0 |
| Red Saturation | 0 |
| Rights | (C)2012 Jakob Bärfuss CH-8625 Gossau ZH, all rights reserved |
| Saturation | Normal |
| Saturation Adjustment Aqua | 0 |
| Saturation Adjustment Blue | 0 |
| Saturation Adjustment Green | -6 |
| Saturation Adjustment Magenta | 0 |
| Saturation Adjustment Orange | 0 |
| Saturation Adjustment Purple | 0 |
| Saturation Adjustment Red | 0 |
| Saturation Adjustment Yellow | +8 |
| Scale Factor To 35 mm Equivalent | 1.5 |
| Scene Capture Type | Standard |
| Scene Type | Directly photographed |
| Sensing Method | One-chip color area |
| Shadow Tint | 0 |
| Shadows 2012 | 0 |
| Sharpen Detail | 30 |
| Sharpen Edge Masking | 16 |
| Sharpen Radius | +1.0 |
| Sharpness | Normal |
| Split Toning Balance | 0 |
| Split Toning Highlight Hue | 0 |
| Split Toning Highlight Saturation | 0 |
| Split Toning Shadow Hue | 0 |
| Split Toning Shadow Saturation | 0 |
| Subject | 01 Jakob |
| Subject Distance Range | Unknown |
| Tint | +8 |
| Tone Curve Name 2012 | Linear |
| Tone Curve PV2012 | 0, 0, 255, 255 |
| Tone Curve PV2012 Blue | 0, 0, 255, 255 |
| Tone Curve PV2012 Green | 0, 0, 255, 255 |
| Tone Curve PV2012 Red | 0, 0, 255, 255 |
| Usage Terms | Nur zur Ansicht, keine Vervielfältigung ohne vorherige Genehmigung |
| Version | 7.2 |
| Vibrance | +6 |
| Vignette Amount | 0 |
| White Balance | Auto |
| Whites 2012 | 0 |
X