Shooting information for this photo
| Camera: | NIKON CORPORATION NIKON D300 |
| Exposure: | 0.00313 sec. (1/320) |
| Aperture: | f/16.0 |
| Focal Length: | 105.0 mm (35 mm equivalent: 157.0 mm) |
| Flash: | No Flash |
| Exposure mode: | Aperture-priority AE |
| Max Aperture: | 2.8 |
| Resolution: | 240 x 240 dpi |
| Original Date: | 2011:07:11 17:33:54.08 |
| Created on: | 2011:07:11 17:33:54.08 |
| Modified on: | 2011:07:13 17:32:52 |
| Software: | Adobe Photoshop Lightroom 3.4 |
| Copyright: | (C)2011 Jakob Bärfuss CH-8625 Gossau ZH, all rights reserved |
| Already Applied | True |
| Approximate Focus Distance | 4294967295 |
| Artist | Jakob Bärfuss |
| Authors Position | Dipl. Naturwissenschafter (Botaniker) |
| Blue Hue | 0 |
| Blue Saturation | 0 |
| Brightness | +50 |
| CFA Pattern | [Red,Green][Green,Blue] |
| Camera Profile | Adobe Standard |
| Chromatic Aberration B | 0 |
| Chromatic Aberration R | 0 |
| Circle Of Confusion | 0.020 mm |
| Clarity | +30 |
| Color Noise Reduction | 30 |
| Color Noise Reduction Detail | 50 |
| Color Temperature | 5150 |
| Contrast | Normal |
| Convert To Grayscale | False |
| Creator | Jakob Bärfuss |
| Custom Rendered | Normal |
| Date Created | 2011:07:11 17:33:54.08 |
| Defringe | 0 |
| Depth Of Field | inf (34.29 m - inf) |
| Digital Zoom Ratio | 1 |
| Exposure | +1.00 |
| Exposure Compensation | -1/3 |
| Exposure Mode | Auto |
| Field Of View | 13.1 deg |
| Fill Light | 0 |
| Focal Length In 35mm Format | 157 mm |
| Gain Control | None |
| Grain Amount | 0 |
| Green Hue | 0 |
| Green Saturation | 0 |
| Has Crop | False |
| Has Settings | True |
| Highlight Recovery | 0 |
| Hue Adjustment Aqua | +2 |
| Hue Adjustment Blue | +10 |
| Hue Adjustment Green | 0 |
| Hue Adjustment Magenta | 0 |
| Hue Adjustment Orange | 0 |
| Hue Adjustment Purple | 0 |
| Hue Adjustment Red | 0 |
| Hue Adjustment Yellow | 0 |
| Hyperfocal Distance | 34.29 m |
| ISO | 200 |
| Image Number | 20805 |
| Image Size | 1129x750 |
| Lens | 105.0 mm f/2.8 |
| Lens ID | AF-S VR Micro-Nikkor 105mm f/2.8G IF-ED |
| Lens Info | 105mm f/2.8 |
| Lens Manual Distortion Amount | 0 |
| Lens Model | 105.0 mm f/2.8 |
| Lens Profile Enable | 0 |
| Lens Profile Setup | LensDefaults |
| Light Source | Unknown |
| Light Value | 15.3 |
| Luminance Adjustment Aqua | 0 |
| Luminance Adjustment Blue | 0 |
| Luminance Adjustment Green | +8 |
| Luminance Adjustment Magenta | 0 |
| Luminance Adjustment Orange | +40 |
| Luminance Adjustment Purple | 0 |
| Luminance Adjustment Red | 0 |
| Luminance Adjustment Yellow | +39 |
| Luminance Noise Reduction Contrast | 0 |
| Luminance Noise Reduction Detail | 50 |
| Luminance Smoothing | 16 |
| Marked | True |
| Metering Mode | Multi-segment |
| Parametric Darks | 0 |
| Parametric Highlight Split | 84 |
| Parametric Highlights | +36 |
| Parametric Lights | -36 |
| Parametric Midtone Split | 51 |
| Parametric Shadow Split | 25 |
| Parametric Shadows | 0 |
| Perspective Horizontal | 0 |
| Perspective Rotate | 0.0 |
| Perspective Scale | 100 |
| Perspective Vertical | 0 |
| Post Crop Vignette Amount | 0 |
| Process Version | 5.7 |
| Rating | 3 |
| Red Hue | 0 |
| Red Saturation | 0 |
| Rights | (C)2011 Jakob Bärfuss CH-8625 Gossau ZH, all rights reserved |
| Saturation | Normal |
| Saturation Adjustment Aqua | 0 |
| Saturation Adjustment Blue | 0 |
| Saturation Adjustment Green | -4 |
| Saturation Adjustment Magenta | 0 |
| Saturation Adjustment Orange | -13 |
| Saturation Adjustment Purple | 0 |
| Saturation Adjustment Red | 0 |
| Saturation Adjustment Yellow | 0 |
| Scale Factor To 35 mm Equivalent | 1.5 |
| Scene Capture Type | Standard |
| Scene Type | Directly photographed |
| Sensing Method | One-chip color area |
| Shadow Tint | 0 |
| Shadows | 5 |
| Sharpen Detail | 30 |
| Sharpen Edge Masking | 20 |
| Sharpen Radius | +1.0 |
| Sharpness | Normal |
| Split Toning Balance | 0 |
| Split Toning Highlight Hue | 0 |
| Split Toning Highlight Saturation | 0 |
| Split Toning Shadow Hue | 0 |
| Split Toning Shadow Saturation | 0 |
| Subject | 01 Jakob |
| Subject Distance | 4294967295 m |
| Subject Distance Range | Unknown |
| Tint | +7 |
| Tone Curve | 0, 0, 32, 22, 64, 56, 128, 128, 192, 196, 255, 255 |
| Tone Curve Name | Medium Contrast |
| Usage Terms | Nur zur Ansicht, keine Vervielfältigung ohne vorherige Genehmigung |
| Version | 6.4 |
| Vibrance | +4 |
| Vignette Amount | 0 |
| White Balance | Auto |
X