Shooting information for this photo
Camera: | NIKON CORPORATION NIKON D300 |
Exposure: | 0.03333 sec. (1/30) |
Aperture: | f/7.1 |
Focal Length: | 70.0 mm (35 mm equivalent: 105.0 mm) |
Flash: | No Flash |
Exposure mode: | Shutter speed priority AE |
Max Aperture: | 4.4 |
Resolution: | 240 x 240 dpi |
Dimension: | 2262 x 2262 pixels |
Original Date: | 2008:06:18 18:45:07.68 |
Digitized Date: | 2008:06:18 18:45:07.68+02:00 |
Created on: | 2008:06:18 18:45:07.68 |
Modified on: | 2010:08:24 19:29:45 |
Software: | Nikon Transfer 1.0 W |
Copyright: | (C)2008 Jakob Barfuss CH-8625 Gossau ZH, all rights reserved |
Already Applied | True |
Authors Position | Dipl. Naturwissenschafter (Botaniker) |
Blue Hue | 0 |
Blue Saturation | 0 |
Brightness | +50 |
CFA Pattern | [Red,Green][Green,Blue] |
Camera Profile | Adobe Standard |
Chromatic Aberration B | 0 |
Chromatic Aberration R | 0 |
Circle Of Confusion | 0.020 mm |
Clarity | +30 |
Color Noise Reduction | 30 |
Color Temperature | 6350 |
Contrast | Normal |
Convert To Grayscale | False |
Creator | Jakob Bärfuss |
Crop Angle | 0 |
Crop Bottom | 0.900556 |
Crop Height | 2262 |
Crop Left | 0.076188 |
Crop Right | 0.603789 |
Crop Top | 0.106191 |
Crop Unit | pixels |
Crop Width | 2262 |
Custom Rendered | Normal |
Defringe | 0 |
Depth Of Field | 0.008 m (0.396 - 0.404) |
Digital Zoom Ratio | 1 |
Exposure | 0.00 |
Exposure Compensation | -1/3 |
Exposure Mode | Auto |
Field Of View | 19.5 deg |
Fill Light | 2 |
Flash Fired | False |
Flash Function | False |
Flash Mode | Unknown |
Flash Red Eye Mode | False |
Flash Return | No return detection |
Focal Length In 35mm Format | 105 mm |
Gain Control | Low gain up |
Green Hue | 0 |
Green Saturation | 0 |
Has Crop | True |
Has Settings | True |
Highlight Recovery | 6 |
Hue Adjustment Aqua | 0 |
Hue Adjustment Blue | 0 |
Hue Adjustment Green | 0 |
Hue Adjustment Magenta | 0 |
Hue Adjustment Orange | +7 |
Hue Adjustment Purple | 0 |
Hue Adjustment Red | +23 |
Hue Adjustment Yellow | 0 |
Hyperfocal Distance | 34.45 m |
ISO | 640 |
Image Number | 632 |
Image Size | 2262x2262 |
Lens | 18.0-70.0 mm f/3.5-4.5 |
Lens Info | 18-70mm f/3.5-4.5 |
Light Source | Unknown |
Light Value | 7.9 |
Luminance Adjustment Aqua | 0 |
Luminance Adjustment Blue | 0 |
Luminance Adjustment Green | -6 |
Luminance Adjustment Magenta | 0 |
Luminance Adjustment Orange | 0 |
Luminance Adjustment Purple | 0 |
Luminance Adjustment Red | 0 |
Luminance Adjustment Yellow | 0 |
Luminance Smoothing | 40 |
Marked | True |
Metering Mode | Center-weighted average |
Parametric Darks | -5 |
Parametric Highlight Split | 75 |
Parametric Highlights | +12 |
Parametric Lights | +5 |
Parametric Midtone Split | 50 |
Parametric Shadow Split | 25 |
Parametric Shadows | -6 |
Post Crop Vignette Amount | 0 |
Red Hue | 0 |
Red Saturation | 0 |
Rights | (C)2008 Jakob Bärfuss CH-8625 Gossau ZH, all rights reserved |
Saturation | Normal |
Saturation Adjustment Aqua | +3 |
Saturation Adjustment Blue | 0 |
Saturation Adjustment Green | +40 |
Saturation Adjustment Magenta | +6 |
Saturation Adjustment Orange | +12 |
Saturation Adjustment Purple | 0 |
Saturation Adjustment Red | +56 |
Saturation Adjustment Yellow | +12 |
Saved Settings Name | Importieren |
Saved Settings Parameters Blue Hue | 0 |
Saved Settings Parameters Blue Saturation | 0 |
Saved Settings Parameters Brightness | 0 |
Saved Settings Parameters Camera Profile | Embedded |
Saved Settings Parameters Chromatic Aberration B | 0 |
Saved Settings Parameters Chromatic Aberration R | 0 |
Saved Settings Parameters Clarity | 0 |
Saved Settings Parameters Color Noise Reduction | 0 |
Saved Settings Parameters Contrast | 0 |
Saved Settings Parameters Convert To Grayscale | False |
Saved Settings Parameters Defringe | 0 |
Saved Settings Parameters Exposure | 0.00 |
Saved Settings Parameters Fill Light | 0 |
Saved Settings Parameters Green Hue | 0 |
Saved Settings Parameters Green Saturation | 0 |
Saved Settings Parameters Highlight Recovery | 0 |
Saved Settings Parameters Hue Adjustment Aqua | 0 |
Saved Settings Parameters Hue Adjustment Blue | 0 |
Saved Settings Parameters Hue Adjustment Green | 0 |
Saved Settings Parameters Hue Adjustment Magenta | 0 |
Saved Settings Parameters Hue Adjustment Orange | 0 |
Saved Settings Parameters Hue Adjustment Purple | 0 |
Saved Settings Parameters Hue Adjustment Red | 0 |
Saved Settings Parameters Hue Adjustment Yellow | 0 |
Saved Settings Parameters Incremental Temperature | 0 |
Saved Settings Parameters Incremental Tint | 0 |
Saved Settings Parameters Luminance Adjustment Aqua | 0 |
Saved Settings Parameters Luminance Adjustment Blue | 0 |
Saved Settings Parameters Luminance Adjustment Green | 0 |
Saved Settings Parameters Luminance Adjustment Magenta | 0 |
Saved Settings Parameters Luminance Adjustment Orange | 0 |
Saved Settings Parameters Luminance Adjustment Purple | 0 |
Saved Settings Parameters Luminance Adjustment Red | 0 |
Saved Settings Parameters Luminance Adjustment Yellow | 0 |
Saved Settings Parameters Luminance Smoothing | 0 |
Saved Settings Parameters Parametric Darks | 0 |
Saved Settings Parameters Parametric Highlight Split | 75 |
Saved Settings Parameters Parametric Highlights | 0 |
Saved Settings Parameters Parametric Lights | 0 |
Saved Settings Parameters Parametric Midtone Split | 50 |
Saved Settings Parameters Parametric Shadow Split | 25 |
Saved Settings Parameters Parametric Shadows | 0 |
Saved Settings Parameters Post Crop Vignette Amount | 0 |
Saved Settings Parameters Red Hue | 0 |
Saved Settings Parameters Red Saturation | 0 |
Saved Settings Parameters Saturation | 0 |
Saved Settings Parameters Saturation Adjustment Aqua | 0 |
Saved Settings Parameters Saturation Adjustment Blue | 0 |
Saved Settings Parameters Saturation Adjustment Green | 0 |
Saved Settings Parameters Saturation Adjustment Magenta | 0 |
Saved Settings Parameters Saturation Adjustment Orange | 0 |
Saved Settings Parameters Saturation Adjustment Purple | 0 |
Saved Settings Parameters Saturation Adjustment Red | 0 |
Saved Settings Parameters Saturation Adjustment Yellow | 0 |
Saved Settings Parameters Shadow Tint | 0 |
Saved Settings Parameters Shadows | 0 |
Saved Settings Parameters Sharpen Detail | 25 |
Saved Settings Parameters Sharpen Edge Masking | 0 |
Saved Settings Parameters Sharpen Radius | +1.0 |
Saved Settings Parameters Sharpness | 0 |
Saved Settings Parameters Split Toning Balance | 0 |
Saved Settings Parameters Split Toning Highlight Hue | 0 |
Saved Settings Parameters Split Toning Highlight Saturation | 0 |
Saved Settings Parameters Split Toning Shadow Hue | 0 |
Saved Settings Parameters Split Toning Shadow Saturation | 0 |
Saved Settings Parameters Tone Curve | 0, 0, 255, 255 |
Saved Settings Parameters Tone Curve Name | Linear |
Saved Settings Parameters Version | 5.7 |
Saved Settings Parameters Vibrance | 0 |
Saved Settings Parameters Vignette Amount | 0 |
Saved Settings Parameters White Balance | As Shot |
Saved Settings Type | Snapshot |
Scale Factor To 35 mm Equivalent | 1.5 |
Scene Capture Type | Standard |
Scene Type | Directly photographed |
Sensing Method | One-chip color area |
Shadow Tint | 0 |
Shadows | 2 |
Sharpen Detail | 40 |
Sharpen Edge Masking | 0 |
Sharpen Radius | +1.0 |
Sharpness | Normal |
Split Toning Balance | 0 |
Split Toning Highlight Hue | 0 |
Split Toning Highlight Saturation | 0 |
Split Toning Shadow Hue | 0 |
Split Toning Shadow Saturation | 0 |
Subject | 01 Jakob |
Subject Distance | 0.4 m |
Subject Distance Range | Unknown |
Tint | +32 |
Title | E-2 1x1 V-1 -> Flickr 2010-08-24 |
Tone Curve | 0, 0, 32, 22, 64, 56, 128, 128, 192, 196, 255, 255 |
Tone Curve Name | Medium Contrast |
Usage Terms | Nur zur Ansicht, keine Vervielfältigung ohne vorherige Genehmigung |
User Comment | (c) Jakob Baerfuss Gossau ZH - CH |
Version | 5.7 |
Vibrance | +8 |
Vignette Amount | 0 |
White Balance | Auto |