Shooting information for this photo
Camera: | NIKON CORPORATION NIKON D300 |
Exposure: | 0.005 sec. (1/200) |
Aperture: | f/14.0 |
Focal Length: | 60.0 mm (35 mm equivalent: 90.0 mm) |
Flash: | No Flash |
Exposure mode: | Shutter speed priority AE |
Max Aperture: | 2.8 |
Resolution: | 240 x 240 dpi |
Original Date: | 2011:02:13 14:25:14.60 |
Created on: | 2011:02:13 14:25:14.60 |
Modified on: | 2012:01:25 20:13:25 |
Software: | Adobe Photoshop Lightroom 3.4.1 |
Copyright: | (C)2011 Jakob Bärfuss CH-8625 Gossau ZH, all rights reserved |
Already Applied | True |
Approximate Focus Distance | 1.33 |
Artist | Jakob Bärfuss |
Authors Position | Dipl. Naturwissenschafter (Botaniker) |
Blue Hue | 0 |
Blue Saturation | 0 |
Brightness | +45 |
CFA Pattern | [Red,Green][Green,Blue] |
Camera Profile | Adobe Standard |
Chromatic Aberration B | 0 |
Chromatic Aberration R | 0 |
Circle Of Confusion | 0.020 mm |
Clarity | +30 |
Color Noise Reduction | 30 |
Color Noise Reduction Detail | 50 |
Color Temperature | 4650 |
Contrast | Normal |
Convert To Grayscale | False |
Creator | Jakob Bärfuss |
Crop Angle | 0 |
Crop Bottom | 0.981238 |
Crop Constrain To Warp | 0 |
Crop Height | 2666 |
Crop Left | 0.116659 |
Crop Right | 0.893924 |
Crop Top | 0.045027 |
Crop Unit | pixels |
Crop Width | 3333 |
Custom Rendered | Normal |
Date Created | 2011:02:13 14:25:14.60+01:00 |
Defringe | 0 |
Depth Of Field | 0.27 m (1.21 - 1.48) |
Digital Zoom Ratio | 1 |
Exposure | +0.60 |
Exposure Compensation | -2/3 |
Exposure Mode | Auto |
Field Of View | 22.6 deg |
Fill Light | 0 |
Focal Length In 35mm Format | 90 mm |
Gain Control | None |
Grain Amount | 0 |
Green Hue | 0 |
Green Saturation | 0 |
Has Crop | True |
Has Settings | True |
Highlight Recovery | 14 |
Hue Adjustment Aqua | 0 |
Hue Adjustment Blue | 0 |
Hue Adjustment Green | 0 |
Hue Adjustment Magenta | 0 |
Hue Adjustment Orange | 0 |
Hue Adjustment Purple | 0 |
Hue Adjustment Red | 0 |
Hue Adjustment Yellow | 0 |
Hyperfocal Distance | 12.84 m |
ISO | 200 |
Image Number | 15643 |
Image Size | 2666x3333 |
Lens | 60.0 mm f/2.8 |
Lens ID | AF-S Micro Nikkor 60mm f/2.8G ED |
Lens Info | 60mm f/2.8 |
Lens Manual Distortion Amount | 0 |
Lens Model | 60.0 mm f/2.8 |
Lens Profile Enable | 0 |
Lens Profile Setup | LensDefaults |
Light Source | Unknown |
Light Value | 14.3 |
Luminance Adjustment Aqua | 0 |
Luminance Adjustment Blue | 0 |
Luminance Adjustment Green | 0 |
Luminance Adjustment Magenta | 0 |
Luminance Adjustment Orange | 0 |
Luminance Adjustment Purple | 0 |
Luminance Adjustment Red | 0 |
Luminance Adjustment Yellow | 0 |
Luminance Noise Reduction Contrast | 0 |
Luminance Noise Reduction Detail | 50 |
Luminance Smoothing | 5 |
Marked | True |
Metering Mode | Multi-segment |
Parametric Darks | +16 |
Parametric Highlight Split | 90 |
Parametric Highlights | 0 |
Parametric Lights | -60 |
Parametric Midtone Split | 50 |
Parametric Shadow Split | 25 |
Parametric Shadows | 0 |
Perspective Horizontal | 0 |
Perspective Rotate | 0.0 |
Perspective Scale | 100 |
Perspective Vertical | 0 |
Post Crop Vignette Amount | 0 |
Process Version | 5.7 |
Rating | 3 |
Red Hue | 0 |
Red Saturation | 0 |
Rights | (C)2011 Jakob Bärfuss CH-8625 Gossau ZH, all rights reserved |
Saturation | Normal |
Saturation Adjustment Aqua | 0 |
Saturation Adjustment Blue | 0 |
Saturation Adjustment Green | 0 |
Saturation Adjustment Magenta | 0 |
Saturation Adjustment Orange | 0 |
Saturation Adjustment Purple | +10 |
Saturation Adjustment Red | 0 |
Saturation Adjustment Yellow | +10 |
Scale Factor To 35 mm Equivalent | 1.5 |
Scene Capture Type | Standard |
Scene Type | Directly photographed |
Sensing Method | One-chip color area |
Shadow Tint | 0 |
Shadows | 4 |
Sharpen Detail | 40 |
Sharpen Edge Masking | 10 |
Sharpen Radius | +1.0 |
Sharpness | Normal |
Split Toning Balance | 0 |
Split Toning Highlight Hue | 0 |
Split Toning Highlight Saturation | 0 |
Split Toning Shadow Hue | 0 |
Split Toning Shadow Saturation | 0 |
Subject | 01 Jakob, Angiospermae - Bedecktsamige, Bedecktsamige Pflanzen, Blühende Pflanze, Blütenpflanzen, Gewächshaus, Greenhaus, Gärten, Loc.: CH-ZH-Gossau-RJB, Magnoliophytina, Oerstedella centradenia, Orchidaceae, Orchideen, Pflanze mit Blüte, Pflanzen, Samenpflanzen, Spermatophyta |
Subject Distance | 1.33 m |
Subject Distance Range | Unknown |
Tint | +5 |
Tone Curve | 0, 0, 32, 22, 64, 56, 128, 128, 192, 196, 255, 255 |
Tone Curve Name | Medium Contrast |
Usage Terms | Nur zur Ansicht, keine Vervielfältigung ohne vorherige Genehmigung |
Version | 6.4.1 |
Vibrance | +12 |
Vignette Amount | 0 |
White Balance | Auto |