Shooting information for this photo
| Camera: | RICOH IMAGING COMPANY, LTD. GR II |
| Exposure: | 0.00556 sec. (1/180) |
| Aperture: | f/16.0 |
| Focal Length: | 18.3 mm (35 mm equivalent: 28.0 mm) |
| Flash: | Off, Did not fire |
| Exposure mode: | Aperture-priority AE |
| Max Aperture: | 2.8 |
| Resolution: | 240 x 240 dpi |
| Original Date: | 2019:12:04 10:10:32 |
| Created on: | 2019:12:04 10:10:32 |
| Modified on: | 2019:12:04 14:45:19 |
| Software: | Adobe Lightroom 2.4.1 (Macintosh) |
| Already Applied | True |
| Auto Lateral CA | 0 |
| Blacks 2012 | 0 |
| Blue Hue | 0 |
| Blue Saturation | 0 |
| Brightness Value | 9.8 |
| Camera Profile | Adobe Standard |
| Circle Of Confusion | 0.020 mm |
| Clarity 2012 | +10 |
| Color Noise Reduction | 25 |
| Color Noise Reduction Detail | 50 |
| Color Noise Reduction Smoothness | 50 |
| Color Space | sRGB |
| Color Temperature | 5644 |
| Contrast 2012 | 0 |
| Convert To Grayscale | True |
| Crop Angle | 0 |
| Crop Bottom | 0.905132 |
| Crop Constrain To Warp | 0 |
| Crop Left | 0.15317 |
| Crop Right | 0.997893 |
| Crop Top | 0.060409 |
| Date Created | 2019:12:04 10:10:32 |
| Dehaze | 0 |
| Exposure 2012 | +0.74 |
| Exposure Compensation | +0.3 |
| Exposure Mode | Auto |
| Field Of View | 65.5 deg |
| Focal Length In 35mm Format | 28 mm |
| Format | image/jpeg |
| Grain Amount | 0 |
| Gray Mixer Aqua | 0 |
| Gray Mixer Blue | -20 |
| Gray Mixer Green | +20 |
| Gray Mixer Magenta | 0 |
| Gray Mixer Orange | 0 |
| Gray Mixer Purple | -11 |
| Gray Mixer Red | 0 |
| Gray Mixer Yellow | +10 |
| Green Hue | 0 |
| Green Saturation | 0 |
| Has Crop | True |
| Has Settings | True |
| Highlights 2012 | -30 |
| Hyperfocal Distance | 1.07 m |
| ISO | 200 |
| Image Size | 4163x2757 |
| Lens | GR LENS |
| Lens Info | 18.3mm f/2.8 |
| Lens Make | RICOH IMAGING COMPANY, LTD. |
| Lens Manual Distortion Amount | 0 |
| Lens Model | GR LENS |
| Lens Profile Enable | 0 |
| Lens Profile Setup | LensDefaults |
| Light Source | Fine Weather |
| Light Value | 14.5 |
| Look Amount | 0.800000 |
| Look Cluster | Adobe |
| Look Group | B&W |
| Look Name | B&W 04 |
| Look Parameters Clarity 2012 | +8 |
| Look Parameters Contrast 2012 | +8 |
| Look Parameters Convert To Grayscale | True |
| Look Parameters Look Table | AC0E24EFC658D3BD29B430044AE2FB 7C |
| Look Parameters Process Version | 11.0 |
| Look Parameters Tone Curve PV2012 | 0, 0, 17, 10, 34, 24, 51, 41, 68, 63, 85, 89, 102, 116, 119, 143, 136, 169, 153, 193, 170, 212, 187, 228, 204, 239, 221, 246, 238, 251, 255, 255 |
| Look Parameters Tone Curve PV2012 Blue | 0, 0, 255, 255 |
| Look Parameters Tone Curve PV2012 Green | 0, 0, 255, 255 |
| Look Parameters Tone Curve PV2012 Red | 0, 0, 255, 255 |
| Look Parameters Version | 11.4.1 |
| Look Sort Name | B&W 04 |
| Look Supports Monochrome | false |
| Luminance Smoothing | 0 |
| Metering Mode | Spot |
| Override Look Vignette | False |
| Parametric Darks | 0 |
| Parametric Highlight Split | 75 |
| Parametric Highlights | 0 |
| Parametric Lights | 0 |
| Parametric Midtone Split | 50 |
| Parametric Shadow Split | 25 |
| Parametric Shadows | 0 |
| Perspective Aspect | 0 |
| Perspective Horizontal | 0 |
| Perspective Rotate | 0.0 |
| Perspective Scale | 100 |
| Perspective Upright | 0 |
| Perspective Vertical | 0 |
| Perspective X | 0.00 |
| Perspective Y | 0.00 |
| Post Crop Vignette Amount | 0 |
| Process Version | 11.0 |
| Red Hue | 0 |
| Red Saturation | 0 |
| Scale Factor To 35 mm Equivalent | 1.5 |
| Scene Capture Type | Standard |
| Shadow Tint | 0 |
| Shadows 2012 | +50 |
| Sharpen Detail | 25 |
| Sharpen Edge Masking | 0 |
| Sharpen Radius | +1.0 |
| Sharpness | Normal |
| Split Toning Balance | 0 |
| Split Toning Highlight Hue | 0 |
| Split Toning Highlight Saturation | 0 |
| Split Toning Shadow Hue | 0 |
| Split Toning Shadow Saturation | 0 |
| Texture | 0 |
| Tint | +11 |
| Tone Curve | 0, 0, 255, 255 |
| Tone Curve Blue | 0, 0, 255, 255 |
| Tone Curve Green | 0, 0, 255, 255 |
| Tone Curve Name | Linear |
| Tone Curve Name 2012 | Linear |
| Tone Curve PV2012 | 0, 0, 255, 255 |
| Tone Curve PV2012 Blue | 0, 0, 255, 255 |
| Tone Curve PV2012 Green | 0, 0, 255, 255 |
| Tone Curve PV2012 Red | 0, 0, 255, 255 |
| Tone Curve Red | 0, 0, 255, 255 |
| Tone Map Strength | 0 |
| Version | 11.4.1 |
| Vignette Amount | 0 |
| White Balance | Manual |
| Whites 2012 | 0 |
X