Shooting information for this photo
Camera: | PENTAX K-5 II s |
Exposure: | 0.004 sec. (1/250) |
Aperture: | f/5.6 |
Focal Length: | 35.0 mm (35 mm equivalent: 52.0 mm) |
Flash: | Off, Did not fire |
Exposure mode: | Program AE |
Resolution: | 240 x 240 dpi |
Original Date: | 2017:06:01 11:10:22 |
Created on: | 2017:06:01 11:10:22 |
Modified on: | 2017:06:01 20:35:17 |
Software: | Adobe Photoshop Lightroom 6.7 (Macintosh) |
Already Applied | True |
Approximate Focus Distance | 0.71 |
Auto Lateral CA | 0 |
Auto White Version | 134348800 |
Blacks 2012 | -23 |
Blue Hue | 0 |
Blue Saturation | 0 |
CFA Pattern | [Blue,Green][Green,Red] |
Camera Profile | Adobe Standard |
Circle Of Confusion | 0.020 mm |
Clarity 2012 | +21 |
Color Noise Reduction | 25 |
Color Noise Reduction Detail | 50 |
Color Noise Reduction Smoothness | 50 |
Color Space | sRGB |
Color Temperature | 4811 |
Contrast | Normal |
Contrast 2012 | +17 |
Convert To Grayscale | True |
Crop Angle | -1.666 |
Crop Bottom | 0.937319 |
Crop Constrain To Warp | 0 |
Crop Left | 0.015628 |
Crop Right | 0.93182 |
Crop Top | 0.077915 |
Custom Rendered | Normal |
Date Created | 2017:06:01 11:10:22 |
Dehaze | 0 |
Exposure 2012 | 0.00 |
Exposure Compensation | +0.3 |
Exposure Mode | Manual |
Field Of View | 38.2 deg |
Focal Length In 35mm Format | 52 mm |
Format | image/jpeg |
Grain Amount | 0 |
Gray Mixer Aqua | -18 |
Gray Mixer Blue | +9 |
Gray Mixer Green | -26 |
Gray Mixer Magenta | +4 |
Gray Mixer Orange | -18 |
Gray Mixer Purple | +15 |
Gray Mixer Red | -9 |
Gray Mixer Yellow | -22 |
Green Hue | 0 |
Green Saturation | 0 |
Has Crop | True |
Has Settings | True |
Highlights 2012 | 0 |
Hyperfocal Distance | 10.82 m |
ISO | 400 |
Image Size | 4431x2935 |
Lens | smc PENTAX-DA 35mm F2.4 AL |
Lens ID | smc PENTAX-DA 35mm F2.4 AL |
Lens Info | 35mm f/2.4 |
Lens Manual Distortion Amount | 0 |
Lens Model | smc PENTAX-DA 35mm F2.4 AL |
Lens Profile Enable | 0 |
Lens Profile Setup | LensDefaults |
Light Value | 10.9 |
Luminance Smoothing | 0 |
Metering Mode | Multi-segment |
Parametric Darks | 0 |
Parametric Highlight Split | 75 |
Parametric Highlights | 0 |
Parametric Lights | 0 |
Parametric Midtone Split | 50 |
Parametric Shadow Split | 25 |
Parametric Shadows | 0 |
Perspective Aspect | 0 |
Perspective Horizontal | 0 |
Perspective Rotate | 0.0 |
Perspective Scale | 100 |
Perspective Upright | 0 |
Perspective Vertical | 0 |
Perspective X | 0.00 |
Perspective Y | 0.00 |
Post Crop Vignette Amount | 0 |
Process Version | 6.7 |
Red Hue | 0 |
Red Saturation | 0 |
Saturation | Normal |
Scale Factor To 35 mm Equivalent | 1.5 |
Scene Capture Type | Standard |
Sensing Method | One-chip color area |
Shadow Tint | 0 |
Shadows 2012 | 0 |
Sharpen Detail | 25 |
Sharpen Edge Masking | 0 |
Sharpen Radius | +1.0 |
Sharpness | Normal |
Split Toning Balance | 0 |
Split Toning Highlight Hue | 0 |
Split Toning Highlight Saturation | 0 |
Split Toning Shadow Hue | 0 |
Split Toning Shadow Saturation | 0 |
Subject Distance Range | Macro |
Tint | +14 |
Tone Curve | 0, 0, 255, 255 |
Tone Curve Blue | 0, 0, 255, 255 |
Tone Curve Green | 0, 0, 255, 255 |
Tone Curve Name | Linear |
Tone Curve Name 2012 | Linear |
Tone Curve PV2012 | 0, 0, 255, 255 |
Tone Curve PV2012 Blue | 0, 0, 255, 255 |
Tone Curve PV2012 Green | 0, 0, 255, 255 |
Tone Curve PV2012 Red | 0, 0, 255, 255 |
Tone Curve Red | 0, 0, 255, 255 |
Tone Map Strength | 0 |
Version | 9.7 |
Vignette Amount | 0 |
White Balance | Manual |
Whites 2012 | +47 |