Shooting information for this photo
Camera: | NIKON CORPORATION NIKON D2Xs |
Exposure: | 0.125 sec. (1/8) |
Aperture: | f/4.5 |
Focal Length: | 22.0 mm (35 mm equivalent: 33.0 mm) |
Flash: | No Flash |
Exposure mode: | Aperture-priority AE |
Max Aperture: | 4.0 |
Resolution: | 1000 x 1000 dpi |
Original Date: | 2012:08:28 10:54:22.45 |
Created on: | 2012:08:28 10:54:22.45 |
Modified on: | 2020:01:27 08:20:45 |
Software: | Adobe Photoshop Lightroom 6.10 (Macintosh) |
Already Applied | True |
Approximate Focus Distance | 3.35 |
Auto Lateral CA | 0 |
Auto White Version | 134348800 |
Blacks 2012 | +28 |
Blue Hue | 0 |
Blue Saturation | -15 |
Camera Profile | Adobe Standard |
Circle Of Confusion | 0.020 mm |
Clarity 2012 | -21 |
Color Noise Reduction | 25 |
Color Noise Reduction Detail | 50 |
Color Noise Reduction Smoothness | 50 |
Color Space | sRGB |
Contrast | High |
Contrast 2012 | +75 |
Convert To Grayscale | False |
Crop Angle | -2.55322 |
Crop Bottom | 0.976113 |
Crop Constrain To Warp | 1 |
Crop Left | 0.089604 |
Crop Right | 0.946702 |
Crop Top | 0.24686 |
Custom Rendered | Normal |
Date Created | 2012:08:28 10:54:22.45 |
Defringe Green Amount | 0 |
Defringe Green Hue Hi | 60 |
Defringe Green Hue Lo | 40 |
Defringe Purple Amount | 0 |
Defringe Purple Hue Hi | 70 |
Defringe Purple Hue Lo | 30 |
Dehaze | 0 |
Digital Zoom Ratio | 1 |
Distortion Correction Already Applied | True |
Exposure 2012 | +0.50 |
Exposure Compensation | -1/3 |
Exposure Mode | Auto |
Field Of View | 57.2 deg |
Focal Length In 35mm Format | 33 mm |
Format | image/jpeg |
Gradient Based Corr Active | True |
Gradient Based Corr Amount | 1.000000 |
Gradient Based Corr Brightness | 0.000000 |
Gradient Based Corr Clarity 2012 | -0.645675 |
Gradient Based Corr Contrast 2012 | -1.000000 |
Gradient Based Corr Defringe | 0.000000 |
Gradient Based Corr Exposure 2012 | 0.245332 |
Gradient Based Corr Highlights 2012 | -1.000000 |
Gradient Based Corr Hue | 186.003998 |
Gradient Based Corr Local Blacks 2012 | 0.000000 |
Gradient Based Corr Local Dehaze | 0.000000 |
Gradient Based Corr Local Whites 2012 | 0.000000 |
Gradient Based Corr Luminance Noise | 0.000000 |
Gradient Based Corr Mask Full X | 0.116286 |
Gradient Based Corr Mask Full Y | 0.629551 |
Gradient Based Corr Mask Value | 1.000000 |
Gradient Based Corr Mask What | Mask/Gradient |
Gradient Based Corr Mask Zero X | 0.733086 |
Gradient Based Corr Mask Zero Y | 0.617171 |
Gradient Based Corr Moire | 0.000000 |
Gradient Based Corr Saturation | 0.235039 |
Gradient Based Corr Shadows 2012 | 0.359470 |
Gradient Based Corr Sharpness | 0.000000 |
Gradient Based Corr Temperature | -0.537252 |
Gradient Based Corr Tint | 0.129002 |
Gradient Based Corr What | Correction |
Grain Amount | 20 |
Grain Frequency | 50 |
Grain Size | 25 |
Green Hue | 0 |
Green Saturation | 0 |
Has Crop | True |
Has Settings | True |
Hierarchical Subject | Lacock, Lacock Abbey, broom, brush, cleaning, cleaning lady, cloisters, portrait, work, working |
Highlights 2012 | 0 |
Hue Adjustment Aqua | 0 |
Hue Adjustment Blue | 0 |
Hue Adjustment Green | -100 |
Hue Adjustment Magenta | 0 |
Hue Adjustment Orange | 0 |
Hue Adjustment Purple | 0 |
Hue Adjustment Red | 0 |
Hue Adjustment Yellow | 0 |
Hyperfocal Distance | 5.37 m |
ISO | 100 |
Image Number | 48011 |
Image Size | 2134x3000 |
Incremental Temperature | 0 |
Incremental Tint | 0 |
Lens | 15.0-31.0 mm f/3.5-4.5 |
Lens ID | Sigma 15-30mm F3.5-4.5 EX DG Aspherical DF or Sigma 15mm F2.8 EX Diagonal Fisheye |
Lens Info | 15-31mm f/3.5-4.5 |
Lens Manual Distortion Amount | -12 |
Lens Model | 15.0-31.0 mm f/3.5-4.5 |
Lens Profile Enable | 0 |
Lens Profile Setup | LensDefaults |
Light Source | Unknown |
Light Value | 7.3 |
Luminance Adjustment Aqua | 0 |
Luminance Adjustment Blue | 0 |
Luminance Adjustment Green | +70 |
Luminance Adjustment Magenta | 0 |
Luminance Adjustment Orange | 0 |
Luminance Adjustment Purple | 0 |
Luminance Adjustment Red | +30 |
Luminance Adjustment Yellow | +23 |
Luminance Smoothing | 0 |
Metering Mode | Center-weighted average |
Parametric Darks | 0 |
Parametric Highlight Split | 75 |
Parametric Highlights | 0 |
Parametric Lights | 0 |
Parametric Midtone Split | 50 |
Parametric Shadow Split | 25 |
Parametric Shadows | 0 |
Perspective Aspect | 0 |
Perspective Horizontal | 0 |
Perspective Rotate | 0.0 |
Perspective Scale | 100 |
Perspective Upright | 0 |
Perspective Vertical | +5 |
Perspective X | 0.00 |
Perspective Y | 0.00 |
Post Crop Vignette Amount | 0 |
Process Version | 6.7 |
Red Hue | 0 |
Red Saturation | 0 |
Saturation | Normal |
Saturation Adjustment Aqua | -24 |
Saturation Adjustment Blue | -55 |
Saturation Adjustment Green | -100 |
Saturation Adjustment Magenta | -18 |
Saturation Adjustment Orange | -19 |
Saturation Adjustment Purple | -17 |
Saturation Adjustment Red | -8 |
Saturation Adjustment Yellow | -14 |
Scale Factor To 35 mm Equivalent | 1.5 |
Scene Capture Type | Standard |
Scene Type | Directly photographed |
Sensing Method | One-chip color area |
Shadow Tint | 0 |
Shadows 2012 | 0 |
Sharpen Detail | 42 |
Sharpen Edge Masking | 47 |
Sharpen Radius | +1.0 |
Sharpness | Hard |
Split Toning Balance | 0 |
Split Toning Highlight Hue | 0 |
Split Toning Highlight Saturation | 0 |
Split Toning Shadow Hue | 0 |
Split Toning Shadow Saturation | 0 |
Subject | Lacock, Lacock Abbey, broom, brush, cleaning, cleaning lady, cloisters, portrait, work, working |
Subject Distance Range | Unknown |
Tone Curve | 0, 0, 255, 255 |
Tone Curve Blue | 0, 0, 255, 255 |
Tone Curve Green | 0, 0, 255, 255 |
Tone Curve Name | Linear |
Tone Curve Name 2012 | Custom |
Tone Curve PV2012 | 0, 0, 68, 64, 189, 209, 255, 255 |
Tone Curve PV2012 Blue | 0, 0, 64, 56, 190, 204, 255, 255 |
Tone Curve PV2012 Green | 0, 0, 67, 64, 192, 204, 255, 255 |
Tone Curve PV2012 Red | 0, 0, 65, 62, 194, 206, 255, 255 |
Tone Curve Red | 0, 0, 255, 255 |
Tone Map Strength | 0 |
Version | 9.10 |
Vibrance | +58 |
Vignette Amount | 0 |
White Balance | Auto |
Whites 2012 | -5 |