Shooting information for this photo
Camera: | NIKON CORPORATION NIKON D40 |
Exposure: | 0.008 sec. (1/125) |
Aperture: | f/5.6 |
Focal Length: | 50.0 mm (35 mm equivalent: 75.0 mm) |
Flash: | No Flash |
Exposure mode: | Aperture-priority AE |
Max Aperture: | 4.4 |
Resolution: | 1000 x 1000 dpi |
Original Date: | 2019:11:05 15:13:45.30 |
Created on: | 2019:11:05 15:13:45.30 |
Modified on: | 2019:11:06 07:23:55 |
Software: | Adobe Photoshop Lightroom 6.10 (Macintosh) |
Already Applied | True |
Approximate Focus Distance | 4294967295 |
Auto Lateral CA | 0 |
Auto White Version | 134348800 |
Blacks 2012 | 0 |
Blue Hue | 0 |
Blue Saturation | 0 |
CFA Pattern | [Blue,Green][Green,Red] |
Camera Profile | Adobe Standard |
Circle Of Confusion | 0.020 mm |
Clarity 2012 | 0 |
Color Noise Reduction | 25 |
Color Noise Reduction Detail | 50 |
Color Noise Reduction Smoothness | 50 |
Color Space | sRGB |
Color Temperature | 5200 |
Contrast | Normal |
Contrast 2012 | 0 |
Convert To Grayscale | False |
Crop Angle | 0.654785 |
Crop Bottom | 0.766156 |
Crop Constrain To Warp | 1 |
Crop Left | 0.241131 |
Crop Right | 0.986648 |
Crop Top | 0 |
Custom Rendered | Normal |
Date Created | 2019:11:05 15:13:45.30 |
Defringe Green Amount | 0 |
Defringe Green Hue Hi | 60 |
Defringe Green Hue Lo | 40 |
Defringe Purple Amount | 0 |
Defringe Purple Hue Hi | 70 |
Defringe Purple Hue Lo | 30 |
Dehaze | 0 |
Digital Zoom Ratio | 1 |
Distortion Correction Already Applied | True |
Exposure 2012 | 0.00 |
Exposure Compensation | -2/3 |
Exposure Mode | Auto |
Field Of View | 27.0 deg |
Focal Length In 35mm Format | 75 mm |
Format | image/jpeg |
Gain Control | Low gain up |
Grain Amount | 0 |
Green Hue | 0 |
Green Saturation | 0 |
Has Crop | True |
Has Settings | True |
Hierarchical Subject | AF-S Nikkor 18-70mm f/3.5-4.5, Cirencester, Nikkor AF-S DX 18-70mm f/3.5-4.5 G ED, Nikon D40, The Fleece |
Highlights 2012 | -56 |
Hue Adjustment Aqua | 0 |
Hue Adjustment Blue | 0 |
Hue Adjustment Green | 0 |
Hue Adjustment Magenta | 0 |
Hue Adjustment Orange | 0 |
Hue Adjustment Purple | 0 |
Hue Adjustment Red | 0 |
Hue Adjustment Yellow | 0 |
Hyperfocal Distance | 22.29 m |
ISO | 400 |
Image Number | 1999 |
Image Size | 3000x2000 |
Lens | 18.0-70.0 mm f/3.5-4.5 |
Lens ID | AF-S DX Zoom-Nikkor 18-70mm f/3.5-4.5G IF-ED |
Lens Info | 18-70mm f/3.5-4.5 |
Lens Manual Distortion Amount | -29 |
Lens Model | 18.0-70.0 mm f/3.5-4.5 |
Lens Profile Chromatic Aberration Scale | 100 |
Lens Profile Distortion Scale | 100 |
Lens Profile Enable | 1 |
Lens Profile Filename | NIKON D300S (Nikon AF-S DX Zoom-Nikkor 18-70mm f3.5-4.5G IF-ED) - RAW.lcp |
Lens Profile Name | Adobe (Nikon AF-S DX Zoom-Nikkor 18-70mm f/3.5-4.5G IF-ED) |
Lens Profile Setup | LensDefaults |
Lens Profile Vignetting Scale | 100 |
Light Source | Unknown |
Light Value | 9.9 |
Luminance Adjustment Aqua | 0 |
Luminance Adjustment Blue | +26 |
Luminance Adjustment Green | 0 |
Luminance Adjustment Magenta | 0 |
Luminance Adjustment Orange | 0 |
Luminance Adjustment Purple | 0 |
Luminance Adjustment Red | +4 |
Luminance Adjustment Yellow | 0 |
Luminance Smoothing | 0 |
Metering Mode | Multi-segment |
Parametric Darks | 0 |
Parametric Highlight Split | 75 |
Parametric Highlights | 0 |
Parametric Lights | +24 |
Parametric Midtone Split | 50 |
Parametric Shadow Split | 25 |
Parametric Shadows | 0 |
Perspective Aspect | 0 |
Perspective Horizontal | 0 |
Perspective Rotate | 0.0 |
Perspective Scale | 100 |
Perspective Upright | 0 |
Perspective Vertical | -23 |
Perspective X | 0.00 |
Perspective Y | 0.00 |
Post Crop Vignette Amount | 0 |
Process Version | 6.7 |
Red Hue | 0 |
Red Saturation | 0 |
Saturation | High |
Saturation Adjustment Aqua | 0 |
Saturation Adjustment Blue | 0 |
Saturation Adjustment Green | 0 |
Saturation Adjustment Magenta | 0 |
Saturation Adjustment Orange | 0 |
Saturation Adjustment Purple | 0 |
Saturation Adjustment Red | 0 |
Saturation Adjustment Yellow | +41 |
Scale Factor To 35 mm Equivalent | 1.5 |
Scene Capture Type | Standard |
Scene Type | Directly photographed |
Sensing Method | One-chip color area |
Shadow Tint | 0 |
Shadows 2012 | +43 |
Sharpen Detail | 25 |
Sharpen Edge Masking | 0 |
Sharpen Radius | +1.0 |
Sharpness | Hard |
Split Toning Balance | 0 |
Split Toning Highlight Hue | 0 |
Split Toning Highlight Saturation | 0 |
Split Toning Shadow Hue | 0 |
Split Toning Shadow Saturation | 0 |
Subject | AF-S Nikkor 18-70mm f/3.5-4.5, Cirencester, Nikkor AF-S DX 18-70mm f/3.5-4.5 G ED, Nikon D40, The Fleece |
Subject Distance Range | Unknown |
Tint | -1 |
Tone Curve | 0, 0, 255, 255 |
Tone Curve Blue | 0, 0, 255, 255 |
Tone Curve Green | 0, 0, 255, 255 |
Tone Curve Name | Linear |
Tone Curve Name 2012 | Linear |
Tone Curve PV2012 | 0, 0, 255, 255 |
Tone Curve PV2012 Blue | 0, 0, 255, 255 |
Tone Curve PV2012 Green | 0, 0, 255, 255 |
Tone Curve PV2012 Red | 0, 0, 255, 255 |
Tone Curve Red | 0, 0, 255, 255 |
Tone Map Strength | 0 |
Version | 9.10 |
Vibrance | 0 |
Vignette Amount | 0 |
Vignette Correction Already Applied | True |
White Balance | Auto |
Whites 2012 | +48 |