Shooting information for this photo
Camera: | NIKON CORPORATION NIKON D300S |
Exposure: | 0.0025 sec. (1/400) |
Aperture: | f/11.0 |
Focal Length: | 24.0 mm (35 mm equivalent: 36.0 mm) |
Flash: | No Flash |
Exposure mode: | Aperture-priority AE |
Max Aperture: | 2.8 |
Resolution: | 1000 x 1000 dpi |
Original Date: | 2019:01:02 11:46:38.33 |
Created on: | 2019:01:02 11:46:38.33 |
Modified on: | 2019:01:02 17:41:08 |
Software: | Adobe Photoshop Lightroom 6.10 (Macintosh) |
Already Applied | True |
Auto Lateral CA | 0 |
Auto White Version | 134348800 |
Blacks 2012 | -52 |
Blue Hue | 0 |
Blue Saturation | 0 |
CFA Pattern | [Red,Green][Green,Blue] |
Camera Profile | Adobe Standard |
Circle Of Confusion | 0.020 mm |
Circular Gradient Based Corrections Correction Active | true |
Circular Gradient Based Corrections Correction Amount | 1.000000 |
Circular Gradient Based Corrections Correction Masks Angle | 0.000000 |
Circular Gradient Based Corrections Correction Masks Bottom | 0.716300 |
Circular Gradient Based Corrections Correction Masks Feather | +50 |
Circular Gradient Based Corrections Correction Masks Flipped | false |
Circular Gradient Based Corrections Correction Masks Left | 0.332222 |
Circular Gradient Based Corrections Correction Masks Mask Value | 1.000000 |
Circular Gradient Based Corrections Correction Masks Midpoint | +50 |
Circular Gradient Based Corrections Correction Masks Right | 0.677962 |
Circular Gradient Based Corrections Correction Masks Roundness | 0 |
Circular Gradient Based Corrections Correction Masks Top | 0.195115 |
Circular Gradient Based Corrections Correction Masks Version | +2 |
Circular Gradient Based Corrections Correction Masks What | Mask/CircularGradient |
Circular Gradient Based Corrections Local Blacks 2012 | 0.000000 |
Circular Gradient Based Corrections Local Brightness | 0.000000 |
Circular Gradient Based Corrections Local Clarity 2012 | 0.112805 |
Circular Gradient Based Corrections Local Contrast 2012 | -0.246189 |
Circular Gradient Based Corrections Local Defringe | 0.698933 |
Circular Gradient Based Corrections Local Dehaze | 0.000000 |
Circular Gradient Based Corrections Local Exposure 2012 | 0.138624 |
Circular Gradient Based Corrections Local Highlights 2012 | -0.196551 |
Circular Gradient Based Corrections Local Luminance Noise | 0.000000 |
Circular Gradient Based Corrections Local Moire | 0.000000 |
Circular Gradient Based Corrections Local Saturation | 0.212367 |
Circular Gradient Based Corrections Local Shadows 2012 | 0.211128 |
Circular Gradient Based Corrections Local Sharpness | 0.441025 |
Circular Gradient Based Corrections Local Temperature | 0.126810 |
Circular Gradient Based Corrections Local Tint | -0.108708 |
Circular Gradient Based Corrections Local Toning Hue | 186.003998 |
Circular Gradient Based Corrections Local Toning Saturation | 0.235039 |
Circular Gradient Based Corrections Local Whites 2012 | 0.000000 |
Circular Gradient Based Corrections What | Correction |
Clarity 2012 | +30 |
Color Noise Reduction | 25 |
Color Noise Reduction Detail | 50 |
Color Noise Reduction Smoothness | 50 |
Color Space | sRGB |
Color Temperature | 5732 |
Contrast | Normal |
Contrast 2012 | 0 |
Convert To Grayscale | False |
Crop Angle | 0 |
Crop Bottom | 0.987815 |
Crop Constrain To Warp | 1 |
Crop Left | 0.096025 |
Crop Right | 0.927053 |
Crop Top | 0.012185 |
Custom Rendered | Normal |
Date Created | 2019:01:02 11:46:38.33 |
Defringe Green Amount | 0 |
Defringe Green Hue Hi | 60 |
Defringe Green Hue Lo | 40 |
Defringe Purple Amount | 0 |
Defringe Purple Hue Hi | 70 |
Defringe Purple Hue Lo | 30 |
Dehaze | 0 |
Digital Zoom Ratio | 1 |
Exposure 2012 | +1.70 |
Exposure Compensation | 0 |
Exposure Mode | Auto |
Field Of View | 53.1 deg |
Focal Length In 35mm Format | 36 mm |
Format | image/jpeg |
Gain Control | Low gain up |
Grain Amount | 0 |
Green Hue | 0 |
Green Saturation | 0 |
Has Crop | True |
Has Settings | True |
Hierarchical Subject | Bath, City of Bath, Kennet and Avon Canal, Nikon D300S, Tamron, Tamron 17-50mm f/2.8, bridge, hole, water |
Highlights 2012 | -27 |
Hue Adjustment Aqua | 0 |
Hue Adjustment Blue | 0 |
Hue Adjustment Green | 0 |
Hue Adjustment Magenta | 0 |
Hue Adjustment Orange | 0 |
Hue Adjustment Purple | 0 |
Hue Adjustment Red | 0 |
Hue Adjustment Yellow | 0 |
Hyperfocal Distance | 2.61 m |
ISO | 400 |
Image Number | 11304 |
Image Size | 3000x2339 |
Lens | TAMRON SP AF 17-50mm F2.8 XR Di II LD Aspherical IF A16N |
Lens Info | 17-50mm f/2.8 |
Lens Manual Distortion Amount | 0 |
Lens Model | TAMRON SP AF 17-50mm F2.8 XR Di II LD Aspherical IF A16N |
Lens Profile Enable | 0 |
Lens Profile Setup | LensDefaults |
Light Source | Unknown |
Light Value | 13.6 |
Luminance Adjustment Aqua | 0 |
Luminance Adjustment Blue | 0 |
Luminance Adjustment Green | 0 |
Luminance Adjustment Magenta | 0 |
Luminance Adjustment Orange | 0 |
Luminance Adjustment Purple | 0 |
Luminance Adjustment Red | 0 |
Luminance Adjustment Yellow | 0 |
Luminance Noise Reduction Contrast | 0 |
Luminance Noise Reduction Detail | 50 |
Luminance Smoothing | 10 |
Metering Mode | Multi-segment |
Parametric Darks | 0 |
Parametric Highlight Split | 75 |
Parametric Highlights | 0 |
Parametric Lights | -36 |
Parametric Midtone Split | 50 |
Parametric Shadow Split | 25 |
Parametric Shadows | 0 |
Perspective Aspect | 0 |
Perspective Horizontal | +5 |
Perspective Rotate | 0.0 |
Perspective Scale | 100 |
Perspective Upright | 0 |
Perspective Vertical | 0 |
Perspective X | 0.00 |
Perspective Y | 0.00 |
Post Crop Vignette Amount | 0 |
Process Version | 6.7 |
Red Hue | 0 |
Red Saturation | 0 |
Saturation | Normal |
Saturation Adjustment Aqua | 0 |
Saturation Adjustment Blue | 0 |
Saturation Adjustment Green | 0 |
Saturation Adjustment Magenta | 0 |
Saturation Adjustment Orange | 0 |
Saturation Adjustment Purple | 0 |
Saturation Adjustment Red | 0 |
Saturation Adjustment Yellow | 0 |
Scale Factor To 35 mm Equivalent | 1.5 |
Scene Capture Type | Standard |
Scene Type | Directly photographed |
Sensing Method | One-chip color area |
Shadow Tint | 0 |
Shadows 2012 | -28 |
Sharpen Detail | 25 |
Sharpen Edge Masking | 0 |
Sharpen Radius | +1.0 |
Sharpness | Normal |
Split Toning Balance | 0 |
Split Toning Highlight Hue | 0 |
Split Toning Highlight Saturation | 0 |
Split Toning Shadow Hue | 0 |
Split Toning Shadow Saturation | 0 |
Subject | Bath, City of Bath, Kennet and Avon Canal, Nikon D300S, Tamron, Tamron 17-50mm f/2.8, bridge, hole, water |
Subject Distance Range | Unknown |
Tint | +7 |
Tone Curve | 0, 0, 255, 255 |
Tone Curve Blue | 0, 0, 255, 255 |
Tone Curve Green | 0, 0, 255, 255 |
Tone Curve Name | Linear |
Tone Curve Name 2012 | Linear |
Tone Curve PV2012 | 0, 0, 255, 255 |
Tone Curve PV2012 Blue | 0, 0, 255, 255 |
Tone Curve PV2012 Green | 0, 0, 255, 255 |
Tone Curve PV2012 Red | 0, 0, 255, 255 |
Tone Curve Red | 0, 0, 255, 255 |
Tone Map Strength | 0 |
Version | 9.10 |
Vibrance | 0 |
Vignette Amount | -100 |
Vignette Midpoint | 0 |
White Balance | Auto |
Whites 2012 | 0 |