Shooting information for this photo
| Camera: | NIKON CORPORATION NIKON D7500 |
| Exposure: | 0.005 sec. (1/200) |
| Aperture: | f/5.6 |
| Focal Length: | 32.0 mm (35 mm equivalent: 48.0 mm) |
| Flash: | Off, Did not fire |
| Exposure mode: | Aperture-priority AE |
| Max Aperture: | 4.0 |
| Resolution: | 72 x 72 dpi |
| Original Date: | 2020:05:10 15:24:43.40 |
| Created on: | 2020:05:10 15:24:43.40 |
| Modified on: | 2020:05:10 19:58:45 |
| Software: | Adobe Photoshop Lightroom Classic 9.2.1 (Windows) |
| Already Applied | True |
| Approximate Focus Distance | 0.67 |
| Auto Lateral CA | 1 |
| Auto White Version | 134348800 |
| Blacks 2012 | -21 |
| Blue Hue | 0 |
| Blue Saturation | 0 |
| CFA Pattern | [Red,Green][Green,Blue] |
| Camera Profile | Adobe Standard |
| Circle Of Confusion | 0.020 mm |
| Circular Gradient Based Corrections Correction Active | true |
| Circular Gradient Based Corrections Correction Amount | 1.000000 |
| Circular Gradient Based Corrections Correction Masks Angle | 0.000000 |
| Circular Gradient Based Corrections Correction Masks Bottom | 0.624751 |
| Circular Gradient Based Corrections Correction Masks Feather | +91 |
| Circular Gradient Based Corrections Correction Masks Flipped | false |
| Circular Gradient Based Corrections Correction Masks Left | 0.329058 |
| Circular Gradient Based Corrections Correction Masks Mask Value | 1.000000 |
| Circular Gradient Based Corrections Correction Masks Midpoint | +50 |
| Circular Gradient Based Corrections Correction Masks Right | 0.513147 |
| Circular Gradient Based Corrections Correction Masks Roundness | 0 |
| Circular Gradient Based Corrections Correction Masks Top | 0.333026 |
| Circular Gradient Based Corrections Correction Masks Version | +2 |
| Circular Gradient Based Corrections Correction Masks What | Mask/CircularGradient |
| Circular Gradient Based Corrections Correction Range Mask Color Amount | 0.500000 |
| Circular Gradient Based Corrections Correction Range Mask Depth Feather | 0.500000 |
| Circular Gradient Based Corrections Correction Range Mask Depth Max | 1.000000 |
| Circular Gradient Based Corrections Correction Range Mask Depth Min | 0.000000 |
| Circular Gradient Based Corrections Correction Range Mask Lum Feather | 0.500000 |
| Circular Gradient Based Corrections Correction Range Mask Lum Max | 1.000000 |
| Circular Gradient Based Corrections Correction Range Mask Lum Min | 0.000000 |
| Circular Gradient Based Corrections Correction Range Mask Type | 0 |
| Circular Gradient Based Corrections Correction Range Mask Version | +2 |
| Circular Gradient Based Corrections Local Blacks 2012 | 0.000000 |
| Circular Gradient Based Corrections Local Brightness | 0.000000 |
| Circular Gradient Based Corrections Local Clarity 2012 | 0.347520 |
| Circular Gradient Based Corrections Local Contrast 2012 | 0.092200 |
| Circular Gradient Based Corrections Local Defringe | 0.000000 |
| Circular Gradient Based Corrections Local Dehaze | 0.000000 |
| Circular Gradient Based Corrections Local Exposure 2012 | -0.439250 |
| Circular Gradient Based Corrections Local Highlights 2012 | 0.000000 |
| Circular Gradient Based Corrections Local Luminance Noise | 0.000000 |
| Circular Gradient Based Corrections Local Moire | 0.000000 |
| Circular Gradient Based Corrections Local Saturation | 0.000000 |
| Circular Gradient Based Corrections Local Shadows 2012 | 0.000000 |
| Circular Gradient Based Corrections Local Sharpness | 0.000000 |
| Circular Gradient Based Corrections Local Temperature | 0.000000 |
| Circular Gradient Based Corrections Local Texture | 0.347520 |
| Circular Gradient Based Corrections Local Tint | 0.000000 |
| Circular Gradient Based Corrections Local Toning Hue | 121.000000 |
| Circular Gradient Based Corrections Local Toning Saturation | 0.000000 |
| Circular Gradient Based Corrections Local Whites 2012 | 0.000000 |
| Circular Gradient Based Corrections What | Correction |
| Clarity 2012 | 0 |
| Color Noise Reduction | 25 |
| Color Noise Reduction Detail | 50 |
| Color Noise Reduction Smoothness | 50 |
| Color Space | sRGB |
| Color Temperature | 5450 |
| Contrast | Normal |
| Contrast 2012 | 0 |
| Convert To Grayscale | False |
| Crop Angle | 0 |
| Crop Bottom | 1 |
| Crop Constrain To Warp | 0 |
| Crop Left | 0.247299 |
| Crop Right | 0.603842 |
| Crop Top | 0.227027 |
| Custom Rendered | Normal |
| Date Created | 2020:05:10 15:24:43.40+01:00 |
| Defringe Green Amount | 0 |
| Defringe Green Hue Hi | 60 |
| Defringe Green Hue Lo | 40 |
| Defringe Purple Amount | 0 |
| Defringe Purple Hue Hi | 70 |
| Defringe Purple Hue Lo | 30 |
| Dehaze | 0 |
| Distortion Correction Already Applied | True |
| Exposure 2012 | 0.00 |
| Exposure Compensation | +2/3 |
| Exposure Mode | Auto |
| Field Of View | 41.1 deg |
| Focal Length In 35mm Format | 48 mm |
| Format | image/jpeg |
| Gain Control | None |
| Grain Amount | 0 |
| Green Hue | 0 |
| Green Saturation | 0 |
| Has Crop | True |
| Has Extended XMP | E23FD56160E6605371756D195A8B69 1C |
| Has Settings | True |
| Highlights 2012 | -100 |
| Hue Adjustment Aqua | 0 |
| Hue Adjustment Blue | 0 |
| Hue Adjustment Green | 0 |
| Hue Adjustment Magenta | 0 |
| Hue Adjustment Orange | 0 |
| Hue Adjustment Purple | 0 |
| Hue Adjustment Red | 0 |
| Hue Adjustment Yellow | 0 |
| Hyperfocal Distance | 9.13 m |
| ISO | 100 |
| Image Number | 1900 |
| Image Size | 2869x1985 |
| Lateral Chromatic Aberration Correction Already Applied | True |
| Lens | 18.0-140.0 mm f/3.5-5.6 |
| Lens ID | AF-S Nikkor 50mm f/1.4G |
| Lens Info | 18-140mm f/3.5-5.6 |
| Lens Manual Distortion Amount | 0 |
| Lens Model | 18.0-140.0 mm f/3.5-5.6 |
| Lens Profile Chromatic Aberration Scale | 100 |
| Lens Profile Distortion Scale | 100 |
| Lens Profile Enable | 1 |
| Lens Profile Filename | NIKON D300 (Nikon AF-S DX NIKKOR 18-140mm f3.5-5.6G ED VR) - RAW.lcp |
| Lens Profile Name | Adobe (Nikon AF-S DX NIKKOR 18-140mm f/3.5-5.6G ED VR) |
| Lens Profile Setup | LensDefaults |
| Lens Profile Vignetting Scale | 100 |
| Light Source | Unknown |
| Light Value | 12.6 |
| Luminance Adjustment Aqua | 0 |
| Luminance Adjustment Blue | 0 |
| Luminance Adjustment Green | 0 |
| Luminance Adjustment Magenta | 0 |
| Luminance Adjustment Orange | 0 |
| Luminance Adjustment Purple | 0 |
| Luminance Adjustment Red | 0 |
| Luminance Adjustment Yellow | 0 |
| Luminance Noise Reduction Contrast | 0 |
| Luminance Noise Reduction Detail | 50 |
| Luminance Smoothing | 5 |
| Metering Mode | Other |
| Override Look Vignette | False |
| Paint Correction Active | true |
| Paint Correction Amount | 1.000000 |
| Paint Correction Brightness | 0.000000 |
| Paint Correction Clarity 2012 | -0.503550 |
| Paint Correction Contrast 2012 | 0.092200 |
| Paint Correction Correction Range Mask Color Amount | 0.500000 |
| Paint Correction Correction Range Mask Depth Feather | 0.500000 |
| Paint Correction Correction Range Mask Depth Max | 1.000000 |
| Paint Correction Correction Range Mask Depth Min | 0.000000 |
| Paint Correction Correction Range Mask Lum Feather | 0.500000 |
| Paint Correction Correction Range Mask Lum Max | 1.000000 |
| Paint Correction Correction Range Mask Lum Min | 0.000000 |
| Paint Correction Correction Range Mask Type | 0 |
| Paint Correction Correction Range Mask Version | +2 |
| Paint Correction Defringe | 0.000000 |
| Paint Correction Exposure 2012 | -0.376000 |
| Paint Correction Highlights 2012 | 0.000000 |
| Paint Correction Hue | 121.000000 |
| Paint Correction Local Blacks 2012 | 0.000000 |
| Paint Correction Local Dehaze | 0.000000 |
| Paint Correction Local Texture | 0.000000 |
| Paint Correction Local Whites 2012 | 0.000000 |
| Paint Correction Luminance Noise | 0.000000 |
| Paint Correction Mask Center Weight | 0.060682 |
| Paint Correction Mask Flow | 0.702000 |
| Paint Correction Mask Radius | 0.031638 |
| Paint Correction Mask Value | 0.612000 |
| Paint Correction Mask What | Mask/Paint |
| Paint Correction Moire | 0.000000 |
| Paint Correction Saturation | 0.000000 |
| Paint Correction Shadows 2012 | 0.000000 |
| Paint Correction Sharpness | -0.645390 |
| Paint Correction Temperature | -0.375890 |
| Paint Correction Tint | 0.000000 |
| Paint Correction What | Correction |
| Parametric Darks | 0 |
| Parametric Highlight Split | 75 |
| Parametric Highlights | 0 |
| Parametric Lights | 0 |
| Parametric Midtone Split | 50 |
| Parametric Shadow Split | 25 |
| Parametric Shadows | 0 |
| Perspective Aspect | 0 |
| Perspective Horizontal | 0 |
| Perspective Rotate | 0.0 |
| Perspective Scale | 100 |
| Perspective Upright | 0 |
| Perspective Vertical | 0 |
| Perspective X | 0.00 |
| Perspective Y | 0.00 |
| Post Crop Vignette Amount | 0 |
| Preserved File Name | DSC_1820.NEF |
| Process Version | 11.0 |
| Raw File Name | 10052020-DSC_1820.NEF |
| Recommended Exposure Index | 100 |
| Red Hue | 0 |
| Red Saturation | 0 |
| Saturation | Normal |
| Saturation Adjustment Aqua | 0 |
| Saturation Adjustment Blue | 0 |
| Saturation Adjustment Green | 0 |
| Saturation Adjustment Magenta | 0 |
| Saturation Adjustment Orange | 0 |
| Saturation Adjustment Purple | 0 |
| Saturation Adjustment Red | 0 |
| Saturation Adjustment Yellow | 0 |
| Scale Factor To 35 mm Equivalent | 1.5 |
| Scene Capture Type | Standard |
| Scene Type | Directly photographed |
| Sensing Method | One-chip color area |
| Sensitivity Type | Recommended Exposure Index |
| Shadow Tint | 0 |
| Shadows 2012 | +100 |
| Sharpen Detail | 25 |
| Sharpen Edge Masking | 49 |
| Sharpen Radius | +1.0 |
| Sharpness | Normal |
| Split Toning Balance | 0 |
| Split Toning Highlight Hue | 0 |
| Split Toning Highlight Saturation | 0 |
| Split Toning Shadow Hue | 0 |
| Split Toning Shadow Saturation | 0 |
| Subject | rose |
| Subject Distance Range | Unknown |
| Texture | +28 |
| Tint | +30 |
| Tone Curve | 0, 0, 255, 255 |
| Tone Curve Blue | 0, 0, 255, 255 |
| Tone Curve Green | 0, 0, 255, 255 |
| Tone Curve Name | Linear |
| Tone Curve Name 2012 | Linear |
| Tone Curve PV2012 | 0, 0, 255, 255 |
| Tone Curve PV2012 Blue | 0, 0, 255, 255 |
| Tone Curve PV2012 Green | 0, 0, 255, 255 |
| Tone Curve PV2012 Red | 0, 0, 255, 255 |
| Tone Curve Red | 0, 0, 255, 255 |
| Tone Map Strength | 0 |
| Version | 12.2.1 |
| Vibrance | +25 |
| Vignette Amount | 0 |
| Vignette Correction Already Applied | True |
| White Balance | Auto |
| Whites 2012 | +33 |
X